From mboxrd@z Thu Jan  1 00:00:00 1970
Return-Path: <test-report-bounces@dpdk.org>
Received: from mails.dpdk.org (mails.dpdk.org [217.70.189.124])
	by inbox.dpdk.org (Postfix) with ESMTP id 2ADDD45D56
	for <public@inbox.dpdk.org>; Tue, 26 Nov 2024 19:41:24 +0100 (CET)
Received: from mails.dpdk.org (localhost [127.0.0.1])
	by mails.dpdk.org (Postfix) with ESMTP id 237EB40B8D;
	Tue, 26 Nov 2024 19:41:24 +0100 (CET)
Received: from mail-yw1-f226.google.com (mail-yw1-f226.google.com
 [209.85.128.226])
 by mails.dpdk.org (Postfix) with ESMTP id DFC3D4026C
 for <test-report@dpdk.org>; Tue, 26 Nov 2024 19:41:22 +0100 (CET)
Received: by mail-yw1-f226.google.com with SMTP id
 00721157ae682-6eeb66727e7so58193767b3.2
 for <test-report@dpdk.org>; Tue, 26 Nov 2024 10:41:22 -0800 (PST)
DKIM-Signature: v=1; a=rsa-sha256; c=relaxed/relaxed;
 d=iol.unh.edu; s=unh-iol; t=1732646482; x=1733251282; darn=dpdk.org;
 h=references:in-reply-to:cc:to:from:subject:message-id:date:from:to
 :cc:subject:date:message-id:reply-to;
 bh=TpSyXru4iblUVKwaKwCFDjTExhtAOsav3UTpgQrS18c=;
 b=NrltW9LGWksAgYJHCEJEdVw4AoAY9PPs6IjnuOOENzIZxxYfubuQNKuMhr4s2B10F+
 EadmjCbLMExy83lnV40IYcMDcZJ7/oxXgscDrlAN43BSdwFrDroBWKnynKlj2t0bh8Ha
 3Dyag92w2TKGplWH5oVraJ5m29pmyINGEAHT0=
X-Google-DKIM-Signature: v=1; a=rsa-sha256; c=relaxed/relaxed;
 d=1e100.net; s=20230601; t=1732646482; x=1733251282;
 h=references:in-reply-to:cc:to:from:subject:message-id:date
 :x-gm-message-state:from:to:cc:subject:date:message-id:reply-to;
 bh=TpSyXru4iblUVKwaKwCFDjTExhtAOsav3UTpgQrS18c=;
 b=Ip3/PtDXFnMGQL4SiEywfv2ZrZSsYKJnMcz6y77XPelvFGai2j1/NmIjfw2tXCgfRd
 K3nCqNRKq2rHCSmz17GETjA4Kd1L1k1htck3FDAH071v+eTT35Aozrtb+jfenB/eAy5w
 5qnfCEDDfGfdfNc/BwnArgjhvy7RlVAxn2lJ78St8wyoGy089sg7FGYvMIUPxrwFufWp
 HhSW9HCXTEIN5vKWe/LWuQ8zqmJbileXtg0ipx1Bee5UW7WAbrbJP9RsHb3Fy8i3dVVi
 PZIqVxV6OfRezo4gIA2A9MmEOODaKkt0k22RtJ4VSEmScxXI3Fdd3P5FI3WKNGPg6QIJ
 VjjA==
X-Gm-Message-State: AOJu0YyWjrw450JdBIJz+lWeiqqCL1MaTIsX3El/4GahSo0ppxuXwGSR
 Rk1V1W4GFwOlQ6lPdWME/zs1FkZBmoPh2HfT0AlSs/vXkVdZ2wgvrhOcc6YmQaB3FfZF9j2REmr
 YhDFtvyKllmbivXCU8A4315jxWYAyvrvJt5eQXKVM
X-Gm-Gg: ASbGncuk8eQd5+yorPS78yumDwme+KZoZYVMikqgtjaTwU1tRKgc/9Z8kvwPhlQbSoa
 akQD8iwWEfwUcFa6Z8y1arlu78G5tAOSQ4FbQtLLOwtNlRQf4l0hrCdIRcTIFJtOWBh1FT2osFR
 uaie4SEVaBTh41mE9IE3xBFlbdW7KQYneoWN/x3TSzh1NNon4aGdoguCdBtDT6udxxeqossa/j6
 xflcWGCOVE1XmuGE4tbZIDrEs3BZ59vian4M3sRgNsT1fAi5xStjdSTG8hDWCff17XbZxs=
X-Google-Smtp-Source: AGHT+IGiL3z3L3E4LY+my6DFMac/G18k0iuV30nYB2mt5qBqAdwRBkXZ2xQsr3NnsdoKJTEVmGehpS1hrvNy
X-Received: by 2002:a05:690c:881:b0:6ea:95f5:2607 with SMTP id
 00721157ae682-6ef371d1b1bmr2830237b3.5.1732646482324; 
 Tue, 26 Nov 2024 10:41:22 -0800 (PST)
Received: from postal.iol.unh.edu (postal.iol.unh.edu. [132.177.123.84])
 by smtp-relay.gmail.com with ESMTPS id
 00721157ae682-6eedfe42de6sm2518957b3.40.2024.11.26.10.41.22
 (version=TLS1_2 cipher=ECDHE-ECDSA-AES128-GCM-SHA256 bits=128/128);
 Tue, 26 Nov 2024 10:41:22 -0800 (PST)
X-Relaying-Domain: iol.unh.edu
Date: Tue, 26 Nov 2024 10:41:22 -0800 (PST)
Message-ID: <67461652.050a0220.12f0e6.08aeSMTPIN_ADDED_MISSING@mx.google.com>
Received: from [172.17.0.3] (unknown [172.18.0.57])
 by postal.iol.unh.edu (Postfix) with ESMTP id EE30B6052471;
 Tue, 26 Nov 2024 13:41:21 -0500 (EST)
Subject: |SUCCESS| pw148864 [PATCH] dts: remove leftover Node methods
From: dpdklab@iol.unh.edu
To: Test Report <test-report@dpdk.org>
Cc: dpdk-test-reports@iol.unh.edu
In-Reply-To: <20241126150929.2843601-1-luca.vizzarro@arm.com>
References: <20241126150929.2843601-1-luca.vizzarro@arm.com>
Content-Type: text/plain
X-BeenThere: test-report@dpdk.org
X-Mailman-Version: 2.1.29
Precedence: list
List-Id: automatic DPDK test reports <test-report.dpdk.org>
List-Unsubscribe: <https://mails.dpdk.org/options/test-report>,
 <mailto:test-report-request@dpdk.org?subject=unsubscribe>
List-Archive: <http://mails.dpdk.org/archives/test-report/>
List-Post: <mailto:test-report@dpdk.org>
List-Help: <mailto:test-report-request@dpdk.org?subject=help>
List-Subscribe: <https://mails.dpdk.org/listinfo/test-report>,
 <mailto:test-report-request@dpdk.org?subject=subscribe>
Errors-To: test-report-bounces@dpdk.org

Test-Label: iol-unit-amd64-testing
Test-Status: SUCCESS
http://dpdk.org/patch/148864

_Testing PASS_

Submitter: Luca Vizzarro <luca.vizzarro@arm.com>
Date: Tuesday, November 26 2024 15:09:29 
DPDK git baseline: Repo:dpdk
  Branch: master
  CommitID:5744e912341ee26a0dd5b9ec28b16b8a4e45d1bc

148864 --> testing pass

Upstream job id: Generic-VM-Unit-Test-DPDK#26407

Test environment and result as below:

+---------------------+----------------+
|     Environment     | dpdk_unit_test |
+=====================+================+
| CentOS Stream 9     | PASS           |
+---------------------+----------------+
| Fedora 39           | PASS           |
+---------------------+----------------+
| RHEL9               | PASS           |
+---------------------+----------------+
| Debian 12           | PASS           |
+---------------------+----------------+
| Fedora 39 (Clang)   | PASS           |
+---------------------+----------------+
| Fedora 40           | PASS           |
+---------------------+----------------+
| RHEL8               | PASS           |
+---------------------+----------------+
| Fedora 40 (Clang)   | PASS           |
+---------------------+----------------+
| Ubuntu 24.04        | PASS           |
+---------------------+----------------+
| Ubuntu 20.04        | PASS           |
+---------------------+----------------+
| Ubuntu 22.04        | PASS           |
+---------------------+----------------+
| Windows Server 2022 | PASS           |
+---------------------+----------------+


CentOS Stream 9
	Kernel: Depends on container host
	Compiler: gcc 11.4.1 20231218 (Red Hat 11.4.1-3)

Fedora 39
	Kernel: Depends on container host
	Compiler: gcc 13.3.1 20240522 (Red Hat 13.3.1-1)

RHEL9
	Kernel: Depends on container host
	Compiler: gcc 11.4.1 20231218 (Red Hat 11.4.1-3)

Debian 12
	Kernel: Depends on container host
	Compiler: gcc (Debian 12.2.0-14) 12.2.0

Fedora 39 (Clang)
	Kernel: Depends on container host
	Compiler: clang 17.0.6 (Fedora 17.0.6-2.fc39)

Fedora 40
	Kernel: Depends on container host
	Compiler: gcc 14.2.1 20240801 (Red Hat 14.2.1-1)

RHEL8
	Kernel: Depends on container host
	Compiler: gcc 8.5.0 20210514 (Red Hat 8.5.0-22)

Fedora 40 (Clang)
	Kernel: Depends on container host
	Compiler: clang 18.1.6 (Fedora 18.1.6-3.fc40)

Ubuntu 24.04
	Kernel: Depends on container host
	Compiler: gcc (Ubuntu 13.2.0-23ubuntu4) 13.2.0

Ubuntu 20.04
	Kernel: Depends on container host
	Compiler: gcc (Ubuntu 9.4.0-1ubuntu1~20.04.2) 9.4.0

Ubuntu 22.04
	Kernel: Depends on container host
	Compiler: gcc (Ubuntu 11.4.0-1ubuntu1~22.04) 11.4.0

Windows Server 2022
	Kernel: 10.0.20348.2031
	Compiler: clang 15.0.7, gcc 14.1.0 (MinGW), and MSVC VS 19.39.33521

To view detailed results, visit:
https://lab.dpdk.org/results/dashboard/patchsets/32024/

UNH-IOL DPDK Community Lab

To manage your email subscriptions, visit: 
https://lab.dpdk.org/results/dashboard/preferences/subscriptions/