From mboxrd@z Thu Jan  1 00:00:00 1970
Return-Path: <test-report-bounces@dpdk.org>
Received: from mails.dpdk.org (mails.dpdk.org [217.70.189.124])
	by inbox.dpdk.org (Postfix) with ESMTP id 957AB45D76
	for <public@inbox.dpdk.org>; Wed, 27 Nov 2024 03:30:17 +0100 (CET)
Received: from mails.dpdk.org (localhost [127.0.0.1])
	by mails.dpdk.org (Postfix) with ESMTP id 65F674027A;
	Wed, 27 Nov 2024 03:30:17 +0100 (CET)
Received: from mail-pg1-f225.google.com (mail-pg1-f225.google.com
 [209.85.215.225])
 by mails.dpdk.org (Postfix) with ESMTP id E27E24026C
 for <test-report@dpdk.org>; Wed, 27 Nov 2024 03:30:15 +0100 (CET)
Received: by mail-pg1-f225.google.com with SMTP id
 41be03b00d2f7-7f8b01bd40dso275898a12.0
 for <test-report@dpdk.org>; Tue, 26 Nov 2024 18:30:15 -0800 (PST)
DKIM-Signature: v=1; a=rsa-sha256; c=relaxed/relaxed;
 d=iol.unh.edu; s=unh-iol; t=1732674615; x=1733279415; darn=dpdk.org;
 h=references:in-reply-to:cc:to:from:subject:message-id:date:from:to
 :cc:subject:date:message-id:reply-to;
 bh=aiMfO11lmvFzZBXe63mRthl6d8gqqO/JQnfVbA+lq8k=;
 b=fpZ4cgJ6rrlLBb/aQCqFw1BV+pSep1k5vxpWKnPuD5+L+GDnPFIi16eAJ5Lz9U4x9N
 ZIuLEcG2k25n3L6fYGBwsouFmZFKnxCD8WpPdq4rl5TV65Iylzh1pL2EftsB+/TbWVpk
 Xq7PmNi8M7uJuom60173vpd2+lG55jYrvwCyk=
X-Google-DKIM-Signature: v=1; a=rsa-sha256; c=relaxed/relaxed;
 d=1e100.net; s=20230601; t=1732674615; x=1733279415;
 h=references:in-reply-to:cc:to:from:subject:message-id:date
 :x-gm-message-state:from:to:cc:subject:date:message-id:reply-to;
 bh=aiMfO11lmvFzZBXe63mRthl6d8gqqO/JQnfVbA+lq8k=;
 b=gFhRzCDQ51TTM+DFdm0ec46exq1DIEW+X14E456EZLnZ5mecPYZxj0CR6p0qEqItYE
 93wwW1OBCLGl+mO136dk4oVyPI/KoclAPtelgW5GEpf1XEl2JX0F5dX6i1Vdg/QdnqbY
 Ai1gAnWnxkim4J3Vjm5epc5oCbFXtBGC94hO/fKIcoy40iQ+g+2uCIz8OxDFPYfAgwFf
 NERthViSxIwa66oSVi9a5VfLmuieDmKrEvTMkJzNBuf1MdLh+DWl6w2v5CY2MMdIQKiL
 N7CbqNxsTjD+tQO7xysk0P7m5NiEZKXPOUy9PqChhCtQe7gG+IcvCw2xrpLZdT/QRrEa
 sdXA==
X-Gm-Message-State: AOJu0YwLjWFSWIok5PFvuVf1mq++03ZPJvqQ/ABaEUJnsFuP7UE6D5TH
 NI8Kb1jYLHKkzu6SQJkp0/hkMjntVP+gS/71AXkpXqcnwMujVsOES+wLApl7rvz9s5eSznqh8Xx
 SlKHVDex4O2GKw7k/T+VcZYa2piBXtQeNGLOthaHvMpDfWdcfxcIhGTz8
X-Gm-Gg: ASbGncvlONuz6pS9EIxbp4pL8RRHFIUMZNEckt9riDSBv433/MrndVzhNipI8GAkK4Y
 a0Z5E8iRbarFwHali7DfAbHmUhttbMZ8J+2r5gT/nRDmfwV7e04w2ZrzPit65NMrcjm8giShOqx
 M3Ij4iHunT3wbvY1wsNvyuWc7QNbEUu85w5fKyQa6nie8sD42ZDtbzCSOEkXJhz21Qxw7NOpUT9
 NQfNZ+U91pOHtrPV4hbf7NDMlOosWTRRZZG6YTmu3Jl5eJmn3Cka/3oDFJ8rS7xkDpdlyQ1jKM=
X-Google-Smtp-Source: AGHT+IF339nz+5h8nHmSc5OjRHob746weuwch9dE7eQCPVjR47J+zpS+kt19VPYm64Fn4Dwq6VuEzT0oFQXD
X-Received: by 2002:a17:90a:1042:b0:2ea:8197:fa92 with SMTP id
 98e67ed59e1d1-2edeb2af3camr8632095a91.0.1732674614825; 
 Tue, 26 Nov 2024 18:30:14 -0800 (PST)
Received: from postal.iol.unh.edu (postal.iol.unh.edu.
 [2606:4100:3880:1234::84]) by smtp-relay.gmail.com with ESMTPS id
 98e67ed59e1d1-2ee0facdac5sm20740a91.12.2024.11.26.18.30.14
 (version=TLS1_2 cipher=ECDHE-ECDSA-AES128-GCM-SHA256 bits=128/128);
 Tue, 26 Nov 2024 18:30:14 -0800 (PST)
X-Relaying-Domain: iol.unh.edu
Date: Tue, 26 Nov 2024 18:30:14 -0800 (PST)
Message-ID: <67468436.170a0220.269f5.1d58SMTPIN_ADDED_MISSING@mx.google.com>
Received: from [172.21.0.5] (unknown [172.18.0.240])
 by postal.iol.unh.edu (Postfix) with ESMTP id EFA666052471;
 Tue, 26 Nov 2024 21:30:13 -0500 (EST)
Subject: |SUCCESS| pw148869-148895 [PATCH] [v6,30/30] lib/eal: remove __rte_p
From: dpdklab@iol.unh.edu
To: Test Report <test-report@dpdk.org>
Cc: dpdk-test-reports@iol.unh.edu
In-Reply-To: <1732668761-5556-31-git-send-email-andremue@linux.microsoft.com>
References: <1732668761-5556-31-git-send-email-andremue@linux.microsoft.com>
Content-Type: text/plain
X-BeenThere: test-report@dpdk.org
X-Mailman-Version: 2.1.29
Precedence: list
List-Id: automatic DPDK test reports <test-report.dpdk.org>
List-Unsubscribe: <https://mails.dpdk.org/options/test-report>,
 <mailto:test-report-request@dpdk.org?subject=unsubscribe>
List-Archive: <http://mails.dpdk.org/archives/test-report/>
List-Post: <mailto:test-report@dpdk.org>
List-Help: <mailto:test-report-request@dpdk.org?subject=help>
List-Subscribe: <https://mails.dpdk.org/listinfo/test-report>,
 <mailto:test-report-request@dpdk.org?subject=subscribe>
Errors-To: test-report-bounces@dpdk.org

Test-Label: iol-sample-apps-testing
Test-Status: SUCCESS
http://dpdk.org/patch/148895

_Testing PASS_

Submitter: Andre Muezerie <andremue@linux.microsoft.com>
Date: Wednesday, November 27 2024 00:52:41 
DPDK git baseline: Repo:dpdk
  Branch: master
  CommitID:a4f455560f747af8cd7fa99db86e757b7ff2fe79

148869-148895 --> testing pass

Upstream job id: Template-DTS-Pipeline#199384

Test environment and result as below:

+--------------------+----------------------+----------------------+
|    Environment     | dpdk_fips_validation | compressdev_zlib_pmd |
+====================+======================+======================+
| Ubuntu 20.04       | PASS                 | SKIPPED              |
+--------------------+----------------------+----------------------+
| Ubuntu 22.04 (ARM) | SKIPPED              | PASS                 |
+--------------------+----------------------+----------------------+
| Ubuntu 22.04       | SKIPPED              | PASS                 |
+--------------------+----------------------+----------------------+


Ubuntu 20.04
	Kernel: Depends on container host
	Compiler: gcc (Ubuntu 9.4.0-1ubuntu1~20.04.2) 9.4.0

Ubuntu 22.04 (ARM)
	Kernel: 5.15.0-97-generic
	Compiler: gcc gcc (Ubuntu 11.4.0-1ubuntu1~22.04) 11.4.0

Ubuntu 22.04
	Kernel: 5.15.0-100-generic
	Compiler: gcc gcc (Ubuntu 11.4.0-1ubuntu1~22.04) 11.4.0

To view detailed results, visit:
https://lab.dpdk.org/results/dashboard/patchsets/32028/

UNH-IOL DPDK Community Lab

To manage your email subscriptions, visit: 
https://lab.dpdk.org/results/dashboard/preferences/subscriptions/