From mboxrd@z Thu Jan  1 00:00:00 1970
Return-Path: <test-report-bounces@dpdk.org>
Received: from mails.dpdk.org (mails.dpdk.org [217.70.189.124])
	by inbox.dpdk.org (Postfix) with ESMTP id E2C1245DAF
	for <public@inbox.dpdk.org>; Wed, 27 Nov 2024 05:54:02 +0100 (CET)
Received: from mails.dpdk.org (localhost [127.0.0.1])
	by mails.dpdk.org (Postfix) with ESMTP id BD0FA4027A;
	Wed, 27 Nov 2024 05:54:02 +0100 (CET)
Received: from mail-pg1-f228.google.com (mail-pg1-f228.google.com
 [209.85.215.228])
 by mails.dpdk.org (Postfix) with ESMTP id 2D14C4026C
 for <test-report@dpdk.org>; Wed, 27 Nov 2024 05:54:01 +0100 (CET)
Received: by mail-pg1-f228.google.com with SMTP id
 41be03b00d2f7-7fbd70f79f2so4309069a12.2
 for <test-report@dpdk.org>; Tue, 26 Nov 2024 20:54:01 -0800 (PST)
DKIM-Signature: v=1; a=rsa-sha256; c=relaxed/relaxed;
 d=iol.unh.edu; s=unh-iol; t=1732683240; x=1733288040; darn=dpdk.org;
 h=references:in-reply-to:cc:to:from:subject:message-id:date:from:to
 :cc:subject:date:message-id:reply-to;
 bh=v7B/e34rXth4/wFVxwePPHjWCqAynabF92o2y2QWTU8=;
 b=SrH36ZZfTCALk0sqEeREh90ijskv6Sw7/v6b0YeZ8iXSRbrXaI9Flde77sDjuQCfy5
 ogMWUL4l4HZQdCr8X+mJDXOkDoEgjF48nMmVD8uBFbDYvrAXH8Z+R04Am3Y/scfcZWpL
 uG+16sL8gtcZ7nP3qxUn2+a27RfYEXeDTi668=
X-Google-DKIM-Signature: v=1; a=rsa-sha256; c=relaxed/relaxed;
 d=1e100.net; s=20230601; t=1732683240; x=1733288040;
 h=references:in-reply-to:cc:to:from:subject:message-id:date
 :x-gm-message-state:from:to:cc:subject:date:message-id:reply-to;
 bh=v7B/e34rXth4/wFVxwePPHjWCqAynabF92o2y2QWTU8=;
 b=fMgKd87DkaVYYvYFH1gaK+QJ9uykGbViloI0CO1ZoVXtkCHa6hc3hSZbAOF2AY7/0p
 3adNiuVMZ0bJnoeE5w3VEx5u3Axjgpf1SpGh+fKJ1aKw2WAsMsTIl3QIjTg8BbAsiPxB
 Jr69ee4Cg02WzRMDQJXUnAq1tAc7m7xIkFCUR4NTiuu4Ls0Jg7rrmuw1KkBjOuoP8WOd
 z54s0B5lIVLJvE3QSfrziCFEFEw0pvJKXpTXKjTeQtLkbk1XunW9HR1+F7/Nnf6m4i6K
 2+6MlAG/x3A0iw9mVsVMF2x5rAGjHZk+gbwqOrlFT/4hjLktPo2JblqfD1pNhtluqj+o
 /nxQ==
X-Gm-Message-State: AOJu0Ywopt5Op9qFTlW7VW/f8x0+uZQcPSF2icihT8FweGAIW5MWS68r
 L3MRlIl0zu/zkhTmUziE9u7VebHauqUG6aPHOs7yo+bUXcp1KtOOfWMfs2+wAOVVOR6E6eXX6RU
 5O7ACzRrMZdlfYuVJeW5T8/EyUtjI1h3Wra0QMuMSkMn2dmniEDhC1SPv
X-Gm-Gg: ASbGnct0W2Kp3nxXxKR6RyQdR4AHWc6yf6Ij4qflIKfWRfLFvKPEFmO9JGYg4ZVQ3ka
 +0xe7PIuhaq4dC5DLDFeWL36WBQpGEtCdVY1ZZdGn9olw008oW9njIPInXfCbEMIGTbQgqhA2wq
 SPGJtEtcEHYf8NyJDLXGo8V+ZeaTLtnSJVcHwKC8MwRhqhZ5KwlNEeSfPy7SrzVOOxgVBcU5FAr
 xSggbuL79k7+USqs6n3rf2gzCgysB3IUS+GUp1/6lxiBv/J0IphXOhAk2uS2jssgSwlSw4ztOo=
X-Google-Smtp-Source: AGHT+IGE6l6E+gjOuKpKEG4I6p/KH3/kKNCxxK5FaF/musD4y1uB7TnXggrXy+zI6Zg1s7mANao5tjHDJmw7
X-Received: by 2002:a05:6a20:748f:b0:1e0:de01:440f with SMTP id
 adf61e73a8af0-1e0e0b5d215mr3143518637.31.1732683240057; 
 Tue, 26 Nov 2024 20:54:00 -0800 (PST)
Received: from postal.iol.unh.edu (postal.iol.unh.edu.
 [2606:4100:3880:1234::84]) by smtp-relay.gmail.com with ESMTPS id
 d9443c01a7336-2129db4106csm4163505ad.18.2024.11.26.20.53.59
 (version=TLS1_2 cipher=ECDHE-ECDSA-AES128-GCM-SHA256 bits=128/128);
 Tue, 26 Nov 2024 20:54:00 -0800 (PST)
X-Relaying-Domain: iol.unh.edu
Date: Tue, 26 Nov 2024 20:54:00 -0800 (PST)
Message-ID: <6746a5e8.170a0220.d59e1.b238SMTPIN_ADDED_MISSING@mx.google.com>
Received: from [172.17.0.2] (unknown [172.18.0.217])
 by postal.iol.unh.edu (Postfix) with ESMTP id B76C46052471;
 Tue, 26 Nov 2024 23:53:58 -0500 (EST)
Subject: |SUCCESS| pw148898 [PATCH] [v4] vhost/user: clear ring addresses whe
From: dpdklab@iol.unh.edu
To: Test Report <test-report@dpdk.org>
Cc: dpdk-test-reports@iol.unh.edu
In-Reply-To: <20241127020349.3968025-1-zhao305149619@gmail.com>
References: <20241127020349.3968025-1-zhao305149619@gmail.com>
Content-Type: text/plain
X-BeenThere: test-report@dpdk.org
X-Mailman-Version: 2.1.29
Precedence: list
List-Id: automatic DPDK test reports <test-report.dpdk.org>
List-Unsubscribe: <https://mails.dpdk.org/options/test-report>,
 <mailto:test-report-request@dpdk.org?subject=unsubscribe>
List-Archive: <http://mails.dpdk.org/archives/test-report/>
List-Post: <mailto:test-report@dpdk.org>
List-Help: <mailto:test-report-request@dpdk.org?subject=help>
List-Subscribe: <https://mails.dpdk.org/listinfo/test-report>,
 <mailto:test-report-request@dpdk.org?subject=subscribe>
Errors-To: test-report-bounces@dpdk.org

Test-Label: iol-compile-arm64-testing
Test-Status: SUCCESS
http://dpdk.org/patch/148898

_Testing PASS_

Submitter: Jianping Zhao <zhao305149619@gmail.com>
Date: Wednesday, November 27 2024 02:03:49 
DPDK git baseline: Repo:dpdk
  Branch: master
  CommitID:510b460e02594a70d4ce19e2d29df3ade8af36d7

148898 --> testing pass

Upstream job id: Generic-DPDK-Compile-Meson#338443

Test environment and result as below:

+----------------------------------------+--------------------+
|              Environment               | dpdk_meson_compile |
+========================================+====================+
| RHEL9 (ARM)                            | PASS               |
+----------------------------------------+--------------------+
| Debian 12 with MUSDK                   | PASS               |
+----------------------------------------+--------------------+
| Ubuntu 20.04 ARM SVE                   | PASS               |
+----------------------------------------+--------------------+
| Ubuntu 20.04 ARM GCC Cross Compile     | PASS               |
+----------------------------------------+--------------------+
| Fedora 40 (ARM)                        | PASS               |
+----------------------------------------+--------------------+
| Fedora 39 (ARM Clang)                  | PASS               |
+----------------------------------------+--------------------+
| Ubuntu 20.04 aarch32 GCC Cross Compile | PASS               |
+----------------------------------------+--------------------+
| Fedora 39 (ARM)                        | PASS               |
+----------------------------------------+--------------------+
| Fedora 40 (ARM Clang)                  | PASS               |
+----------------------------------------+--------------------+
| Ubuntu 20.04 (ARM)                     | PASS               |
+----------------------------------------+--------------------+
| Ubuntu 22.04 (ARM)                     | PASS               |
+----------------------------------------+--------------------+
| Ubuntu 24.04 (ARM)                     | PASS               |
+----------------------------------------+--------------------+
| Ubuntu 20.04 ARM Clang Cross Compile   | PASS               |
+----------------------------------------+--------------------+
| CentOS Stream 9 (ARM)                  | PASS               |
+----------------------------------------+--------------------+
| Debian 12 (arm)                        | PASS               |
+----------------------------------------+--------------------+


RHEL9 (ARM)
	Kernel: Depends on container host
	Compiler: gcc 11.4.1 20231218 (Red Hat 11.4.1-3)

Debian 12 with MUSDK
	Kernel: Depends on container host
	Compiler: gcc (Debian 12.2.0-14) 12.2.0

Ubuntu 20.04 ARM SVE
	Kernel: Depends on container host
	Compiler: gcc (Ubuntu 10.5.0-1ubuntu1~20.04) 10.5.0

Ubuntu 20.04 ARM GCC Cross Compile
	Kernel: Depends on container host
	Compiler: aarch64-linux-gnu-gcc (Ubuntu 9.4.0-1ubuntu1~20.04.2) 9.4.0

Fedora 40 (ARM)
	Kernel: Depends on container host
	Compiler: gcc 14.2.1 20240801 (Red Hat 14.2.1-1)

Fedora 39 (ARM Clang)
	Kernel: Depends on container host
	Compiler: clang 17.0.6 (Fedora 17.0.6-2.fc39)

Ubuntu 20.04 aarch32 GCC Cross Compile
	Kernel: Depends on container host
	Compiler: gcc 9.4.0

Fedora 39 (ARM)
	Kernel: Depends on container host
	Compiler: gcc 13.3.1 20240522 (Red Hat 13.3.1-1)

Fedora 40 (ARM Clang)
	Kernel: Depends on container host
	Compiler: clang 18.1.6 (Fedora 18.1.6-3.fc40)

Ubuntu 20.04 (ARM)
	Kernel: Depends on container host
	Compiler: gcc (Ubuntu 9.4.0-1ubuntu1~20.04.2) 9.4.0

Ubuntu 22.04 (ARM)
	Kernel: Depends on container host
	Compiler: gcc (Ubuntu 11.4.0-1ubuntu1~22.04) 11.4.0

Ubuntu 24.04 (ARM)
	Kernel: Depends on container host
	Compiler: gcc (Ubuntu 13.2.0-23ubuntu4) 13.2.0

Ubuntu 20.04 ARM Clang Cross Compile
	Kernel: Depends on container host
	Compiler: clang 10.0.0-4ubuntu1

CentOS Stream 9 (ARM)
	Kernel: Depends on container host
	Compiler: gcc 11.4.1 20231218 (Red Hat 11.4.1-3)

Debian 12 (arm)
	Kernel: Depends on container host
	Compiler: gcc (Debian 12.2.0-14) 12.2.0

To view detailed results, visit:
https://lab.dpdk.org/results/dashboard/patchsets/32029/

UNH-IOL DPDK Community Lab

To manage your email subscriptions, visit: 
https://lab.dpdk.org/results/dashboard/preferences/subscriptions/