From mboxrd@z Thu Jan  1 00:00:00 1970
Return-Path: <test-report-bounces@dpdk.org>
Received: from mails.dpdk.org (mails.dpdk.org [217.70.189.124])
	by inbox.dpdk.org (Postfix) with ESMTP id DD21645DB3
	for <public@inbox.dpdk.org>; Wed, 27 Nov 2024 09:20:24 +0100 (CET)
Received: from mails.dpdk.org (localhost [127.0.0.1])
	by mails.dpdk.org (Postfix) with ESMTP id D89584021E;
	Wed, 27 Nov 2024 09:20:24 +0100 (CET)
Received: from mail-pj1-f98.google.com (mail-pj1-f98.google.com
 [209.85.216.98]) by mails.dpdk.org (Postfix) with ESMTP id 99C3C400D6
 for <test-report@dpdk.org>; Wed, 27 Nov 2024 09:20:23 +0100 (CET)
Received: by mail-pj1-f98.google.com with SMTP id
 98e67ed59e1d1-2ea499f264fso424056a91.1
 for <test-report@dpdk.org>; Wed, 27 Nov 2024 00:20:23 -0800 (PST)
DKIM-Signature: v=1; a=rsa-sha256; c=relaxed/relaxed;
 d=iol.unh.edu; s=unh-iol; t=1732695623; x=1733300423; darn=dpdk.org;
 h=cc:to:from:subject:message-id:date:from:to:cc:subject:date
 :message-id:reply-to;
 bh=CUJ0/vVVSiydcvcFEHjM2OD9b0YzsFbUPaB6CwH6Odo=;
 b=gr/h10lKws/h/ye2C/a+z9DtKCptubWlvCqel8p5DwTHMWiZe2M6ylasbVFBmDYssn
 o3S4TWqnuwk22dQzvfFFE2ydhfdtIFk88RiZUacSSJ3JZjhTSSMFQcw/qlM2AJPFvWXg
 supD7ICcnCwOx2MLlZHzm02OidHqbtevo05zc=
X-Google-DKIM-Signature: v=1; a=rsa-sha256; c=relaxed/relaxed;
 d=1e100.net; s=20230601; t=1732695623; x=1733300423;
 h=cc:to:from:subject:message-id:date:x-gm-message-state:from:to:cc
 :subject:date:message-id:reply-to;
 bh=CUJ0/vVVSiydcvcFEHjM2OD9b0YzsFbUPaB6CwH6Odo=;
 b=G/dZPDSpw39/A0oMgi+LMROTGFS1MLoaxtVF5nAU98RL5+Z/BE/MmU/DxsJH7l9t2A
 tSr2Lrboq0LMSyVvwbKZ6VJQpv21L4HsTb0HeFW+Sc28f/tcjkPwClUBbqOvcm1x1kXx
 QqGH4YC5zgha1Ryf8r68/2MrjWiYs24kO6gxZXaMUpjvnZTFMeksvR7B+mWFBSMhyA8I
 6E4w23LC3npzKifPCBrguc7WMQcZZI8fzw32+A4OcJtVJF4SmXjHMuTGj3goB+p/+xrm
 5F84mv3UhTwfsvxew35Y5byqzk2lv8eWYKz5d5hb/hd5zKy0qwtF5pFkdDEfb1RnxAMC
 OWKA==
X-Gm-Message-State: AOJu0Yz0rlYnOOWUkxmnHJkJsoUFVkQttKsdtfKWJxNrGR5DE0MHfW66
 8xH6fOQncXINjVpUuIsYe4f+LTjHZKXNOMUfTJo7n2QN21zK00BQo8z7m+VUug/E+CSRKAwnO1j
 4ZA+leNywG6jlhQUNBbEv+h8vpSwQykq0
X-Gm-Gg: ASbGncv7cjOIW0w5xjx7uuC54vlDAocAmPmcjVQcbj1m6PV/hzMa1IBtNq0nPH99NRu
 4P93lTbwKjMeG8msPa9T3NBZER4PXemeaKDRUrElekS+Fu0pk9v32SaxaG+aNS8bqCg1NEOPsJU
 P8F9qfKgXjscCLLtmHy6+lQT0by9A5kw+vW6701My9Z7e5S8pira9IrsNrO6S2LEU5uevo9fAJr
 Bi7lp4K2Ai3KXet0W/H4R3gGO377yhNOFgl1A+eMMt1XnRJnDRn3GAoOqBICGN4a9t3Hpk=
X-Google-Smtp-Source: AGHT+IFEB6iD3ZSHCFjdoPhKJ49aW0DigQ9dhijEnt0CEPpJRQzoV9ACZ/0etb3E0B39Ch3KyA/rtiyxeUJI
X-Received: by 2002:a17:90b:1d0b:b0:2e9:20d8:414c with SMTP id
 98e67ed59e1d1-2edeb7b6c8fmr9242440a91.5.1732695622783; 
 Wed, 27 Nov 2024 00:20:22 -0800 (PST)
Received: from postal.iol.unh.edu (postal.iol.unh.edu. [132.177.123.84])
 by smtp-relay.gmail.com with ESMTPS id
 98e67ed59e1d1-2ee0fa3763bsm51728a91.2.2024.11.27.00.20.22
 (version=TLS1_2 cipher=ECDHE-ECDSA-AES128-GCM-SHA256 bits=128/128);
 Wed, 27 Nov 2024 00:20:22 -0800 (PST)
X-Relaying-Domain: iol.unh.edu
Date: Wed, 27 Nov 2024 00:20:22 -0800 (PST)
Message-ID: <6746d646.170a0220.29ebfe.38c6SMTPIN_ADDED_MISSING@mx.google.com>
Received: from [172.21.0.7] (unknown [172.18.0.240])
 by postal.iol.unh.edu (Postfix) with ESMTP id D0AD16052471;
 Wed, 27 Nov 2024 03:20:21 -0500 (EST)
Subject: |SUCCESS| [GIT MASTER] e8eb14e00d56027bef8569d68cf00e39670edca2
From: dpdklab@iol.unh.edu
To: Test Report <test-report@dpdk.org>
Cc: dpdk-test-reports@iol.unh.edu, Xueming Li <xuemingl@nvidia.com>,
 Christian Ehrhardt <christian.ehrhardt@canonical.com>,
 Kevin Traynor <ktraynor@redhat.com>, Luca Boccassi <bluca@debian.org>
Content-Type: text/plain
X-BeenThere: test-report@dpdk.org
X-Mailman-Version: 2.1.29
Precedence: list
List-Id: automatic DPDK test reports <test-report.dpdk.org>
List-Unsubscribe: <https://mails.dpdk.org/options/test-report>,
 <mailto:test-report-request@dpdk.org?subject=unsubscribe>
List-Archive: <http://mails.dpdk.org/archives/test-report/>
List-Post: <mailto:test-report@dpdk.org>
List-Help: <mailto:test-report-request@dpdk.org?subject=help>
List-Subscribe: <https://mails.dpdk.org/listinfo/test-report>,
 <mailto:test-report-request@dpdk.org?subject=subscribe>
Errors-To: test-report-bounces@dpdk.org

_Testing PASS_

Branch: tags/v23.11

e8eb14e00d56027bef8569d68cf00e39670edca2 --> testing pass

Upstream job id: Generic-DPDK-Compile-Meson#338506

Test environment and result as below:

+---------------------+--------------------+------------------+-------------------+-------------------+-----------------------+----------------------+
|     Environment     | dpdk_meson_compile | dpdk_compile_ovs | dpdk_compile_spdk | dpdk_msvc_compile | dpdk_win_llvm_compile | dpdk_mingw64_compile |
+=====================+====================+==================+===================+===================+=======================+======================+
| Debian 12           | PASS               | PASS             | PASS              | SKIPPED           | SKIPPED               | SKIPPED              |
+---------------------+--------------------+------------------+-------------------+-------------------+-----------------------+----------------------+
| Fedora 39 (Clang)   | PASS               | PASS             | PASS              | SKIPPED           | SKIPPED               | SKIPPED              |
+---------------------+--------------------+------------------+-------------------+-------------------+-----------------------+----------------------+
| Fedora 39           | PASS               | PASS             | PASS              | SKIPPED           | SKIPPED               | SKIPPED              |
+---------------------+--------------------+------------------+-------------------+-------------------+-----------------------+----------------------+
| Fedora 40 (Clang)   | PASS               | PASS             | PASS              | SKIPPED           | SKIPPED               | SKIPPED              |
+---------------------+--------------------+------------------+-------------------+-------------------+-----------------------+----------------------+
| Fedora 40           | PASS               | PASS             | PASS              | SKIPPED           | SKIPPED               | SKIPPED              |
+---------------------+--------------------+------------------+-------------------+-------------------+-----------------------+----------------------+
| openSUSE Leap 15    | PASS               | PASS             | SKIPPED           | SKIPPED           | SKIPPED               | SKIPPED              |
+---------------------+--------------------+------------------+-------------------+-------------------+-----------------------+----------------------+
| RHEL8               | PASS               | PASS             | SKIPPED           | SKIPPED           | SKIPPED               | SKIPPED              |
+---------------------+--------------------+------------------+-------------------+-------------------+-----------------------+----------------------+
| RHEL9               | PASS               | PASS             | SKIPPED           | SKIPPED           | SKIPPED               | SKIPPED              |
+---------------------+--------------------+------------------+-------------------+-------------------+-----------------------+----------------------+
| Ubuntu 20.04        | PASS               | PASS             | SKIPPED           | SKIPPED           | SKIPPED               | SKIPPED              |
+---------------------+--------------------+------------------+-------------------+-------------------+-----------------------+----------------------+
| Ubuntu 22.04        | PASS               | PASS             | PASS              | SKIPPED           | SKIPPED               | SKIPPED              |
+---------------------+--------------------+------------------+-------------------+-------------------+-----------------------+----------------------+
| Ubuntu 24.04        | PASS               | PASS             | PASS              | SKIPPED           | SKIPPED               | SKIPPED              |
+---------------------+--------------------+------------------+-------------------+-------------------+-----------------------+----------------------+
| Alpine              | PASS               | PASS             | SKIPPED           | SKIPPED           | SKIPPED               | SKIPPED              |
+---------------------+--------------------+------------------+-------------------+-------------------+-----------------------+----------------------+
| FreeBSD 13.4        | PASS               | SKIPPED          | SKIPPED           | SKIPPED           | SKIPPED               | SKIPPED              |
+---------------------+--------------------+------------------+-------------------+-------------------+-----------------------+----------------------+
| FreeBSD 14.1        | PASS               | SKIPPED          | SKIPPED           | SKIPPED           | SKIPPED               | SKIPPED              |
+---------------------+--------------------+------------------+-------------------+-------------------+-----------------------+----------------------+
| CentOS Stream 9     | PASS               | PASS             | PASS              | SKIPPED           | SKIPPED               | SKIPPED              |
+---------------------+--------------------+------------------+-------------------+-------------------+-----------------------+----------------------+
| Windows Server 2022 | SKIPPED            | SKIPPED          | SKIPPED           | PASS              | PASS                  | PASS                 |
+---------------------+--------------------+------------------+-------------------+-------------------+-----------------------+----------------------+


Debian 12
	Kernel: Depends on container host
	Compiler: gcc (Debian 12.2.0-14) 12.2.0

Fedora 39 (Clang)
	Kernel: Depends on container host
	Compiler: clang 17.0.6 (Fedora 17.0.6-2.fc39)

Fedora 39
	Kernel: Depends on container host
	Compiler: gcc 13.3.1 20240522 (Red Hat 13.3.1-1)

Fedora 40 (Clang)
	Kernel: Depends on container host
	Compiler: clang 18.1.6 (Fedora 18.1.6-3.fc40)

Fedora 40
	Kernel: Depends on container host
	Compiler: gcc 14.2.1 20240801 (Red Hat 14.2.1-1)

openSUSE Leap 15
	Kernel: Depends on container host
	Compiler: gcc (SUSE Linux) 7.5.0

RHEL8
	Kernel: Depends on container host
	Compiler: gcc 8.5.0 20210514 (Red Hat 8.5.0-22)

RHEL9
	Kernel: Depends on container host
	Compiler: gcc 11.4.1 20231218 (Red Hat 11.4.1-3)

Ubuntu 20.04
	Kernel: Depends on container host
	Compiler: gcc (Ubuntu 9.4.0-1ubuntu1~20.04.2) 9.4.0

Ubuntu 22.04
	Kernel: Depends on container host
	Compiler: gcc (Ubuntu 11.4.0-1ubuntu1~22.04) 11.4.0

Ubuntu 24.04
	Kernel: Depends on container host
	Compiler: gcc (Ubuntu 13.2.0-23ubuntu4) 13.2.0

Alpine
	Kernel: Depends on container host
	Compiler: gcc (Alpine 13.2.1_git20240309) 13.2.1 20240309

FreeBSD 13.4
	Kernel: 13.4-RELEASE-p1
	Compiler: clang 18.1.6

FreeBSD 14.1
	Kernel: 14.1-RELEASE-p3
	Compiler: clang 18.1.5

CentOS Stream 9
	Kernel: Depends on container host
	Compiler: gcc 11.4.1 20231218 (Red Hat 11.4.1-3)

Windows Server 2022
	Kernel: 10.0.20348.2031
	Compiler: clang 15.0.7, gcc 14.1.0 (MinGW), and MSVC VS 19.39.33521

To view detailed results, visit:
https://lab.dpdk.org/results/dashboard/tarballs/31744/

UNH-IOL DPDK Community Lab

To manage your email subscriptions, visit: 
https://lab.dpdk.org/results/dashboard/preferences/subscriptions/