From mboxrd@z Thu Jan  1 00:00:00 1970
Return-Path: <test-report-bounces@dpdk.org>
Received: from mails.dpdk.org (mails.dpdk.org [217.70.189.124])
	by inbox.dpdk.org (Postfix) with ESMTP id 96AE345DB5
	for <public@inbox.dpdk.org>; Wed, 27 Nov 2024 10:38:47 +0100 (CET)
Received: from mails.dpdk.org (localhost [127.0.0.1])
	by mails.dpdk.org (Postfix) with ESMTP id 715C04021E;
	Wed, 27 Nov 2024 10:38:47 +0100 (CET)
Received: from mail-oo1-f97.google.com (mail-oo1-f97.google.com
 [209.85.161.97]) by mails.dpdk.org (Postfix) with ESMTP id E25E6400D6
 for <test-report@dpdk.org>; Wed, 27 Nov 2024 10:38:46 +0100 (CET)
Received: by mail-oo1-f97.google.com with SMTP id
 006d021491bc7-5f1e573f35bso1237327eaf.2
 for <test-report@dpdk.org>; Wed, 27 Nov 2024 01:38:46 -0800 (PST)
DKIM-Signature: v=1; a=rsa-sha256; c=relaxed/relaxed;
 d=iol.unh.edu; s=unh-iol; t=1732700326; x=1733305126; darn=dpdk.org;
 h=references:in-reply-to:cc:to:from:subject:message-id:date:from:to
 :cc:subject:date:message-id:reply-to;
 bh=9Toqfw0tAm9LLrW1f0NNwvGvbJe3zRZ1ZP1bs3rNWKU=;
 b=A+lbrllZI8RZ7CdsyF9vOqjHM+oVfJ1omSqh9N60dBdeiwkcPLwQiMMbx0Kdly7y9p
 e1pJSRhQlvHomypJ/GMjws4DgdmzSNuFhJwX1XY56kn9LKaj+JSEHPu4ChyU0brtJdXz
 Wb7InaJ0DrjXP8ageGSJs1dQEhk9vC+D+LZWI=
X-Google-DKIM-Signature: v=1; a=rsa-sha256; c=relaxed/relaxed;
 d=1e100.net; s=20230601; t=1732700326; x=1733305126;
 h=references:in-reply-to:cc:to:from:subject:message-id:date
 :x-gm-message-state:from:to:cc:subject:date:message-id:reply-to;
 bh=9Toqfw0tAm9LLrW1f0NNwvGvbJe3zRZ1ZP1bs3rNWKU=;
 b=D0uz2n+kGiANsP7hEheq61mWCHOm+bRltQnRlUknHVeiSeZP7CRqhGXmK08rQVoLvn
 XB15Zov+Wpm0NU9Edm2DOxJcfph6EeeYF2ot4j34BwLS6Ooobls+jC2z6sN763y6uMK7
 bnm81HuOpPj7Kxmz77qWjofDiOQz6Z9OCo2IDjVpC+2gfiGGFWp+6szJtg92jjZpfGMj
 MIoMOZOtefd2P/GzxdfM0F+oJpoxyY2sWx7qUSDA6uRXKT956+7L8BXe6O+2bDR5ElaB
 lXXHkTRWrV31tfBdGWJ8xZaTtOV4x3k5/zaSzy6XDH0DREktqK4Uch6/682DECkMXqM8
 cDLQ==
X-Gm-Message-State: AOJu0YxPdF7CAqDmmKnK4sy84FMYRhNCqt7A0EvfukqqSVy70ypSs+Dm
 lOdGsjKI81Raa9Yp0Sfv2b3rbzjyRyeWUBQH9qO4kuuHrP5B5fFQAP5gO51JGiYsdsQCsy6cf63
 T38sPWMVJ7X26ShihuauFnhdMhF2lyKHYHJwUO3mi5P2DbkHF8cFinmkh
X-Gm-Gg: ASbGncvr2dBUXyarxiVT21a31xig3fOGqFJgTt18n65HAlRHadf8rzua2wyjhiUP5af
 qQXCScHAKdB3b4nIEC80N6OaBKv0SITQzs4SXGPtwTdHdqXWquGZTBUOfpNHrxyc5jP1D2X8Umf
 egyJSGyoL/qDf8UUHQuHm0bTwFkmv8YZujSDfFs5PlixtA31OIENjXuVyGa3QxcSAJRF4zRu6z8
 fhftaljZ2DdUUagK1s4YzZErAt/M+l5JP2J01IDmRtklCUZCiFUguKe7dXPeoG8XYC+3hTvC78=
X-Google-Smtp-Source: AGHT+IH/ZTN1dv4RwupkW/k6EVlS5tFubkpOpICRNDdqv79ztqVCu08yGtPtLwdw+6iz/DKzrQl9Su9KRYh9
X-Received: by 2002:a4a:ee0f:0:b0:5eb:d1ac:21e5 with SMTP id
 006d021491bc7-5f209fc7947mr2092764eaf.0.1732700325796; 
 Wed, 27 Nov 2024 01:38:45 -0800 (PST)
Received: from postal.iol.unh.edu (postal.iol.unh.edu.
 [2606:4100:3880:1234::84]) by smtp-relay.gmail.com with ESMTPS id
 006d021491bc7-5f1f863e409sm188090eaf.13.2024.11.27.01.38.45
 (version=TLS1_2 cipher=ECDHE-ECDSA-AES128-GCM-SHA256 bits=128/128);
 Wed, 27 Nov 2024 01:38:45 -0800 (PST)
X-Relaying-Domain: iol.unh.edu
Date: Wed, 27 Nov 2024 01:38:45 -0800 (PST)
Message-ID: <6746e8a5.4a0a0220.3116b7.cbf4SMTPIN_ADDED_MISSING@mx.google.com>
Received: from [172.17.0.2] (unknown [172.18.0.217])
 by postal.iol.unh.edu (Postfix) with ESMTP id 449806052471;
 Wed, 27 Nov 2024 04:38:45 -0500 (EST)
Subject: |SUCCESS| pw148900 [PATCH] examples/ptpclient: revert add frequency 
From: dpdklab@iol.unh.edu
To: Test Report <test-report@dpdk.org>
Cc: dpdk-test-reports@iol.unh.edu
In-Reply-To: <20241127072722.2938758-1-mingjinx.ye@intel.com>
References: <20241127072722.2938758-1-mingjinx.ye@intel.com>
Content-Type: text/plain
X-BeenThere: test-report@dpdk.org
X-Mailman-Version: 2.1.29
Precedence: list
List-Id: automatic DPDK test reports <test-report.dpdk.org>
List-Unsubscribe: <https://mails.dpdk.org/options/test-report>,
 <mailto:test-report-request@dpdk.org?subject=unsubscribe>
List-Archive: <http://mails.dpdk.org/archives/test-report/>
List-Post: <mailto:test-report@dpdk.org>
List-Help: <mailto:test-report-request@dpdk.org?subject=help>
List-Subscribe: <https://mails.dpdk.org/listinfo/test-report>,
 <mailto:test-report-request@dpdk.org?subject=subscribe>
Errors-To: test-report-bounces@dpdk.org

Test-Label: iol-unit-arm64-testing
Test-Status: SUCCESS
http://dpdk.org/patch/148900

_Testing PASS_

Submitter: Mingjin Ye <mingjinx.ye@intel.com>
Date: Wednesday, November 27 2024 07:27:21 
DPDK git baseline: Repo:dpdk
  Branch: master
  CommitID:a4f455560f747af8cd7fa99db86e757b7ff2fe79

148900 --> testing pass

Upstream job id: Generic-Unit-Test-DPDK#295480

Test environment and result as below:

+-----------------------------+--------------+----------------+---------------------------+------------------------------+
|         Environment         | lpm_autotest | dpdk_unit_test | cryptodev_sw_zuc_autotest | cryptodev_sw_snow3g_autotest |
+=============================+==============+================+===========================+==============================+
| Ubuntu 20.04 ARM SVE        | PASS         | SKIPPED        | SKIPPED                   | SKIPPED                      |
+-----------------------------+--------------+----------------+---------------------------+------------------------------+
| CentOS Stream 9 (ARM)       | SKIPPED      | PASS           | SKIPPED                   | SKIPPED                      |
+-----------------------------+--------------+----------------+---------------------------+------------------------------+
| Fedora 39 (ARM Clang)       | SKIPPED      | PASS           | SKIPPED                   | SKIPPED                      |
+-----------------------------+--------------+----------------+---------------------------+------------------------------+
| Fedora 39 (ARM)             | SKIPPED      | PASS           | SKIPPED                   | SKIPPED                      |
+-----------------------------+--------------+----------------+---------------------------+------------------------------+
| Debian 12 (arm)             | SKIPPED      | PASS           | PASS                      | PASS                         |
+-----------------------------+--------------+----------------+---------------------------+------------------------------+
| Fedora 40 (ARM Clang)       | SKIPPED      | PASS           | SKIPPED                   | SKIPPED                      |
+-----------------------------+--------------+----------------+---------------------------+------------------------------+
| Ubuntu 20.04 (ARM)          | SKIPPED      | PASS           | SKIPPED                   | SKIPPED                      |
+-----------------------------+--------------+----------------+---------------------------+------------------------------+
| Fedora 40 (ARM)             | SKIPPED      | PASS           | SKIPPED                   | SKIPPED                      |
+-----------------------------+--------------+----------------+---------------------------+------------------------------+
| RHEL9 (ARM)                 | SKIPPED      | PASS           | SKIPPED                   | SKIPPED                      |
+-----------------------------+--------------+----------------+---------------------------+------------------------------+
| Ubuntu 22.04 (ARM)          | SKIPPED      | PASS           | SKIPPED                   | SKIPPED                      |
+-----------------------------+--------------+----------------+---------------------------+------------------------------+
| Ubuntu 24.04 (ARM)          | SKIPPED      | PASS           | SKIPPED                   | SKIPPED                      |
+-----------------------------+--------------+----------------+---------------------------+------------------------------+
| 32-bit Ubuntu 22.04.4 (ARM) | SKIPPED      | PASS           | SKIPPED                   | SKIPPED                      |
+-----------------------------+--------------+----------------+---------------------------+------------------------------+


Ubuntu 20.04 ARM SVE
	Kernel: Depends on container host
	Compiler: gcc (Ubuntu 10.5.0-1ubuntu1~20.04) 10.5.0

CentOS Stream 9 (ARM)
	Kernel: Depends on container host
	Compiler: gcc 11.4.1 20231218 (Red Hat 11.4.1-3)

Fedora 39 (ARM Clang)
	Kernel: Depends on container host
	Compiler: clang 17.0.6 (Fedora 17.0.6-2.fc39)

Fedora 39 (ARM)
	Kernel: Depends on container host
	Compiler: gcc 13.3.1 20240522 (Red Hat 13.3.1-1)

Debian 12 (arm)
	Kernel: Depends on container host
	Compiler: gcc (Debian 12.2.0-14) 12.2.0

Fedora 40 (ARM Clang)
	Kernel: Depends on container host
	Compiler: clang 18.1.6 (Fedora 18.1.6-3.fc40)

Ubuntu 20.04 (ARM)
	Kernel: Depends on container host
	Compiler: gcc (Ubuntu 9.4.0-1ubuntu1~20.04.2) 9.4.0

Fedora 40 (ARM)
	Kernel: Depends on container host
	Compiler: gcc 14.2.1 20240801 (Red Hat 14.2.1-1)

RHEL9 (ARM)
	Kernel: Depends on container host
	Compiler: gcc 11.4.1 20231218 (Red Hat 11.4.1-3)

Ubuntu 22.04 (ARM)
	Kernel: Depends on container host
	Compiler: gcc (Ubuntu 11.4.0-1ubuntu1~22.04) 11.4.0

Ubuntu 24.04 (ARM)
	Kernel: Depends on container host
	Compiler: gcc (Ubuntu 13.2.0-23ubuntu4) 13.2.0

32-bit Ubuntu 22.04.4 (ARM)
	Kernel: 5.15.83+ aarch64
	Compiler: gcc (Ubuntu 11.4.0-1ubuntu1~22.04) 11.4.0

To view detailed results, visit:
https://lab.dpdk.org/results/dashboard/patchsets/32031/

UNH-IOL DPDK Community Lab

To manage your email subscriptions, visit: 
https://lab.dpdk.org/results/dashboard/preferences/subscriptions/