From mboxrd@z Thu Jan  1 00:00:00 1970
Return-Path: <test-report-bounces@dpdk.org>
Received: from mails.dpdk.org (mails.dpdk.org [217.70.189.124])
	by inbox.dpdk.org (Postfix) with ESMTP id 2C87545DB5
	for <public@inbox.dpdk.org>; Wed, 27 Nov 2024 11:19:15 +0100 (CET)
Received: from mails.dpdk.org (localhost [127.0.0.1])
	by mails.dpdk.org (Postfix) with ESMTP id 2942A4021E;
	Wed, 27 Nov 2024 11:19:15 +0100 (CET)
Received: from mail-qv1-f98.google.com (mail-qv1-f98.google.com
 [209.85.219.98]) by mails.dpdk.org (Postfix) with ESMTP id 36242400D6
 for <test-report@dpdk.org>; Wed, 27 Nov 2024 11:19:13 +0100 (CET)
Received: by mail-qv1-f98.google.com with SMTP id
 6a1803df08f44-6d43b396c9bso47062336d6.0
 for <test-report@dpdk.org>; Wed, 27 Nov 2024 02:19:13 -0800 (PST)
DKIM-Signature: v=1; a=rsa-sha256; c=relaxed/relaxed;
 d=iol.unh.edu; s=unh-iol; t=1732702752; x=1733307552; darn=dpdk.org;
 h=references:in-reply-to:cc:to:from:subject:message-id:date:from:to
 :cc:subject:date:message-id:reply-to;
 bh=WYYDeDCbz147BGraOKTLn3Ex4E7SuWFrEziNARaMWB0=;
 b=NlFCsXv3Pa43UlfpqMbQ5STVr7UMyizPYg93FVdoXqhpiYM2rN2aJmqcFeoOdXSuZi
 pdncVIavZ7SVty9ro9itMlpV9WMyx5Xq2cQmYDawPtZx/WD5WE+YmS4zWyXCOmk0BMfv
 G2I/Guw8jfuABo507pGr5WqBNb3losmi9FlXE=
X-Google-DKIM-Signature: v=1; a=rsa-sha256; c=relaxed/relaxed;
 d=1e100.net; s=20230601; t=1732702752; x=1733307552;
 h=references:in-reply-to:cc:to:from:subject:message-id:date
 :x-gm-message-state:from:to:cc:subject:date:message-id:reply-to;
 bh=WYYDeDCbz147BGraOKTLn3Ex4E7SuWFrEziNARaMWB0=;
 b=Mg/tEpfDwVVjlo/64D1fGiVguh4CsZrxQzTAu0vDbvZPTIQwD9J5BAr638EDJ3p+uR
 wGv/wIm6I6g6qN9rYWf9nJt8ec345frfGyBl/ATUODbt85paXG7+CLNo9HpBH2gjkmwd
 1u0ELLnGrFWVh/fDEY6bZTq8w8Plmtbgx01vbhAh8a2m5NCoEGvJJrsz9ZWhpeAajKQf
 Y06ENbF5twtYTIJFEcFEmb2uNuaN47Fgw0SQgF0xqFcgYQDBEYsZrfEzC7NECw2EcEqn
 LEgFZ1+KSWkQUJhwNJLQUGszk4ZuijK3jKM8ftJYCLy3rhTNKOGUP4Le9H3Idxem8OW5
 3eaA==
X-Gm-Message-State: AOJu0YwHwKyI6dJ8qXVvXJ+U/yct7L5plG/zvWHIy8E4mgW5p7sXsGSY
 sjgWqYZonXtk+HRYrxs1FK+eUP4Lh0xmZclPkWf9Unali+M16kAj1fHyO+ixrtcNNMBSZhveaCh
 31z8SuTw0N73qk3HUpo8dJWUCyGypT2BzKqLnDw+v
X-Gm-Gg: ASbGncswfO46Dlz6NUwDfAgZyfT575bdGAFI3ffUEXzf+Z3XzlOR16J/Q01WXaf7SEO
 WiSsl+JmqVs6Zz5rQf0v8KLEk25cJFqFmqLlFglW5J/Brr9pYj1J6Zs1pFFlaUZOwrz2rskEEhu
 HB+s4Z8KzH4Wmr3pBqG4XYHtSQPdQtppR242DdPut78cZ8E5iWfmWfUtVD1r1cHsJtRVnqs+2j0
 yblDDnRB77xwcyItwd5UQqBnDtwzoA2BV32ZISz4vPtpNiU84EZN3yU0XgX/p1NkdhtwhU=
X-Google-Smtp-Source: AGHT+IGhr4uAiBqGdgh+eMeeiN0UU5mvcXwgiQPWeKrO5zHiNMyjGtozaUgu1B2CiLdt0ESvjkBaUPAyd5Ps
X-Received: by 2002:ad4:5bc4:0:b0:6d3:f956:e2f with SMTP id
 6a1803df08f44-6d864d06cc5mr29948486d6.2.1732702752608; 
 Wed, 27 Nov 2024 02:19:12 -0800 (PST)
Received: from postal.iol.unh.edu (postal.iol.unh.edu. [132.177.123.84])
 by smtp-relay.gmail.com with ESMTPS id
 6a1803df08f44-6d451a97c70sm6035916d6.16.2024.11.27.02.19.12
 (version=TLS1_2 cipher=ECDHE-ECDSA-AES128-GCM-SHA256 bits=128/128);
 Wed, 27 Nov 2024 02:19:12 -0800 (PST)
X-Relaying-Domain: iol.unh.edu
Date: Wed, 27 Nov 2024 02:19:12 -0800 (PST)
Message-ID: <6746f220.d40a0220.307c33.8dc1SMTPIN_ADDED_MISSING@mx.google.com>
Received: from [172.17.0.2] (unknown [172.18.0.217])
 by postal.iol.unh.edu (Postfix) with ESMTP id 540A66052471;
 Wed, 27 Nov 2024 05:19:12 -0500 (EST)
Subject: |SUCCESS| pw148902 [PATCH] [v3,1/1] usertools/devbind: allow changin
From: dpdklab@iol.unh.edu
To: Test Report <test-report@dpdk.org>
Cc: dpdk-test-reports@iol.unh.edu
In-Reply-To: <251f3e1bf71c3e873427708d566f677ecd50615c.1732698829.git.anatoly.burakov@intel.com>
References: <251f3e1bf71c3e873427708d566f677ecd50615c.1732698829.git.anatoly.burakov@intel.com>
Content-Type: text/plain
X-BeenThere: test-report@dpdk.org
X-Mailman-Version: 2.1.29
Precedence: list
List-Id: automatic DPDK test reports <test-report.dpdk.org>
List-Unsubscribe: <https://mails.dpdk.org/options/test-report>,
 <mailto:test-report-request@dpdk.org?subject=unsubscribe>
List-Archive: <http://mails.dpdk.org/archives/test-report/>
List-Post: <mailto:test-report@dpdk.org>
List-Help: <mailto:test-report-request@dpdk.org?subject=help>
List-Subscribe: <https://mails.dpdk.org/listinfo/test-report>,
 <mailto:test-report-request@dpdk.org?subject=subscribe>
Errors-To: test-report-bounces@dpdk.org

Test-Label: iol-unit-amd64-testing
Test-Status: SUCCESS
http://dpdk.org/patch/148902

_Testing PASS_

Submitter: Anatoly Burakov <anatoly.burakov@intel.com>
Date: Wednesday, November 27 2024 09:13:59 
DPDK git baseline: Repo:dpdk
  Branch: master
  CommitID:a4f455560f747af8cd7fa99db86e757b7ff2fe79

148902 --> testing pass

Upstream job id: Generic-Unit-Test-DPDK#295516

Test environment and result as below:

+-------------------+----------------+
|    Environment    | dpdk_unit_test |
+===================+================+
| CentOS Stream 9   | PASS           |
+-------------------+----------------+
| Debian 12         | PASS           |
+-------------------+----------------+
| Fedora 39 (Clang) | PASS           |
+-------------------+----------------+
| Fedora 39         | PASS           |
+-------------------+----------------+
| Fedora 40         | PASS           |
+-------------------+----------------+
| Fedora 40 (Clang) | PASS           |
+-------------------+----------------+
| RHEL9             | PASS           |
+-------------------+----------------+
| RHEL8             | PASS           |
+-------------------+----------------+
| Ubuntu 20.04      | PASS           |
+-------------------+----------------+
| Ubuntu 24.04      | PASS           |
+-------------------+----------------+
| Ubuntu 22.04      | PASS           |
+-------------------+----------------+


CentOS Stream 9
	Kernel: Depends on container host
	Compiler: gcc 11.4.1 20231218 (Red Hat 11.4.1-3)

Debian 12
	Kernel: Depends on container host
	Compiler: gcc (Debian 12.2.0-14) 12.2.0

Fedora 39 (Clang)
	Kernel: Depends on container host
	Compiler: clang 17.0.6 (Fedora 17.0.6-2.fc39)

Fedora 39
	Kernel: Depends on container host
	Compiler: gcc 13.3.1 20240522 (Red Hat 13.3.1-1)

Fedora 40
	Kernel: Depends on container host
	Compiler: gcc 14.2.1 20240801 (Red Hat 14.2.1-1)

Fedora 40 (Clang)
	Kernel: Depends on container host
	Compiler: clang 18.1.6 (Fedora 18.1.6-3.fc40)

RHEL9
	Kernel: Depends on container host
	Compiler: gcc 11.4.1 20231218 (Red Hat 11.4.1-3)

RHEL8
	Kernel: Depends on container host
	Compiler: gcc 8.5.0 20210514 (Red Hat 8.5.0-22)

Ubuntu 20.04
	Kernel: Depends on container host
	Compiler: gcc (Ubuntu 9.4.0-1ubuntu1~20.04.2) 9.4.0

Ubuntu 24.04
	Kernel: Depends on container host
	Compiler: gcc (Ubuntu 13.2.0-23ubuntu4) 13.2.0

Ubuntu 22.04
	Kernel: Depends on container host
	Compiler: gcc (Ubuntu 11.4.0-1ubuntu1~22.04) 11.4.0

To view detailed results, visit:
https://lab.dpdk.org/results/dashboard/patchsets/32033/

UNH-IOL DPDK Community Lab

To manage your email subscriptions, visit: 
https://lab.dpdk.org/results/dashboard/preferences/subscriptions/