From mboxrd@z Thu Jan  1 00:00:00 1970
Return-Path: <test-report-bounces@dpdk.org>
Received: from mails.dpdk.org (mails.dpdk.org [217.70.189.124])
	by inbox.dpdk.org (Postfix) with ESMTP id 65BA145DB7
	for <public@inbox.dpdk.org>; Wed, 27 Nov 2024 15:01:37 +0100 (CET)
Received: from mails.dpdk.org (localhost [127.0.0.1])
	by mails.dpdk.org (Postfix) with ESMTP id 492D8402AB;
	Wed, 27 Nov 2024 15:01:37 +0100 (CET)
Received: from mail-pl1-f228.google.com (mail-pl1-f228.google.com
 [209.85.214.228])
 by mails.dpdk.org (Postfix) with ESMTP id 6D4414025D
 for <test-report@dpdk.org>; Wed, 27 Nov 2024 15:01:35 +0100 (CET)
Received: by mail-pl1-f228.google.com with SMTP id
 d9443c01a7336-212008b0d6eso55182015ad.3
 for <test-report@dpdk.org>; Wed, 27 Nov 2024 06:01:35 -0800 (PST)
DKIM-Signature: v=1; a=rsa-sha256; c=relaxed/relaxed;
 d=iol.unh.edu; s=unh-iol; t=1732716094; x=1733320894; darn=dpdk.org;
 h=references:in-reply-to:cc:to:from:subject:message-id:date:from:to
 :cc:subject:date:message-id:reply-to;
 bh=4gUfEyErumUPJdA2BqqTrNak20qoHtiTATyr4bhw99U=;
 b=j0oBGHIrwA0MPTVAEgJy1V3fKjOetckdisT/FEyzAQLtbwAGY7zypXu77lbQe4IMMe
 Mdyyymian4CUbgChZM6wMSPckrpJ7TU6B8CwZGW9twNV9o9ODyeP1fRXcYhDGGNfbIbJ
 A9z2QgOgXoHUbFE5fswBXoIg7CasnEbzvEBw4=
X-Google-DKIM-Signature: v=1; a=rsa-sha256; c=relaxed/relaxed;
 d=1e100.net; s=20230601; t=1732716094; x=1733320894;
 h=references:in-reply-to:cc:to:from:subject:message-id:date
 :x-gm-message-state:from:to:cc:subject:date:message-id:reply-to;
 bh=4gUfEyErumUPJdA2BqqTrNak20qoHtiTATyr4bhw99U=;
 b=B0MXJNU9C57P5t89OcMc7YV598iEkRf8gzhiJ2sSK5lmBDRMD5ifzQf/RiUoQTYRGg
 yLdjLp7Zi14TTJgirpf7XGxse+cdkDiZrYH32zM11u6Nte9hOnQrc9sljmsEC4vKmseJ
 MqDqeGB0l7fQFIbjEKkv9NAFqp++nggZnzSsZ281WSQOgIbUHhjSLcKxPaOXz2uFd/rk
 BJLISDtGvvPXr5newWTTdR5K7gpIT5yeX+cpclyMhFYMg2lvpr3lbLWgKYJN20CZSiA8
 rvjzz7OFNqXSdM2eJAOHNMsicc4HhRwe5I9q4OtcDvlqZu2hLZFLXHPeQuwstxKUIKVs
 Zqow==
X-Gm-Message-State: AOJu0YxR8sZcVlErVEc6AU2gxZdiiFTzQDXM67pQ7jB7YLFGTYaTDdk/
 eMCzuehrc9VcTU/cBw95TFLqKHkKCOgKS6UT9EuumhrnJ9waGxUcViyu/06G3F7L4Epa2sLYJGU
 1OCxWsQpkPkYt+Ch+1A5IfvPtjKHI/aMEJPPZIb8J
X-Gm-Gg: ASbGncuHAA4GDgYo4YQ7lScACmZcETiL6ESjH690//wuXDTd19u5nIUqBN/1S5D7x/M
 u3DkTMBPnZAq8iBwGv3nvIBA3ysoDRXUqCHkTYKRHP5Q82Xe6ftbEFbCbA5T31+WLfCuBDYm/tm
 RhqrO9dqDRju/v4tWRWTYBgPtnyK7+CO9af1sE1t0ARVsVayQEXs4Pfqkbbm9k+Y2gcyw2eH8T+
 it9TT6+B9fuoaL2J+7pDRH6HU7RePxivKclnXQiHPyYcBfoCV+Nh8GTdRQzD2yfUxGev0Q=
X-Google-Smtp-Source: AGHT+IFHVht+uw0CBs5qUPf8tmpGWDGbWUb6p5xYCit9Q9BkXLTCkFbyTzK4Jp+UCSWK+y3+LPW3Ob0/+80+
X-Received: by 2002:a17:903:2283:b0:212:5b57:80e2 with SMTP id
 d9443c01a7336-21501e6c4c2mr43583935ad.48.1732716094194; 
 Wed, 27 Nov 2024 06:01:34 -0800 (PST)
Received: from postal.iol.unh.edu (postal.iol.unh.edu. [132.177.123.84])
 by smtp-relay.gmail.com with ESMTPS id
 d9443c01a7336-2129db66d94sm4412415ad.58.2024.11.27.06.01.34
 (version=TLS1_2 cipher=ECDHE-ECDSA-AES128-GCM-SHA256 bits=128/128);
 Wed, 27 Nov 2024 06:01:34 -0800 (PST)
X-Relaying-Domain: iol.unh.edu
Date: Wed, 27 Nov 2024 06:01:34 -0800 (PST)
Message-ID: <6747263e.170a0220.72ee6.cbb7SMTPIN_ADDED_MISSING@mx.google.com>
Received: from [172.17.0.2] (unknown [172.18.0.217])
 by postal.iol.unh.edu (Postfix) with ESMTP id 51FB46052471;
 Wed, 27 Nov 2024 09:01:33 -0500 (EST)
Subject: |SUCCESS| pw148904-148909 [PATCH] [RFC,6/6] buildtools: externally c
From: dpdklab@iol.unh.edu
To: Test Report <test-report@dpdk.org>
Cc: dpdk-test-reports@iol.unh.edu
In-Reply-To: <20241127112617.1331125-7-david.marchand@redhat.com>
References: <20241127112617.1331125-7-david.marchand@redhat.com>
Content-Type: text/plain
X-BeenThere: test-report@dpdk.org
X-Mailman-Version: 2.1.29
Precedence: list
List-Id: automatic DPDK test reports <test-report.dpdk.org>
List-Unsubscribe: <https://mails.dpdk.org/options/test-report>,
 <mailto:test-report-request@dpdk.org?subject=unsubscribe>
List-Archive: <http://mails.dpdk.org/archives/test-report/>
List-Post: <mailto:test-report@dpdk.org>
List-Help: <mailto:test-report-request@dpdk.org?subject=help>
List-Subscribe: <https://mails.dpdk.org/listinfo/test-report>,
 <mailto:test-report-request@dpdk.org?subject=subscribe>
Errors-To: test-report-bounces@dpdk.org

Test-Label: iol-sample-apps-testing
Test-Status: SUCCESS
http://dpdk.org/patch/148909

_Testing PASS_

Submitter: David Marchand <david.marchand@redhat.com>
Date: Wednesday, November 27 2024 11:26:16 
DPDK git baseline: Repo:dpdk
  Branch: master
  CommitID:a4f455560f747af8cd7fa99db86e757b7ff2fe79

148904-148909 --> testing pass

Upstream job id: ACVP-FIPS-testing#8137

Test environment and result as below:

+--------------------+----------------------+----------------------+
|    Environment     | compressdev_zlib_pmd | dpdk_fips_validation |
+====================+======================+======================+
| Ubuntu 22.04 (ARM) | PASS                 | SKIPPED              |
+--------------------+----------------------+----------------------+
| Ubuntu 22.04       | PASS                 | SKIPPED              |
+--------------------+----------------------+----------------------+
| Ubuntu 20.04       | SKIPPED              | PASS                 |
+--------------------+----------------------+----------------------+


Ubuntu 22.04 (ARM)
	Kernel: 5.15.0-97-generic
	Compiler: gcc gcc (Ubuntu 11.4.0-1ubuntu1~22.04) 11.4.0

Ubuntu 22.04
	Kernel: 5.15.0-100-generic
	Compiler: gcc gcc (Ubuntu 11.4.0-1ubuntu1~22.04) 11.4.0

Ubuntu 20.04
	Kernel: Depends on container host
	Compiler: gcc (Ubuntu 9.4.0-1ubuntu1~20.04.2) 9.4.0

To view detailed results, visit:
https://lab.dpdk.org/results/dashboard/patchsets/32035/

UNH-IOL DPDK Community Lab

To manage your email subscriptions, visit: 
https://lab.dpdk.org/results/dashboard/preferences/subscriptions/