From mboxrd@z Thu Jan  1 00:00:00 1970
Return-Path: <test-report-bounces@dpdk.org>
Received: from mails.dpdk.org (mails.dpdk.org [217.70.189.124])
	by inbox.dpdk.org (Postfix) with ESMTP id 78F3045DB7
	for <public@inbox.dpdk.org>; Wed, 27 Nov 2024 15:10:13 +0100 (CET)
Received: from mails.dpdk.org (localhost [127.0.0.1])
	by mails.dpdk.org (Postfix) with ESMTP id 70B0B402AB;
	Wed, 27 Nov 2024 15:10:13 +0100 (CET)
Received: from mail-ot1-f97.google.com (mail-ot1-f97.google.com
 [209.85.210.97]) by mails.dpdk.org (Postfix) with ESMTP id CCD6B4025D
 for <test-report@dpdk.org>; Wed, 27 Nov 2024 15:10:12 +0100 (CET)
Received: by mail-ot1-f97.google.com with SMTP id
 46e09a7af769-71d5fddef37so750050a34.0
 for <test-report@dpdk.org>; Wed, 27 Nov 2024 06:10:12 -0800 (PST)
DKIM-Signature: v=1; a=rsa-sha256; c=relaxed/relaxed;
 d=iol.unh.edu; s=unh-iol; t=1732716612; x=1733321412; darn=dpdk.org;
 h=references:in-reply-to:cc:to:from:subject:message-id:date:from:to
 :cc:subject:date:message-id:reply-to;
 bh=41CIbwXTg7ynpWyo/ttXZWc+17k1mlBY7RoOZdLdnUY=;
 b=FrPaO2qHQslDMYQ051rSTC7IDZJS1Tum6MXaGL/ZsYH+0EyW3CxaaZ/PB36uPjK5pF
 +bMCyBBCEDuVVtOQQoW7Byv2ybXGK/mrPhEj6n26uDu1lKoO74Y2R/r95ypNfEWv3nef
 t4lKzXTCSed17Mp7mb4xKZDTfvZSVFAM0jvB4=
X-Google-DKIM-Signature: v=1; a=rsa-sha256; c=relaxed/relaxed;
 d=1e100.net; s=20230601; t=1732716612; x=1733321412;
 h=references:in-reply-to:cc:to:from:subject:message-id:date
 :x-gm-message-state:from:to:cc:subject:date:message-id:reply-to;
 bh=41CIbwXTg7ynpWyo/ttXZWc+17k1mlBY7RoOZdLdnUY=;
 b=Ew5KTxH51ZUkQu+BveLK2bQQqaXCJox3X/wsOSDuhcAgS/2HCiC7y6/8Y4CXbrtf8l
 dZEeCb0lpTQcL6uVNr+vZhg+dtwYGrh1h9B3sVCgdoT5X1YcjOOwagxKAI8k6BhhnUMc
 J8HIgku2v3PtVaWn2emU9Zi1WrSjuwdW3tYwz481fLDwlhPznCVx+4aUttQTEi2Ly8yB
 JkbNE07an4NZgDJa/kVLj6xM5PQzVkDhcixv+/CfVqBU4EGFn1CHNxR6o8MTlOuVX8b+
 Owag5UuxBdnuWFJzcVmI7GfT+aDLKN1CudptWOtmMPonZUWBjuOCYTPPJnXwZ8twgYVd
 QM6Q==
X-Gm-Message-State: AOJu0Yzl5mewjouJN2s4rrXfO3pvIZZ7Iiwdn8upOHn0rY/HaZS4PDvd
 D8s5P1fV6/P6uUzCPmMKA/hfkzPRPnhm2L6duyLdARmS6oWCRAQ/MA3ulrXo08Otzeo5BmWth4u
 F25jdiBTCftdSpT63XWsTp8Wjnxvs8yiBLxySR8jhUKf+YrxKmhysUhcy
X-Gm-Gg: ASbGncuXQr1w8tKwaBDXZ+Rbv9Q3r3Kva32BohabTOIboIU1DKPl00DlaRXgG070Wa/
 amOeKtTaenVN/5kNaRhlJ9hF/ciHrNPfKEcPS9oRt8PVOvEY3LVKsManUisbfIVV7Qdo9FAGHwW
 w5jFREZx8jWvCo3DgU7VgMCWwt2BXYvD2eSZnnTHXve35yqugJHGs3xWjLQUk8SfhruScmwhhOE
 lDXgEpUaoTj/rUF0btDNvVAcK8xpZiVElXAEBmED+gePcleDZErqVElmhHB/7yRcf+bIzT6fVM=
X-Google-Smtp-Source: AGHT+IE6IksNIh5yIR2Z2lgxUZx7xxAWGvydNW7R+1/QyhrD2TPOk7kXtJlcMQj4zdAw8VzGoQgSV+kvSAwS
X-Received: by 2002:a05:6358:4b12:b0:1b8:f18:3e6e with SMTP id
 e5c5f4694b2df-1cab15d44f8mr228421655d.12.1732716610285; 
 Wed, 27 Nov 2024 06:10:10 -0800 (PST)
Received: from postal.iol.unh.edu (postal.iol.unh.edu.
 [2606:4100:3880:1234::84]) by smtp-relay.gmail.com with ESMTPS id
 a1e0cc1a2514c-85b4e949a6csm65653241.18.2024.11.27.06.10.10
 (version=TLS1_2 cipher=ECDHE-ECDSA-AES128-GCM-SHA256 bits=128/128);
 Wed, 27 Nov 2024 06:10:10 -0800 (PST)
X-Relaying-Domain: iol.unh.edu
Date: Wed, 27 Nov 2024 06:10:10 -0800 (PST)
Message-ID: <67472842.050a0220.367069.458aSMTPIN_ADDED_MISSING@mx.google.com>
Received: from [172.21.0.5] (unknown [172.18.0.240])
 by postal.iol.unh.edu (Postfix) with ESMTP id DCC7C6052471;
 Wed, 27 Nov 2024 09:10:09 -0500 (EST)
Subject: |SUCCESS| pw148904-148909 [PATCH] [RFC,6/6] buildtools: externally c
From: dpdklab@iol.unh.edu
To: Test Report <test-report@dpdk.org>
Cc: dpdk-test-reports@iol.unh.edu
In-Reply-To: <20241127112617.1331125-7-david.marchand@redhat.com>
References: <20241127112617.1331125-7-david.marchand@redhat.com>
Content-Type: text/plain
X-BeenThere: test-report@dpdk.org
X-Mailman-Version: 2.1.29
Precedence: list
List-Id: automatic DPDK test reports <test-report.dpdk.org>
List-Unsubscribe: <https://mails.dpdk.org/options/test-report>,
 <mailto:test-report-request@dpdk.org?subject=unsubscribe>
List-Archive: <http://mails.dpdk.org/archives/test-report/>
List-Post: <mailto:test-report@dpdk.org>
List-Help: <mailto:test-report-request@dpdk.org?subject=help>
List-Subscribe: <https://mails.dpdk.org/listinfo/test-report>,
 <mailto:test-report-request@dpdk.org?subject=subscribe>
Errors-To: test-report-bounces@dpdk.org

Test-Label: iol-unit-arm64-testing
Test-Status: SUCCESS
http://dpdk.org/patch/148909

_Testing PASS_

Submitter: David Marchand <david.marchand@redhat.com>
Date: Wednesday, November 27 2024 11:26:16 
DPDK git baseline: Repo:dpdk
  Branch: master
  CommitID:a4f455560f747af8cd7fa99db86e757b7ff2fe79

148904-148909 --> testing pass

Upstream job id: Generic-Unit-Test-DPDK#295577

Test environment and result as below:

+-----------------------------+----------------+------------------------------+--------------+---------------------------+
|         Environment         | dpdk_unit_test | cryptodev_sw_snow3g_autotest | lpm_autotest | cryptodev_sw_zuc_autotest |
+=============================+================+==============================+==============+===========================+
| Fedora 39 (ARM)             | PASS           | SKIPPED                      | SKIPPED      | SKIPPED                   |
+-----------------------------+----------------+------------------------------+--------------+---------------------------+
| Debian 12 (arm)             | PASS           | PASS                         | SKIPPED      | PASS                      |
+-----------------------------+----------------+------------------------------+--------------+---------------------------+
| Fedora 40 (ARM)             | PASS           | SKIPPED                      | SKIPPED      | SKIPPED                   |
+-----------------------------+----------------+------------------------------+--------------+---------------------------+
| CentOS Stream 9 (ARM)       | PASS           | SKIPPED                      | SKIPPED      | SKIPPED                   |
+-----------------------------+----------------+------------------------------+--------------+---------------------------+
| Ubuntu 22.04 (ARM)          | PASS           | SKIPPED                      | SKIPPED      | SKIPPED                   |
+-----------------------------+----------------+------------------------------+--------------+---------------------------+
| RHEL9 (ARM)                 | PASS           | SKIPPED                      | SKIPPED      | SKIPPED                   |
+-----------------------------+----------------+------------------------------+--------------+---------------------------+
| Fedora 40 (ARM Clang)       | PASS           | SKIPPED                      | SKIPPED      | SKIPPED                   |
+-----------------------------+----------------+------------------------------+--------------+---------------------------+
| Fedora 39 (ARM Clang)       | PASS           | SKIPPED                      | SKIPPED      | SKIPPED                   |
+-----------------------------+----------------+------------------------------+--------------+---------------------------+
| Ubuntu 20.04 (ARM)          | PASS           | SKIPPED                      | SKIPPED      | SKIPPED                   |
+-----------------------------+----------------+------------------------------+--------------+---------------------------+
| Ubuntu 24.04 (ARM)          | PASS           | SKIPPED                      | SKIPPED      | SKIPPED                   |
+-----------------------------+----------------+------------------------------+--------------+---------------------------+
| 32-bit Ubuntu 22.04.4 (ARM) | PASS           | SKIPPED                      | SKIPPED      | SKIPPED                   |
+-----------------------------+----------------+------------------------------+--------------+---------------------------+
| Ubuntu 20.04 ARM SVE        | SKIPPED        | SKIPPED                      | PASS         | SKIPPED                   |
+-----------------------------+----------------+------------------------------+--------------+---------------------------+


Fedora 39 (ARM)
	Kernel: Depends on container host
	Compiler: gcc 13.3.1 20240522 (Red Hat 13.3.1-1)

Debian 12 (arm)
	Kernel: Depends on container host
	Compiler: gcc (Debian 12.2.0-14) 12.2.0

Fedora 40 (ARM)
	Kernel: Depends on container host
	Compiler: gcc 14.2.1 20240801 (Red Hat 14.2.1-1)

CentOS Stream 9 (ARM)
	Kernel: Depends on container host
	Compiler: gcc 11.4.1 20231218 (Red Hat 11.4.1-3)

Ubuntu 22.04 (ARM)
	Kernel: Depends on container host
	Compiler: gcc (Ubuntu 11.4.0-1ubuntu1~22.04) 11.4.0

RHEL9 (ARM)
	Kernel: Depends on container host
	Compiler: gcc 11.4.1 20231218 (Red Hat 11.4.1-3)

Fedora 40 (ARM Clang)
	Kernel: Depends on container host
	Compiler: clang 18.1.6 (Fedora 18.1.6-3.fc40)

Fedora 39 (ARM Clang)
	Kernel: Depends on container host
	Compiler: clang 17.0.6 (Fedora 17.0.6-2.fc39)

Ubuntu 20.04 (ARM)
	Kernel: Depends on container host
	Compiler: gcc (Ubuntu 9.4.0-1ubuntu1~20.04.2) 9.4.0

Ubuntu 24.04 (ARM)
	Kernel: Depends on container host
	Compiler: gcc (Ubuntu 13.2.0-23ubuntu4) 13.2.0

32-bit Ubuntu 22.04.4 (ARM)
	Kernel: 5.15.83+ aarch64
	Compiler: gcc (Ubuntu 11.4.0-1ubuntu1~22.04) 11.4.0

Ubuntu 20.04 ARM SVE
	Kernel: Depends on container host
	Compiler: gcc (Ubuntu 10.5.0-1ubuntu1~20.04) 10.5.0

To view detailed results, visit:
https://lab.dpdk.org/results/dashboard/patchsets/32035/

UNH-IOL DPDK Community Lab

To manage your email subscriptions, visit: 
https://lab.dpdk.org/results/dashboard/preferences/subscriptions/