From mboxrd@z Thu Jan  1 00:00:00 1970
Return-Path: <test-report-bounces@dpdk.org>
Received: from mails.dpdk.org (mails.dpdk.org [217.70.189.124])
	by inbox.dpdk.org (Postfix) with ESMTP id 4654345DBA
	for <public@inbox.dpdk.org>; Wed, 27 Nov 2024 20:17:04 +0100 (CET)
Received: from mails.dpdk.org (localhost [127.0.0.1])
	by mails.dpdk.org (Postfix) with ESMTP id 2AD4E402AE;
	Wed, 27 Nov 2024 20:17:04 +0100 (CET)
Received: from mail-pl1-f226.google.com (mail-pl1-f226.google.com
 [209.85.214.226])
 by mails.dpdk.org (Postfix) with ESMTP id 4C9E74029C
 for <test-report@dpdk.org>; Wed, 27 Nov 2024 20:17:02 +0100 (CET)
Received: by mail-pl1-f226.google.com with SMTP id
 d9443c01a7336-211fb27cc6bso405455ad.0
 for <test-report@dpdk.org>; Wed, 27 Nov 2024 11:17:02 -0800 (PST)
DKIM-Signature: v=1; a=rsa-sha256; c=relaxed/relaxed;
 d=iol.unh.edu; s=unh-iol; t=1732735021; x=1733339821; darn=dpdk.org;
 h=references:in-reply-to:cc:to:from:subject:message-id:date:from:to
 :cc:subject:date:message-id:reply-to;
 bh=faVFh2pOG2yhxaysKMTjtHx/aVi6clzYLlUzN3hg0Y0=;
 b=SdETw6EXmWsk/K9QUg2R/fFf7CjmwZc/11sJYlIVDIK4RMZUWGEUguOUaqbw5fAdMM
 hcwnja5ZH9zgeowKBPA6XWXvO7yd/2GA472hQZsNHRlI//NyNNQlQ+tPwoYVABjA3dYt
 sLLh1v03okZBQCMVOpvpl9VVsp+pzMD+7RDtc=
X-Google-DKIM-Signature: v=1; a=rsa-sha256; c=relaxed/relaxed;
 d=1e100.net; s=20230601; t=1732735021; x=1733339821;
 h=references:in-reply-to:cc:to:from:subject:message-id:date
 :x-gm-message-state:from:to:cc:subject:date:message-id:reply-to;
 bh=faVFh2pOG2yhxaysKMTjtHx/aVi6clzYLlUzN3hg0Y0=;
 b=Uqg+EwY1y4HJukhPEswgB540/LyhcHRvplzkDQ1jNpsy1XW3+f++GryCU3DvP9i2ZB
 GhUFIkyFLaSfaQ0Gy1p/hV3WdUGa37lsyF+A/RBetmxdE8CH8KfTOEVrSusnpAN/WiAM
 P9ctUbWI6U6u84KYqKm0UWsOnRU6Rfd5+TApZ9MkLXV2+p0BN/TkOXv+YhlRiW/bFcXs
 m+drLIt/NMBhBhDvFK3Nt58zKg93obYQy+mhWxlgcNh1hetRwFVIQzmJeFc87oaKmHOK
 bCRn61w5cPvQgpkQAKFbN/DNbX57JT1c2zDVAuGjEbv1F7cTE0HgZF9EJchli2n89ER6
 yFkA==
X-Gm-Message-State: AOJu0YxZmE/RRW/9+jlMDutVs/YIcD1fTnCeturUTnu8Dx7Ymbn9NiBN
 4zIErbNrEIOfWkLNev9p6uiQzEKFRDX6soQaC+s0VQ56cMK6sDEuIPr7jCaLAWS33Lj79yNb7Zb
 oC5weq5d4f/UkqUE7pG/5DWD46DCwy84dfSO/AQtCCwTln3DHXVxrkoOy
X-Gm-Gg: ASbGncsqTs1CA9g/mkdHOhsEw+jDQGppmDKHQdG3uLghGMjyttupnIF6TWNTAvxY5e3
 ZEjy0yJnU8Oe1xc3zYinyiBRSZLMB4hHeeZSj1Gg60ufydle1F9DSeCbjiumxMqMDE8C435MRZx
 mzZcVcZu5nc4ZI5R6GDLVo0/3yT8NuNKnVQYCTGIz/xA9Oive2PwXlrTDr9b0cYUk9cJEEFfYeh
 rq1aJsPCF7WBd+H5n7nC8mix6bQ74LUY7OcQL0UEWptk5wr7LkQ98Aic8nnxd6VQKe7yl6RybA=
X-Google-Smtp-Source: AGHT+IHpamBPQTGRfdChOFKw1UOq+c+s4toFzflf+D59pL4a3kW8CqqT9BBXwwu5cCmkKjGnWXJCnZysy9bU
X-Received: by 2002:a17:903:230e:b0:211:ff13:8652 with SMTP id
 d9443c01a7336-2150175ccf2mr71230525ad.28.1732735019793; 
 Wed, 27 Nov 2024 11:16:59 -0800 (PST)
Received: from postal.iol.unh.edu (postal.iol.unh.edu.
 [2606:4100:3880:1234::84]) by smtp-relay.gmail.com with ESMTPS id
 d9443c01a7336-2129db40febsm5071335ad.11.2024.11.27.11.16.59
 (version=TLS1_2 cipher=ECDHE-ECDSA-AES128-GCM-SHA256 bits=128/128);
 Wed, 27 Nov 2024 11:16:59 -0800 (PST)
X-Relaying-Domain: iol.unh.edu
Date: Wed, 27 Nov 2024 11:16:59 -0800 (PST)
Message-ID: <6747702b.170a0220.390db7.1455SMTPIN_ADDED_MISSING@mx.google.com>
Received: from [172.21.0.5] (unknown [172.18.0.240])
 by postal.iol.unh.edu (Postfix) with ESMTP id DF0226052471;
 Wed, 27 Nov 2024 14:16:58 -0500 (EST)
Subject: |WARNING| pw148925 [PATCH] lib/eal: fix macros for noinline and alwa
From: dpdklab@iol.unh.edu
To: Test Report <test-report@dpdk.org>
Cc: dpdk-test-reports@iol.unh.edu
In-Reply-To: <1732723879-23806-1-git-send-email-andremue@linux.microsoft.com>
References: <1732723879-23806-1-git-send-email-andremue@linux.microsoft.com>
Content-Type: text/plain
X-BeenThere: test-report@dpdk.org
X-Mailman-Version: 2.1.29
Precedence: list
List-Id: automatic DPDK test reports <test-report.dpdk.org>
List-Unsubscribe: <https://mails.dpdk.org/options/test-report>,
 <mailto:test-report-request@dpdk.org?subject=unsubscribe>
List-Archive: <http://mails.dpdk.org/archives/test-report/>
List-Post: <mailto:test-report@dpdk.org>
List-Help: <mailto:test-report-request@dpdk.org?subject=help>
List-Subscribe: <https://mails.dpdk.org/listinfo/test-report>,
 <mailto:test-report-request@dpdk.org?subject=subscribe>
Errors-To: test-report-bounces@dpdk.org

Test-Label: iol-compile-amd64-testing
Test-Status: WARNING
http://dpdk.org/patch/148925

_Testing issues_

Submitter: Andre Muezerie <andremue@linux.microsoft.com>
Date: Wednesday, November 27 2024 16:11:19 
DPDK git baseline: Repo:dpdk
  Branch: master
  CommitID:4843aacb0d1201fef37e8a579fcd8baec4acdf98

148925 --> testing issues

Upstream job id: Generic-DPDK-Compile-Meson#338849

Test environment and result as below:

+---------------------+--------------------+------------------+-------------------+-------------------+-----------------------+----------------------+
|     Environment     | dpdk_meson_compile | dpdk_compile_ovs | dpdk_compile_spdk | dpdk_msvc_compile | dpdk_win_llvm_compile | dpdk_mingw64_compile |
+=====================+====================+==================+===================+===================+=======================+======================+
| CentOS Stream 9     | PASS               | PASS             | PASS              | SKIPPED           | SKIPPED               | SKIPPED              |
+---------------------+--------------------+------------------+-------------------+-------------------+-----------------------+----------------------+
| Debian 12           | PASS               | PASS             | PASS              | SKIPPED           | SKIPPED               | SKIPPED              |
+---------------------+--------------------+------------------+-------------------+-------------------+-----------------------+----------------------+
| Fedora 39 (Clang)   | PASS               | PASS             | PASS              | SKIPPED           | SKIPPED               | SKIPPED              |
+---------------------+--------------------+------------------+-------------------+-------------------+-----------------------+----------------------+
| Fedora 39           | PASS               | PASS             | PASS              | SKIPPED           | SKIPPED               | SKIPPED              |
+---------------------+--------------------+------------------+-------------------+-------------------+-----------------------+----------------------+
| Fedora 40           | PASS               | PASS             | PASS              | SKIPPED           | SKIPPED               | SKIPPED              |
+---------------------+--------------------+------------------+-------------------+-------------------+-----------------------+----------------------+
| openSUSE Leap 15    | PASS               | PASS             | SKIPPED           | SKIPPED           | SKIPPED               | SKIPPED              |
+---------------------+--------------------+------------------+-------------------+-------------------+-----------------------+----------------------+
| Fedora 40 (Clang)   | PASS               | PASS             | PASS              | SKIPPED           | SKIPPED               | SKIPPED              |
+---------------------+--------------------+------------------+-------------------+-------------------+-----------------------+----------------------+
| RHEL8               | PASS               | PASS             | SKIPPED           | SKIPPED           | SKIPPED               | SKIPPED              |
+---------------------+--------------------+------------------+-------------------+-------------------+-----------------------+----------------------+
| RHEL9               | PASS               | PASS             | SKIPPED           | SKIPPED           | SKIPPED               | SKIPPED              |
+---------------------+--------------------+------------------+-------------------+-------------------+-----------------------+----------------------+
| Ubuntu 20.04        | PASS               | WARN             | SKIPPED           | SKIPPED           | SKIPPED               | SKIPPED              |
+---------------------+--------------------+------------------+-------------------+-------------------+-----------------------+----------------------+
| Ubuntu 24.04        | PASS               | PASS             | PASS              | SKIPPED           | SKIPPED               | SKIPPED              |
+---------------------+--------------------+------------------+-------------------+-------------------+-----------------------+----------------------+
| Ubuntu 22.04        | PASS               | PASS             | PASS              | SKIPPED           | SKIPPED               | SKIPPED              |
+---------------------+--------------------+------------------+-------------------+-------------------+-----------------------+----------------------+
| Alpine              | PASS               | PASS             | SKIPPED           | SKIPPED           | SKIPPED               | SKIPPED              |
+---------------------+--------------------+------------------+-------------------+-------------------+-----------------------+----------------------+
| FreeBSD 13.4        | PASS               | SKIPPED          | SKIPPED           | SKIPPED           | SKIPPED               | SKIPPED              |
+---------------------+--------------------+------------------+-------------------+-------------------+-----------------------+----------------------+
| FreeBSD 14.1        | PASS               | SKIPPED          | SKIPPED           | SKIPPED           | SKIPPED               | SKIPPED              |
+---------------------+--------------------+------------------+-------------------+-------------------+-----------------------+----------------------+
| Windows Server 2022 | SKIPPED            | SKIPPED          | SKIPPED           | PASS              | PASS                  | PASS                 |
+---------------------+--------------------+------------------+-------------------+-------------------+-----------------------+----------------------+

==== 20 line log output for Ubuntu 20.04 (dpdk_compile_ovs): ====
 --- Failed to get log output --- 
==== End log output ====

CentOS Stream 9
	Kernel: Depends on container host
	Compiler: gcc 11.4.1 20231218 (Red Hat 11.4.1-3)

Debian 12
	Kernel: Depends on container host
	Compiler: gcc (Debian 12.2.0-14) 12.2.0

Fedora 39 (Clang)
	Kernel: Depends on container host
	Compiler: clang 17.0.6 (Fedora 17.0.6-2.fc39)

Fedora 39
	Kernel: Depends on container host
	Compiler: gcc 13.3.1 20240522 (Red Hat 13.3.1-1)

Fedora 40
	Kernel: Depends on container host
	Compiler: gcc 14.2.1 20240801 (Red Hat 14.2.1-1)

openSUSE Leap 15
	Kernel: Depends on container host
	Compiler: gcc (SUSE Linux) 7.5.0

Fedora 40 (Clang)
	Kernel: Depends on container host
	Compiler: clang 18.1.6 (Fedora 18.1.6-3.fc40)

RHEL8
	Kernel: Depends on container host
	Compiler: gcc 8.5.0 20210514 (Red Hat 8.5.0-22)

RHEL9
	Kernel: Depends on container host
	Compiler: gcc 11.4.1 20231218 (Red Hat 11.4.1-3)

Ubuntu 20.04
	Kernel: Depends on container host
	Compiler: gcc (Ubuntu 9.4.0-1ubuntu1~20.04.2) 9.4.0

Ubuntu 24.04
	Kernel: Depends on container host
	Compiler: gcc (Ubuntu 13.2.0-23ubuntu4) 13.2.0

Ubuntu 22.04
	Kernel: Depends on container host
	Compiler: gcc (Ubuntu 11.4.0-1ubuntu1~22.04) 11.4.0

Alpine
	Kernel: Depends on container host
	Compiler: gcc (Alpine 13.2.1_git20240309) 13.2.1 20240309

FreeBSD 13.4
	Kernel: 13.4-RELEASE-p1
	Compiler: clang 18.1.6

FreeBSD 14.1
	Kernel: 14.1-RELEASE-p3
	Compiler: clang 18.1.5

Windows Server 2022
	Kernel: 10.0.20348.2031
	Compiler: clang 15.0.7, gcc 14.1.0 (MinGW), and MSVC VS 19.39.33521

To view detailed results, visit:
https://lab.dpdk.org/results/dashboard/patchsets/32044/

UNH-IOL DPDK Community Lab

To manage your email subscriptions, visit: 
https://lab.dpdk.org/results/dashboard/preferences/subscriptions/