From mboxrd@z Thu Jan  1 00:00:00 1970
Return-Path: <test-report-bounces@dpdk.org>
Received: from mails.dpdk.org (mails.dpdk.org [217.70.189.124])
	by inbox.dpdk.org (Postfix) with ESMTP id A053745DBA
	for <public@inbox.dpdk.org>; Wed, 27 Nov 2024 21:38:21 +0100 (CET)
Received: from mails.dpdk.org (localhost [127.0.0.1])
	by mails.dpdk.org (Postfix) with ESMTP id 9B100402AE;
	Wed, 27 Nov 2024 21:38:21 +0100 (CET)
Received: from mail-pj1-f97.google.com (mail-pj1-f97.google.com
 [209.85.216.97]) by mails.dpdk.org (Postfix) with ESMTP id 31D804029C
 for <test-report@dpdk.org>; Wed, 27 Nov 2024 21:38:20 +0100 (CET)
Received: by mail-pj1-f97.google.com with SMTP id
 98e67ed59e1d1-2e9e377aeadso162251a91.1
 for <test-report@dpdk.org>; Wed, 27 Nov 2024 12:38:20 -0800 (PST)
DKIM-Signature: v=1; a=rsa-sha256; c=relaxed/relaxed;
 d=iol.unh.edu; s=unh-iol; t=1732739899; x=1733344699; darn=dpdk.org;
 h=references:in-reply-to:cc:to:from:subject:message-id:date:from:to
 :cc:subject:date:message-id:reply-to;
 bh=uEs+6Y5DscJCjbGBfSmVQSlc2jypOuUw2rt4OUbStzw=;
 b=Gho11mDyRn6yaJ9ffN8yVxbakXJKDMbkh+bRoLuZNTkRrEjG4yIe++MAfi1RyXSjL/
 IDBPu4CMjeLXdsbwPsgmvc9gjyeg3Vr3IQ7MZ9sb/iToSuQBT3hMTGZ43lrjECbPVguf
 tDWvgC04Q1TWwHxRF8/AsgH+DFl0bRsNarBQA=
X-Google-DKIM-Signature: v=1; a=rsa-sha256; c=relaxed/relaxed;
 d=1e100.net; s=20230601; t=1732739899; x=1733344699;
 h=references:in-reply-to:cc:to:from:subject:message-id:date
 :x-gm-message-state:from:to:cc:subject:date:message-id:reply-to;
 bh=uEs+6Y5DscJCjbGBfSmVQSlc2jypOuUw2rt4OUbStzw=;
 b=P6Vjmb4TCmkaE7EfMAnlZSEAod11jVbEiiyFz0N2j9kPkf+uFoK5f9axg9Cs21tjjj
 FGuOZa0ag81/lUBDP1iH/2Zf4ot+ZEvUKqnxlbtKOHS47qUqyF87iqbo/RdThMF1Ix5z
 co40Vf6Q27+CtY+ShNV54pFEI2XMsxAARytNAMDMQ4/z0jZLtEMaRJSHzD8jcUPSJkIs
 8I1313r7cTQFBgnNuo5soVL7ClKRlZMOLs3BjCXlCGeBRedoR9ytRSuKYG+hhopB9ETy
 8p/CDDnOBBiOUmNh8tYNOscrWteDsPS8aCGAr7ERjc9nnovRxpzVWjxX2n/V/9hD4Ylr
 hk+Q==
X-Gm-Message-State: AOJu0YxX/y6Db6L9mG1TJ9DtP1voOqzSf/iGZfgo9S++O9acOqB8z9Em
 cG5qWAKCpGAjgC46P1kB0uRBEGKx+HrSPpnJh3jmJXslESF1PyaNeNmgcly7ZzgLRLsfBYd/F+i
 uS2Z0rOchWpMmpUCvYw6/tQUIvaH4tqjWNtvOjY9sM86vdKVrfEaIMmm8
X-Gm-Gg: ASbGncv3HbEZL0gtbv4Ki9CwAFDRoZcMLN7dxmf2/r09LbQ3tgbvnOCgX+1MrRmY7dx
 9zaNlGvspceSFyryOqBjXqmRgMk9p0oYdnV4N3kNsz+SMcxT06RLSC6tAux0BXqW6AQObbYJpeY
 12kC+MjrMsvw7tzeuH608dgwY9X1wbYyyTWx+3dSbaZRkJzm9jLw6JQdXCL5/Nt3A/5Am10jc5w
 0OxBZ5GvVF+mveIc6Kl5zaEUzpH4/h/pPlzo3lV9RPMgZKGGczxEY+gGlpGNSeZ94U7t2sc4s4=
X-Google-Smtp-Source: AGHT+IH2d/+Dzb3vCfnv7knpOgfP57GZQPYLVuhJQo3hBJjqokjz5ox4Qge7m+LHG1mwchN8valQJL6ULf2E
X-Received: by 2002:a17:90b:1b06:b0:2ea:c6fc:c9d8 with SMTP id
 98e67ed59e1d1-2ee097c1d58mr4823819a91.23.1732739899332; 
 Wed, 27 Nov 2024 12:38:19 -0800 (PST)
Received: from postal.iol.unh.edu (postal.iol.unh.edu.
 [2606:4100:3880:1234::84]) by smtp-relay.gmail.com with ESMTPS id
 98e67ed59e1d1-2ee2aff1bf3sm533a91.2.2024.11.27.12.38.19
 (version=TLS1_2 cipher=ECDHE-ECDSA-AES128-GCM-SHA256 bits=128/128);
 Wed, 27 Nov 2024 12:38:19 -0800 (PST)
X-Relaying-Domain: iol.unh.edu
Date: Wed, 27 Nov 2024 12:38:19 -0800 (PST)
Message-ID: <6747833b.170a0220.24d192.0089SMTPIN_ADDED_MISSING@mx.google.com>
Received: from [172.21.0.8] (unknown [172.18.0.240])
 by postal.iol.unh.edu (Postfix) with ESMTP id 7F1C46052471;
 Wed, 27 Nov 2024 15:38:18 -0500 (EST)
Subject: |SUCCESS| pw148923 [PATCH] test/crypto: return proper codes in creat
From: dpdklab@iol.unh.edu
To: Test Report <test-report@dpdk.org>
Cc: dpdk-test-reports@iol.unh.edu
In-Reply-To: <20241127151510.1080129-1-rmudimadugul@marvell.com>
References: <20241127151510.1080129-1-rmudimadugul@marvell.com>
Content-Type: text/plain
X-BeenThere: test-report@dpdk.org
X-Mailman-Version: 2.1.29
Precedence: list
List-Id: automatic DPDK test reports <test-report.dpdk.org>
List-Unsubscribe: <https://mails.dpdk.org/options/test-report>,
 <mailto:test-report-request@dpdk.org?subject=unsubscribe>
List-Archive: <http://mails.dpdk.org/archives/test-report/>
List-Post: <mailto:test-report@dpdk.org>
List-Help: <mailto:test-report-request@dpdk.org?subject=help>
List-Subscribe: <https://mails.dpdk.org/listinfo/test-report>,
 <mailto:test-report-request@dpdk.org?subject=subscribe>
Errors-To: test-report-bounces@dpdk.org

Test-Label: iol-unit-arm64-testing
Test-Status: SUCCESS
http://dpdk.org/patch/148923

_Testing PASS_

Submitter: Rajesh Mudimadugula <rmudimadugul@marvell.com>
Date: Wednesday, November 27 2024 15:15:10 
DPDK git baseline: Repo:dpdk
  Branch: master
  CommitID:f4ccce58c1a33cb41e1e820da504698437987efc

148923 --> testing pass

Upstream job id: Generic-Unit-Test-DPDK#295752

Test environment and result as below:

+-----------------------------+---------------------------+--------------+------------------------------+----------------+
|         Environment         | cryptodev_sw_zuc_autotest | lpm_autotest | cryptodev_sw_snow3g_autotest | dpdk_unit_test |
+=============================+===========================+==============+==============================+================+
| Debian 12 (arm)             | PASS                      | SKIPPED      | PASS                         | PASS           |
+-----------------------------+---------------------------+--------------+------------------------------+----------------+
| Ubuntu 20.04 ARM SVE        | SKIPPED                   | PASS         | SKIPPED                      | SKIPPED        |
+-----------------------------+---------------------------+--------------+------------------------------+----------------+
| Fedora 39 (ARM)             | SKIPPED                   | SKIPPED      | SKIPPED                      | PASS           |
+-----------------------------+---------------------------+--------------+------------------------------+----------------+
| CentOS Stream 9 (ARM)       | SKIPPED                   | SKIPPED      | SKIPPED                      | PASS           |
+-----------------------------+---------------------------+--------------+------------------------------+----------------+
| Fedora 39 (ARM Clang)       | SKIPPED                   | SKIPPED      | SKIPPED                      | PASS           |
+-----------------------------+---------------------------+--------------+------------------------------+----------------+
| Fedora 40 (ARM)             | SKIPPED                   | SKIPPED      | SKIPPED                      | PASS           |
+-----------------------------+---------------------------+--------------+------------------------------+----------------+
| Fedora 40 (ARM Clang)       | SKIPPED                   | SKIPPED      | SKIPPED                      | PASS           |
+-----------------------------+---------------------------+--------------+------------------------------+----------------+
| Ubuntu 22.04 (ARM)          | SKIPPED                   | SKIPPED      | SKIPPED                      | PASS           |
+-----------------------------+---------------------------+--------------+------------------------------+----------------+
| Ubuntu 24.04 (ARM)          | SKIPPED                   | SKIPPED      | SKIPPED                      | PASS           |
+-----------------------------+---------------------------+--------------+------------------------------+----------------+
| Ubuntu 20.04 (ARM)          | SKIPPED                   | SKIPPED      | SKIPPED                      | PASS           |
+-----------------------------+---------------------------+--------------+------------------------------+----------------+
| RHEL9 (ARM)                 | SKIPPED                   | SKIPPED      | SKIPPED                      | PASS           |
+-----------------------------+---------------------------+--------------+------------------------------+----------------+
| 32-bit Ubuntu 22.04.4 (ARM) | SKIPPED                   | SKIPPED      | SKIPPED                      | PASS           |
+-----------------------------+---------------------------+--------------+------------------------------+----------------+


Debian 12 (arm)
	Kernel: Depends on container host
	Compiler: gcc (Debian 12.2.0-14) 12.2.0

Ubuntu 20.04 ARM SVE
	Kernel: Depends on container host
	Compiler: gcc (Ubuntu 10.5.0-1ubuntu1~20.04) 10.5.0

Fedora 39 (ARM)
	Kernel: Depends on container host
	Compiler: gcc 13.3.1 20240522 (Red Hat 13.3.1-1)

CentOS Stream 9 (ARM)
	Kernel: Depends on container host
	Compiler: gcc 11.4.1 20231218 (Red Hat 11.4.1-3)

Fedora 39 (ARM Clang)
	Kernel: Depends on container host
	Compiler: clang 17.0.6 (Fedora 17.0.6-2.fc39)

Fedora 40 (ARM)
	Kernel: Depends on container host
	Compiler: gcc 14.2.1 20240801 (Red Hat 14.2.1-1)

Fedora 40 (ARM Clang)
	Kernel: Depends on container host
	Compiler: clang 18.1.6 (Fedora 18.1.6-3.fc40)

Ubuntu 22.04 (ARM)
	Kernel: Depends on container host
	Compiler: gcc (Ubuntu 11.4.0-1ubuntu1~22.04) 11.4.0

Ubuntu 24.04 (ARM)
	Kernel: Depends on container host
	Compiler: gcc (Ubuntu 13.2.0-23ubuntu4) 13.2.0

Ubuntu 20.04 (ARM)
	Kernel: Depends on container host
	Compiler: gcc (Ubuntu 9.4.0-1ubuntu1~20.04.2) 9.4.0

RHEL9 (ARM)
	Kernel: Depends on container host
	Compiler: gcc 11.4.1 20231218 (Red Hat 11.4.1-3)

32-bit Ubuntu 22.04.4 (ARM)
	Kernel: 5.15.83+ aarch64
	Compiler: gcc (Ubuntu 11.4.0-1ubuntu1~22.04) 11.4.0

To view detailed results, visit:
https://lab.dpdk.org/results/dashboard/patchsets/32042/

UNH-IOL DPDK Community Lab

To manage your email subscriptions, visit: 
https://lab.dpdk.org/results/dashboard/preferences/subscriptions/