From mboxrd@z Thu Jan  1 00:00:00 1970
Return-Path: <test-report-bounces@dpdk.org>
Received: from mails.dpdk.org (mails.dpdk.org [217.70.189.124])
	by inbox.dpdk.org (Postfix) with ESMTP id C99B245D22
	for <public@inbox.dpdk.org>; Thu, 28 Nov 2024 00:48:13 +0100 (CET)
Received: from mails.dpdk.org (localhost [127.0.0.1])
	by mails.dpdk.org (Postfix) with ESMTP id C11C9402AE;
	Thu, 28 Nov 2024 00:48:13 +0100 (CET)
Received: from mail-pg1-f226.google.com (mail-pg1-f226.google.com
 [209.85.215.226])
 by mails.dpdk.org (Postfix) with ESMTP id 647D64029C
 for <test-report@dpdk.org>; Thu, 28 Nov 2024 00:48:12 +0100 (CET)
Received: by mail-pg1-f226.google.com with SMTP id
 41be03b00d2f7-7ee11ff7210so148761a12.1
 for <test-report@dpdk.org>; Wed, 27 Nov 2024 15:48:12 -0800 (PST)
DKIM-Signature: v=1; a=rsa-sha256; c=relaxed/relaxed;
 d=iol.unh.edu; s=unh-iol; t=1732751291; x=1733356091; darn=dpdk.org;
 h=references:in-reply-to:cc:to:from:subject:message-id:date:from:to
 :cc:subject:date:message-id:reply-to;
 bh=U46A3ZLKPc5EcXD1LPM3HPEFDqvlckDpstPJAcTXzE0=;
 b=VOOxhcUj+JiViYqn7gDPYfXdrvtepFVH7fK6fhIEmzxE0HaXXQKK8gzIPCD0ZRu6cb
 ZUGEZvW7xszuajZxYtLqS5DsuT1+h6NMxnvt4Mj9LykC31Ign0VvEWuTdsqEQIgoNh65
 IOBozN4WZeA8wzpc3VL861LEVAn3yZzOQ8w/A=
X-Google-DKIM-Signature: v=1; a=rsa-sha256; c=relaxed/relaxed;
 d=1e100.net; s=20230601; t=1732751291; x=1733356091;
 h=references:in-reply-to:cc:to:from:subject:message-id:date
 :x-gm-message-state:from:to:cc:subject:date:message-id:reply-to;
 bh=U46A3ZLKPc5EcXD1LPM3HPEFDqvlckDpstPJAcTXzE0=;
 b=kt85v39L6NYEvkUE3UAoxgJWYQvxRWcrMxCfX+1v9+JkvP1SJjW/yqnyanmVElvMbd
 vxoZRios2RwFkSepiy8BYJVrC/zIN7is9CTmLBwUjSmIcNRljfVRNWrhIhGgGmTCfF6m
 BQ4C3fUgpIxOkRinQ5J4GgGn9VCO/kfHecXt5TCbhnGGgAKI6qI76EQqgOTkLNH9YyBe
 qR8dV5DibQ/ThX8uBaikqUxpOCzS5R07PESkxvd3YGtSqR+HzdbRroEUW7w2BwoPWaTh
 QaOinNC6tU/TvnK6MJNquqapq0Z+7FBx4nNFejcmQI/Tzu5kACNPq3J94FRwHFA0ZyqC
 I66A==
X-Gm-Message-State: AOJu0Ywcenc7rFEbwSk7Qj2Gj3x5xot37ad7W//kyijvtbwmJGFzyxfu
 1f2aMrzKpgNzBPNx+ZklJ9mKCp/hKi5npYMnyxSWbkrdjhqhPI1/DADWCS9K6+3vplnwzC6NIBF
 ZC79NPyXHY+c2F4Dvkzz+vX4XXtfw0g04mwDYRccFpQZ6Zj9PYptdOo/w
X-Gm-Gg: ASbGncsxcGReVspkRk4lSOBLn0QmB0i9FuhSTWPC7jU0uKLvCf2UbrJ1BSR3YmgQsD2
 E/Gwp+YvAJmoSVcbV6yt3OB9nmaFscUl41rKs9rv9gBZ5s0I/1AUlKHHymDZpv/AnoX7DU/TEG6
 yC5DF+jq7q2UASw0/tMyP7oU7jZIN+Whtz6YDy/pcGYeec8DDSim7ZmIUke778TO5pcPJFIi8Q1
 HlXkkwGn8VARXBE8aC71pzUjVF2b+UAgLoI6Wuaipvm1sZZw8WvEeULf4pf4s5jjDRTyFLOeXg=
X-Google-Smtp-Source: AGHT+IG9ydwod3SHtrtcF/DKsE7v2R4xlU6s2sGfyD/nXO3soKIxOBMMc4zHKhH+9LTy088oJ/zSEESlWxpH
X-Received: by 2002:a05:6a21:e90:b0:1db:ec07:3436 with SMTP id
 adf61e73a8af0-1e0e0aa8f90mr6804066637.9.1732751291528; 
 Wed, 27 Nov 2024 15:48:11 -0800 (PST)
Received: from postal.iol.unh.edu (postal.iol.unh.edu.
 [2606:4100:3880:1234::84]) by smtp-relay.gmail.com with ESMTPS id
 41be03b00d2f7-7fc9c28ff6fsm4571a12.13.2024.11.27.15.48.11
 (version=TLS1_2 cipher=ECDHE-ECDSA-AES128-GCM-SHA256 bits=128/128);
 Wed, 27 Nov 2024 15:48:11 -0800 (PST)
X-Relaying-Domain: iol.unh.edu
Date: Wed, 27 Nov 2024 15:48:11 -0800 (PST)
Message-ID: <6747afbb.630a0220.be336.055dSMTPIN_ADDED_MISSING@mx.google.com>
Received: from [172.21.0.6] (unknown [172.18.0.240])
 by postal.iol.unh.edu (Postfix) with ESMTP id B18726052471;
 Wed, 27 Nov 2024 18:48:10 -0500 (EST)
Subject: |SUCCESS| pw148926 [PATCH] [v1,1/1] net/ixgbe: fix missing VF PCI ID
From: dpdklab@iol.unh.edu
To: Test Report <test-report@dpdk.org>
Cc: dpdk-test-reports@iol.unh.edu
In-Reply-To: <1c7487d2a77697d9edf1627f40fe539994714fc6.1732724174.git.anatoly.burakov@intel.com>
References: <1c7487d2a77697d9edf1627f40fe539994714fc6.1732724174.git.anatoly.burakov@intel.com>
Content-Type: text/plain
X-BeenThere: test-report@dpdk.org
X-Mailman-Version: 2.1.29
Precedence: list
List-Id: automatic DPDK test reports <test-report.dpdk.org>
List-Unsubscribe: <https://mails.dpdk.org/options/test-report>,
 <mailto:test-report-request@dpdk.org?subject=unsubscribe>
List-Archive: <http://mails.dpdk.org/archives/test-report/>
List-Post: <mailto:test-report@dpdk.org>
List-Help: <mailto:test-report-request@dpdk.org?subject=help>
List-Subscribe: <https://mails.dpdk.org/listinfo/test-report>,
 <mailto:test-report-request@dpdk.org?subject=subscribe>
Errors-To: test-report-bounces@dpdk.org

Test-Label: iol-compile-arm64-testing
Test-Status: SUCCESS
http://dpdk.org/patch/148926

_Testing PASS_

Submitter: Burakov, Anatoly <anatoly.burakov@intel.com>
Date: Wednesday, November 27 2024 16:16:17 
DPDK git baseline: Repo:dpdk
  Branch: master
  CommitID:ce85dd8562ad9673eb4fe46b4a8bd3a508e8b32f

148926 --> testing pass

Upstream job id: Generic-DPDK-Compile-Meson#338992

Test environment and result as below:

+----------------------------------------+--------------------+
|              Environment               | dpdk_meson_compile |
+========================================+====================+
| Debian 12 with MUSDK                   | PASS               |
+----------------------------------------+--------------------+
| Ubuntu 20.04 ARM SVE                   | PASS               |
+----------------------------------------+--------------------+
| Ubuntu 20.04 ARM GCC Cross Compile     | PASS               |
+----------------------------------------+--------------------+
| Ubuntu 20.04 (ARM)                     | PASS               |
+----------------------------------------+--------------------+
| Ubuntu 22.04 (ARM)                     | PASS               |
+----------------------------------------+--------------------+
| Fedora 40 (ARM)                        | PASS               |
+----------------------------------------+--------------------+
| Fedora 39 (ARM Clang)                  | PASS               |
+----------------------------------------+--------------------+
| Fedora 40 (ARM Clang)                  | PASS               |
+----------------------------------------+--------------------+
| Fedora 39 (ARM)                        | PASS               |
+----------------------------------------+--------------------+
| Ubuntu 24.04 (ARM)                     | PASS               |
+----------------------------------------+--------------------+
| CentOS Stream 9 (ARM)                  | PASS               |
+----------------------------------------+--------------------+
| Debian 12 (arm)                        | PASS               |
+----------------------------------------+--------------------+
| Ubuntu 20.04 ARM Clang Cross Compile   | PASS               |
+----------------------------------------+--------------------+
| Ubuntu 20.04 aarch32 GCC Cross Compile | PASS               |
+----------------------------------------+--------------------+
| RHEL9 (ARM)                            | PASS               |
+----------------------------------------+--------------------+


Debian 12 with MUSDK
	Kernel: Depends on container host
	Compiler: gcc (Debian 12.2.0-14) 12.2.0

Ubuntu 20.04 ARM SVE
	Kernel: Depends on container host
	Compiler: gcc (Ubuntu 10.5.0-1ubuntu1~20.04) 10.5.0

Ubuntu 20.04 ARM GCC Cross Compile
	Kernel: Depends on container host
	Compiler: aarch64-linux-gnu-gcc (Ubuntu 9.4.0-1ubuntu1~20.04.2) 9.4.0

Ubuntu 20.04 (ARM)
	Kernel: Depends on container host
	Compiler: gcc (Ubuntu 9.4.0-1ubuntu1~20.04.2) 9.4.0

Ubuntu 22.04 (ARM)
	Kernel: Depends on container host
	Compiler: gcc (Ubuntu 11.4.0-1ubuntu1~22.04) 11.4.0

Fedora 40 (ARM)
	Kernel: Depends on container host
	Compiler: gcc 14.2.1 20240801 (Red Hat 14.2.1-1)

Fedora 39 (ARM Clang)
	Kernel: Depends on container host
	Compiler: clang 17.0.6 (Fedora 17.0.6-2.fc39)

Fedora 40 (ARM Clang)
	Kernel: Depends on container host
	Compiler: clang 18.1.6 (Fedora 18.1.6-3.fc40)

Fedora 39 (ARM)
	Kernel: Depends on container host
	Compiler: gcc 13.3.1 20240522 (Red Hat 13.3.1-1)

Ubuntu 24.04 (ARM)
	Kernel: Depends on container host
	Compiler: gcc (Ubuntu 13.2.0-23ubuntu4) 13.2.0

CentOS Stream 9 (ARM)
	Kernel: Depends on container host
	Compiler: gcc 11.4.1 20231218 (Red Hat 11.4.1-3)

Debian 12 (arm)
	Kernel: Depends on container host
	Compiler: gcc (Debian 12.2.0-14) 12.2.0

Ubuntu 20.04 ARM Clang Cross Compile
	Kernel: Depends on container host
	Compiler: clang 10.0.0-4ubuntu1

Ubuntu 20.04 aarch32 GCC Cross Compile
	Kernel: Depends on container host
	Compiler: gcc 9.4.0

RHEL9 (ARM)
	Kernel: Depends on container host
	Compiler: gcc 11.4.1 20231218 (Red Hat 11.4.1-3)

To view detailed results, visit:
https://lab.dpdk.org/results/dashboard/patchsets/32045/

UNH-IOL DPDK Community Lab

To manage your email subscriptions, visit: 
https://lab.dpdk.org/results/dashboard/preferences/subscriptions/