From mboxrd@z Thu Jan  1 00:00:00 1970
Return-Path: <test-report-bounces@dpdk.org>
Received: from mails.dpdk.org (mails.dpdk.org [217.70.189.124])
	by inbox.dpdk.org (Postfix) with ESMTP id 9D66845D27
	for <public@inbox.dpdk.org>; Thu, 28 Nov 2024 01:23:16 +0100 (CET)
Received: from mails.dpdk.org (localhost [127.0.0.1])
	by mails.dpdk.org (Postfix) with ESMTP id 778854029C;
	Thu, 28 Nov 2024 01:23:16 +0100 (CET)
Received: from mail-oa1-f99.google.com (mail-oa1-f99.google.com
 [209.85.160.99]) by mails.dpdk.org (Postfix) with ESMTP id 8331440151
 for <test-report@dpdk.org>; Thu, 28 Nov 2024 01:23:14 +0100 (CET)
Received: by mail-oa1-f99.google.com with SMTP id
 586e51a60fabf-29afb4ab611so197082fac.3
 for <test-report@dpdk.org>; Wed, 27 Nov 2024 16:23:14 -0800 (PST)
DKIM-Signature: v=1; a=rsa-sha256; c=relaxed/relaxed;
 d=iol.unh.edu; s=unh-iol; t=1732753393; x=1733358193; darn=dpdk.org;
 h=references:in-reply-to:cc:to:from:subject:message-id:date:from:to
 :cc:subject:date:message-id:reply-to;
 bh=O9oKkBtIa6wp4Nj9/CLOzTzRJBb+IWledKgVolHRWzw=;
 b=BdvNJ2hg4mKAtnebafXmWF8xXL0ViMjTDOSmnuovzV7vNCa1mYjiyGNd7PMWlZ4S+g
 t+0l2BDO6x/EEVk0OC0kwLYD376+JwJRm1n9KBV/XZx6F40SCLyJuwLnrSmH6MBCQPJ9
 VlmshclA0G0L7J5ECmupCBzS09BDwD3unpLPA=
X-Google-DKIM-Signature: v=1; a=rsa-sha256; c=relaxed/relaxed;
 d=1e100.net; s=20230601; t=1732753393; x=1733358193;
 h=references:in-reply-to:cc:to:from:subject:message-id:date
 :x-gm-message-state:from:to:cc:subject:date:message-id:reply-to;
 bh=O9oKkBtIa6wp4Nj9/CLOzTzRJBb+IWledKgVolHRWzw=;
 b=JM4ze/FN29Ie6LEFkwPPzqtOxI9Y6jV1sZa1uuMdH+Y6+1GbGkX9ZDOdnRzAe8QMy/
 H2VIZEDWZiAvdlxOsL0Cdxkayh0zTgv2tbIQZxwH8hfiKfFXHW7hgBOyKE42ZGcrkFY3
 9euF+rskhZLQN3zDCFGKTo8Vsz8tQnSwKNgzYDRM1n0YhG28NTXizl11v7mfFqy05SaO
 b23LEdIJvrbrVXsgjUe0SusdWJ8a9zHERUJQjYKlC+N6ePB9ElPWWQU2iuWmhnKOfUzl
 eIJSFG8xFy5LoIqIsbMhMaRBZeTJujlDwU6NRpUGNsb7gwllcC7utZ/Hm3C1NkWaejbV
 nKjw==
X-Gm-Message-State: AOJu0YwcQIL3q4LcqiJsfu/cVqejbxGZq2BQ2241sY9fsFFv5Xfrax6A
 19U05erMNf6GS2moqRxSQKxqhYTS7QSiF3FklXum/JrBawvcJOS3J2ejvG3BuiH8sMcdwP4gvs0
 XX8C7UjBUCemtnT1KU8EaN3alBalCYaOc/zQTtAOs
X-Gm-Gg: ASbGncsd3kRxJPNv2Oa1IbZ/9DNiaktS1p/IU1319iYsflucoGHQ1lSD40qJGtml/xy
 1nm+tDUuQ2U9IPlWht8ldtpE12E2WQ3c+ku+PfMUjQayHU7rjiS1lTut8+mwf5LqvIahVk1W+Bm
 EVKCfOoa/Myj+cNxjqFSe3qo1K6XzHSi9acmBpG9pdVUgrUxWuIs/HqlS23aaT21RCXfQN9L+lN
 KZO8qxHHvS+jLFBW4CATZV4J709zbiPpsQWCmlSqvpXOPEicLZN3G/wk5Cv2PSnhXk/lGo=
X-Google-Smtp-Source: AGHT+IH4JzvBbcVb7IImZ1DjlIqVPTKp9moj4AyiJ2UA8JUTeTAn43+qpkbYhWvwor9NilolS1GQNFsW9hzf
X-Received: by 2002:a05:6871:6e06:b0:29d:c832:8402 with SMTP id
 586e51a60fabf-29dc832e6bbmr2822957fac.41.1732753393682; 
 Wed, 27 Nov 2024 16:23:13 -0800 (PST)
Received: from postal.iol.unh.edu (postal.iol.unh.edu. [132.177.123.84])
 by smtp-relay.gmail.com with ESMTPS id
 586e51a60fabf-29de945ae0csm14603fac.9.2024.11.27.16.23.13
 (version=TLS1_2 cipher=ECDHE-ECDSA-AES128-GCM-SHA256 bits=128/128);
 Wed, 27 Nov 2024 16:23:13 -0800 (PST)
X-Relaying-Domain: iol.unh.edu
Date: Wed, 27 Nov 2024 16:23:13 -0800 (PST)
Message-ID: <6747b7f1.050a0220.338df3.105dSMTPIN_ADDED_MISSING@mx.google.com>
Received: from [172.21.0.6] (unknown [172.18.0.240])
 by postal.iol.unh.edu (Postfix) with ESMTP id 41B676052471;
 Wed, 27 Nov 2024 19:23:13 -0500 (EST)
Subject: |SUCCESS| pw148930-148931 [PATCH] [2/2] app/test: add test_init_m128
From: dpdklab@iol.unh.edu
To: Test Report <test-report@dpdk.org>
Cc: dpdk-test-reports@iol.unh.edu
In-Reply-To: <1732748278-14796-2-git-send-email-andremue@linux.microsoft.com>
References: <1732748278-14796-2-git-send-email-andremue@linux.microsoft.com>
Content-Type: text/plain
X-BeenThere: test-report@dpdk.org
X-Mailman-Version: 2.1.29
Precedence: list
List-Id: automatic DPDK test reports <test-report.dpdk.org>
List-Unsubscribe: <https://mails.dpdk.org/options/test-report>,
 <mailto:test-report-request@dpdk.org?subject=unsubscribe>
List-Archive: <http://mails.dpdk.org/archives/test-report/>
List-Post: <mailto:test-report@dpdk.org>
List-Help: <mailto:test-report-request@dpdk.org?subject=help>
List-Subscribe: <https://mails.dpdk.org/listinfo/test-report>,
 <mailto:test-report-request@dpdk.org?subject=subscribe>
Errors-To: test-report-bounces@dpdk.org

Test-Label: iol-sample-apps-testing
Test-Status: SUCCESS
http://dpdk.org/patch/148931

_Testing PASS_

Submitter: Andre Muezerie <andremue@linux.microsoft.com>
Date: Wednesday, November 27 2024 22:57:58 
DPDK git baseline: Repo:dpdk
  Branch: master
  CommitID:4843aacb0d1201fef37e8a579fcd8baec4acdf98

148930-148931 --> testing pass

Upstream job id: ACVP-FIPS-testing#8147

Test environment and result as below:

+--------------------+----------------------+----------------------+
|    Environment     | compressdev_zlib_pmd | dpdk_fips_validation |
+====================+======================+======================+
| Ubuntu 22.04 (ARM) | PASS                 | SKIPPED              |
+--------------------+----------------------+----------------------+
| Ubuntu 22.04       | PASS                 | SKIPPED              |
+--------------------+----------------------+----------------------+
| Ubuntu 20.04       | SKIPPED              | PASS                 |
+--------------------+----------------------+----------------------+


Ubuntu 22.04 (ARM)
	Kernel: 5.15.0-97-generic
	Compiler: gcc gcc (Ubuntu 11.4.0-1ubuntu1~22.04) 11.4.0

Ubuntu 22.04
	Kernel: 5.15.0-100-generic
	Compiler: gcc gcc (Ubuntu 11.4.0-1ubuntu1~22.04) 11.4.0

Ubuntu 20.04
	Kernel: Depends on container host
	Compiler: gcc (Ubuntu 9.4.0-1ubuntu1~20.04.2) 9.4.0

To view detailed results, visit:
https://lab.dpdk.org/results/dashboard/patchsets/32048/

UNH-IOL DPDK Community Lab

To manage your email subscriptions, visit: 
https://lab.dpdk.org/results/dashboard/preferences/subscriptions/