From mboxrd@z Thu Jan  1 00:00:00 1970
Return-Path: <test-report-bounces@dpdk.org>
Received: from mails.dpdk.org (mails.dpdk.org [217.70.189.124])
	by inbox.dpdk.org (Postfix) with ESMTP id 7DFE745DBF
	for <public@inbox.dpdk.org>; Thu, 28 Nov 2024 08:47:30 +0100 (CET)
Received: from mails.dpdk.org (localhost [127.0.0.1])
	by mails.dpdk.org (Postfix) with ESMTP id 5BDF74066D;
	Thu, 28 Nov 2024 08:47:30 +0100 (CET)
Received: from mail-io1-f98.google.com (mail-io1-f98.google.com
 [209.85.166.98]) by mails.dpdk.org (Postfix) with ESMTP id F0045402EB
 for <test-report@dpdk.org>; Thu, 28 Nov 2024 08:47:28 +0100 (CET)
Received: by mail-io1-f98.google.com with SMTP id
 ca18e2360f4ac-843e546c7f0so17434039f.1
 for <test-report@dpdk.org>; Wed, 27 Nov 2024 23:47:28 -0800 (PST)
DKIM-Signature: v=1; a=rsa-sha256; c=relaxed/relaxed;
 d=iol.unh.edu; s=unh-iol; t=1732780048; x=1733384848; darn=dpdk.org;
 h=cc:to:from:subject:message-id:date:from:to:cc:subject:date
 :message-id:reply-to;
 bh=91jyMeHLFAVIK28uusyyBuX5rGXWOAr71Eaf6WUtyXE=;
 b=iWmTWilp6i8z4uPao9Zy8i2hpaPL0ZVwyh4MUnm3LdZ6XV+zRTxx4dvPjwgf5U/rgM
 BxZJGcql2FU/EdvGgL8wj13P9pY6p3jRHvGLgHGXFeO77Fv2/gt6v+Lk+iqlX3vikLYq
 j+J4o7UMCN4UBACVf063S/Vc39pbV+nSX2uS0=
X-Google-DKIM-Signature: v=1; a=rsa-sha256; c=relaxed/relaxed;
 d=1e100.net; s=20230601; t=1732780048; x=1733384848;
 h=cc:to:from:subject:message-id:date:x-gm-message-state:from:to:cc
 :subject:date:message-id:reply-to;
 bh=91jyMeHLFAVIK28uusyyBuX5rGXWOAr71Eaf6WUtyXE=;
 b=ME9rpq0p7NvmJUvbKsy3bMuwl94MMjlY6W8QftZNJecQ0rS65DXp9dhlFbRuG3DCHx
 Frp/uKZrjru69uqE+Js/kug4a5fEKWWEz1kheNLSkn76GZp2SvXYzBwE+EmS1JkkQnsX
 oms+eXZMUmLPPmGeIV5lua2lmUG6HcDZv381cX0LIKKfO6ymtENBGfyrpAFPmFmMGu5l
 nSN1yi74dwAWrsI9s+9TU1gxk29LKOZlDyfVba6x0Rdz4JRN6Vb3g1/QyTNUBqabDiPB
 4B2K8bmMtV/wGBezFZCyw6xD0yx1Q0vxZru/2ke0q22VnXYlULaoNPSwjA5Dxsx1XAHp
 cvPg==
X-Gm-Message-State: AOJu0YzlXH0L3JepaTPGFJNL9nn8bHevPf3AW4/0xztD73EzkS0Y4VCh
 AcmBR+jL4UvoZqRVa0OAAun8sp4WPwJDgVkerfoyz3+IGlEbFnarBYalGDyScduKNusPdXgD+xh
 RFNmrvxeSGyfKUgnqq0W5O1YoqKo2DdUf
X-Gm-Gg: ASbGncvbHYO5tSbnl844FIhnjN250Ymmwj72haZ5WaRuM+kOmncGLLPOp5brXhye3AE
 5lRGQR3MrEVZxgjkGQ4Sj+hpeHqfi2D6TeW7IM/gXj8XxjSXxD/OpTyVX8cLtCcpsmVerPOBEUW
 PXfYoeM5UEgN0P5lq2rQOLRFfVF0gsElk0RTPvOjJ5c5P5zkIDc6xk8M6EOEpnI7MRZM+x4AWgc
 NqBJQqmMmy5r3rncEj240CklBAQJs3Hh+3D0yXk6AKYH9hdmmKOVUDuLxoS4J5juyQomiU=
X-Google-Smtp-Source: AGHT+IH0WIYHzDU4YNkiDGFRYcqWRV2SKXzpzdYeB1Wv/1wg2moZ4lgb+kJ4pK1HWn0tMe6eMV7UmSQUKfCh
X-Received: by 2002:a05:6602:340b:b0:841:950b:3871 with SMTP id
 ca18e2360f4ac-843ecfd398emr803361539f.4.1732780048308; 
 Wed, 27 Nov 2024 23:47:28 -0800 (PST)
Received: from postal.iol.unh.edu (postal.iol.unh.edu. [132.177.123.84])
 by smtp-relay.gmail.com with ESMTPS id
 8926c6da1cb9f-4e230e7826fsm33429173.53.2024.11.27.23.47.28
 (version=TLS1_2 cipher=ECDHE-ECDSA-AES128-GCM-SHA256 bits=128/128);
 Wed, 27 Nov 2024 23:47:28 -0800 (PST)
X-Relaying-Domain: iol.unh.edu
Date: Wed, 27 Nov 2024 23:47:28 -0800 (PST)
Message-ID: <67482010.050a0220.1bd176.32adSMTPIN_ADDED_MISSING@mx.google.com>
Received: from [172.21.0.5] (unknown [172.18.0.240])
 by postal.iol.unh.edu (Postfix) with ESMTP id C14086052471;
 Thu, 28 Nov 2024 02:47:27 -0500 (EST)
Subject: |SUCCESS| [GIT MASTER] e8eb14e00d56027bef8569d68cf00e39670edca2
From: dpdklab@iol.unh.edu
To: Test Report <test-report@dpdk.org>
Cc: dpdk-test-reports@iol.unh.edu, Xueming Li <xuemingl@nvidia.com>,
 Christian Ehrhardt <christian.ehrhardt@canonical.com>,
 Kevin Traynor <ktraynor@redhat.com>, Luca Boccassi <bluca@debian.org>
Content-Type: text/plain
X-BeenThere: test-report@dpdk.org
X-Mailman-Version: 2.1.29
Precedence: list
List-Id: automatic DPDK test reports <test-report.dpdk.org>
List-Unsubscribe: <https://mails.dpdk.org/options/test-report>,
 <mailto:test-report-request@dpdk.org?subject=unsubscribe>
List-Archive: <http://mails.dpdk.org/archives/test-report/>
List-Post: <mailto:test-report@dpdk.org>
List-Help: <mailto:test-report-request@dpdk.org?subject=help>
List-Subscribe: <https://mails.dpdk.org/listinfo/test-report>,
 <mailto:test-report-request@dpdk.org?subject=subscribe>
Errors-To: test-report-bounces@dpdk.org

_Testing PASS_

Branch: tags/v23.11

e8eb14e00d56027bef8569d68cf00e39670edca2 --> testing pass

Upstream job id: Generic-Unit-Test-DPDK#295955

Test environment and result as below:

+---------------------+----------------+
|     Environment     | dpdk_unit_test |
+=====================+================+
| CentOS Stream 9     | PASS           |
+---------------------+----------------+
| RHEL8               | PASS           |
+---------------------+----------------+
| Fedora 40           | PASS           |
+---------------------+----------------+
| Fedora 39 (Clang)   | PASS           |
+---------------------+----------------+
| Fedora 39           | PASS           |
+---------------------+----------------+
| Fedora 40 (Clang)   | PASS           |
+---------------------+----------------+
| Debian 12           | PASS           |
+---------------------+----------------+
| RHEL9               | PASS           |
+---------------------+----------------+
| Ubuntu 20.04        | PASS           |
+---------------------+----------------+
| Ubuntu 24.04        | PASS           |
+---------------------+----------------+
| Ubuntu 22.04        | PASS           |
+---------------------+----------------+
| Windows Server 2022 | PASS           |
+---------------------+----------------+


CentOS Stream 9
	Kernel: Depends on container host
	Compiler: gcc 11.4.1 20231218 (Red Hat 11.4.1-3)

RHEL8
	Kernel: Depends on container host
	Compiler: gcc 8.5.0 20210514 (Red Hat 8.5.0-22)

Fedora 40
	Kernel: Depends on container host
	Compiler: gcc 14.2.1 20240801 (Red Hat 14.2.1-1)

Fedora 39 (Clang)
	Kernel: Depends on container host
	Compiler: clang 17.0.6 (Fedora 17.0.6-2.fc39)

Fedora 39
	Kernel: Depends on container host
	Compiler: gcc 13.3.1 20240522 (Red Hat 13.3.1-1)

Fedora 40 (Clang)
	Kernel: Depends on container host
	Compiler: clang 18.1.6 (Fedora 18.1.6-3.fc40)

Debian 12
	Kernel: Depends on container host
	Compiler: gcc (Debian 12.2.0-14) 12.2.0

RHEL9
	Kernel: Depends on container host
	Compiler: gcc 11.4.1 20231218 (Red Hat 11.4.1-3)

Ubuntu 20.04
	Kernel: Depends on container host
	Compiler: gcc (Ubuntu 9.4.0-1ubuntu1~20.04.2) 9.4.0

Ubuntu 24.04
	Kernel: Depends on container host
	Compiler: gcc (Ubuntu 13.2.0-23ubuntu4) 13.2.0

Ubuntu 22.04
	Kernel: Depends on container host
	Compiler: gcc (Ubuntu 11.4.0-1ubuntu1~22.04) 11.4.0

Windows Server 2022
	Kernel: 10.0.20348.2031
	Compiler: clang 15.0.7, gcc 14.1.0 (MinGW), and MSVC VS 19.39.33521

To view detailed results, visit:
https://lab.dpdk.org/results/dashboard/tarballs/31766/

UNH-IOL DPDK Community Lab

To manage your email subscriptions, visit: 
https://lab.dpdk.org/results/dashboard/preferences/subscriptions/