From mboxrd@z Thu Jan  1 00:00:00 1970
Return-Path: <test-report-bounces@dpdk.org>
Received: from mails.dpdk.org (mails.dpdk.org [217.70.189.124])
	by inbox.dpdk.org (Postfix) with ESMTP id CA00A45DD1
	for <public@inbox.dpdk.org>; Fri, 29 Nov 2024 23:35:29 +0100 (CET)
Received: from mails.dpdk.org (localhost [127.0.0.1])
	by mails.dpdk.org (Postfix) with ESMTP id B6FB94027D;
	Fri, 29 Nov 2024 23:35:29 +0100 (CET)
Received: from mail-vk1-f226.google.com (mail-vk1-f226.google.com
 [209.85.221.226])
 by mails.dpdk.org (Postfix) with ESMTP id AE5D040150
 for <test-report@dpdk.org>; Fri, 29 Nov 2024 23:35:28 +0100 (CET)
Received: by mail-vk1-f226.google.com with SMTP id
 71dfb90a1353d-5148381f2a4so477331e0c.2
 for <test-report@dpdk.org>; Fri, 29 Nov 2024 14:35:28 -0800 (PST)
DKIM-Signature: v=1; a=rsa-sha256; c=relaxed/relaxed;
 d=iol.unh.edu; s=unh-iol; t=1732919728; x=1733524528; darn=dpdk.org;
 h=references:in-reply-to:cc:to:from:subject:message-id:date:from:to
 :cc:subject:date:message-id:reply-to;
 bh=sK1D4C3yjHdNdzSRML5Az/qd5EqWXi/X+XkP6oZ78KI=;
 b=Cbj0JtwfKhyIvUm1HD5fxMZPzAI9jlmgVpfe5YjZ4/8VPNfz+1sfBRmzLpCzzvjFmj
 yCAYMFHIUCkNY5okyoHkG5bLlxrf7VchBu+ePV0fcv4cVMPamC0+eFY8kBjeXuTPAdUc
 5TB9GCPEElgzqtJkACsehaYLPxhffCuO2qPAU=
X-Google-DKIM-Signature: v=1; a=rsa-sha256; c=relaxed/relaxed;
 d=1e100.net; s=20230601; t=1732919728; x=1733524528;
 h=references:in-reply-to:cc:to:from:subject:message-id:date
 :x-gm-message-state:from:to:cc:subject:date:message-id:reply-to;
 bh=sK1D4C3yjHdNdzSRML5Az/qd5EqWXi/X+XkP6oZ78KI=;
 b=uyZfwnbq3h/k9el85KQfbn/zbbvS82WNKw1eFeBsLkQ3U161vacYpr8d1/AXzY+64Y
 SZzXtoi0gTb/WTbn+rHcL2Cigiv2GqbQw+Uq68YSeWRcFAWvPIZRmU+lz0g9ZxNo9eLc
 1ILHY6CAGpKUtRwjDO1p2gbH2hbVlImdk7m9s6sED/wi6t//dHTzZMwJjIF2KLOBXv/Q
 qwHHl1/hiKE6UfLxYetQ+cYNjL8XigDFcPR4iaBR1SH1wlem0rZbJ5nDzVcjp44spDmg
 T2RtSCV70GnW3B10kyHjgp2x4Xi/GC6X9FO3/AcRhn+FCKGxL+BHlQA6d5La6DH+arUh
 KOEw==
X-Gm-Message-State: AOJu0YxFz5YrzMAEC5fJc3NNQTWY8mTClHW6HTY11J85M8UWSTHyiZY8
 QCOxlzDoUYV09khKClnjMXG+NRYh/9a3pk9xfLlWAKbCX8htrVK/8A3czRkdcHiHCFjYwvCHh4K
 MSnhMefU4uPDwm2I1Wer8kNQcdDADNy4Pkzi5jTSj
X-Gm-Gg: ASbGncsdMJnAHqAuscQwLC4XFcwrXtiH/IXrqR6OBTJzZU2y6zLznGviD1qcPy6i1i+
 icbwIaQRI7Ob5YmugU3fjKt5ltebkH9PjMYvnJ0TcQyY+zXgKZ2KjcagaEwFvbWISKc89MADKaT
 HSdnS8SZMIJkyPhAseyR8rTf+2Z7+jvQwLLTS8zMRcdzu5UKdeIjjhGaF0oFb14URekt9xE8fqr
 CSImZtIaF+sZgxmttsGxdCEpq/KRHRJCsppzGcm4TOWfyzxON64p3LackLY8aI5JIRTcAs=
X-Google-Smtp-Source: AGHT+IH6ToJZAYDffTkpzWTPLfO8SbLvpU9tELs/Z+MohuQUp0FO92nAfPOqTeq4LfycQQXvu8xXXBJs2T+G
X-Received: by 2002:a05:6122:1d12:b0:4fc:e3c2:2c71 with SMTP id
 71dfb90a1353d-515569aa3eamr16397951e0c.2.1732919727987; 
 Fri, 29 Nov 2024 14:35:27 -0800 (PST)
Received: from postal.iol.unh.edu (postal.iol.unh.edu. [132.177.123.84])
 by smtp-relay.gmail.com with ESMTPS id
 71dfb90a1353d-5156d0bf24csm114686e0c.9.2024.11.29.14.35.27
 (version=TLS1_2 cipher=ECDHE-ECDSA-AES128-GCM-SHA256 bits=128/128);
 Fri, 29 Nov 2024 14:35:27 -0800 (PST)
X-Relaying-Domain: iol.unh.edu
Date: Fri, 29 Nov 2024 14:35:27 -0800 (PST)
Message-ID: <674a41af.050a0220.3306e2.690eSMTPIN_ADDED_MISSING@mx.google.com>
Received: from [172.17.0.3] (unknown [172.18.0.217])
 by postal.iol.unh.edu (Postfix) with ESMTP id 992696052471;
 Fri, 29 Nov 2024 17:35:27 -0500 (EST)
Subject: |WARNING| pw148940 [PATCH] power/amd_uncore: add e-smi installation 
From: dpdklab@iol.unh.edu
To: Test Report <test-report@dpdk.org>
Cc: dpdk-test-reports@iol.unh.edu
In-Reply-To: <20241129043207.999912-1-sivaprasad.tummala@amd.com>
References: <20241129043207.999912-1-sivaprasad.tummala@amd.com>
Content-Type: text/plain
X-BeenThere: test-report@dpdk.org
X-Mailman-Version: 2.1.29
Precedence: list
List-Id: automatic DPDK test reports <test-report.dpdk.org>
List-Unsubscribe: <https://mails.dpdk.org/options/test-report>,
 <mailto:test-report-request@dpdk.org?subject=unsubscribe>
List-Archive: <http://mails.dpdk.org/archives/test-report/>
List-Post: <mailto:test-report@dpdk.org>
List-Help: <mailto:test-report-request@dpdk.org?subject=help>
List-Subscribe: <https://mails.dpdk.org/listinfo/test-report>,
 <mailto:test-report-request@dpdk.org?subject=subscribe>
Errors-To: test-report-bounces@dpdk.org

Test-Label: iol-compile-amd64-testing
Test-Status: WARNING
http://dpdk.org/patch/148940

_Testing issues_

Submitter: Sivaprasad Tummala <Sivaprasad.Tummala@amd.com>
Date: Friday, November 29 2024 04:32:07 
DPDK git baseline: Repo:dpdk
  Branch: master
  CommitID:c0f5a9dd74f41688660e4ef84487a175ee44a54a

148940 --> testing issues

Upstream job id: Generic-DPDK-Compile-Meson#339551

Test environment and result as below:

+-------------------+--------------------+------------------+-------------------+
|    Environment    | dpdk_meson_compile | dpdk_compile_ovs | dpdk_compile_spdk |
+===================+====================+==================+===================+
| CentOS Stream 9   | PASS               | PASS             | PASS              |
+-------------------+--------------------+------------------+-------------------+
| Debian 12         | PASS               | PASS             | PASS              |
+-------------------+--------------------+------------------+-------------------+
| Fedora 39 (Clang) | PASS               | PASS             | PASS              |
+-------------------+--------------------+------------------+-------------------+
| Fedora 39         | PASS               | PASS             | PASS              |
+-------------------+--------------------+------------------+-------------------+
| Fedora 40 (Clang) | PASS               | PASS             | PASS              |
+-------------------+--------------------+------------------+-------------------+
| Fedora 40         | PASS               | PASS             | PASS              |
+-------------------+--------------------+------------------+-------------------+
| openSUSE Leap 15  | PASS               | PASS             | SKIPPED           |
+-------------------+--------------------+------------------+-------------------+
| RHEL8             | PASS               | PASS             | SKIPPED           |
+-------------------+--------------------+------------------+-------------------+
| RHEL9             | PASS               | PASS             | SKIPPED           |
+-------------------+--------------------+------------------+-------------------+
| Ubuntu 20.04      | PASS               | WARN             | SKIPPED           |
+-------------------+--------------------+------------------+-------------------+
| Ubuntu 22.04      | PASS               | PASS             | PASS              |
+-------------------+--------------------+------------------+-------------------+
| Ubuntu 24.04      | PASS               | PASS             | PASS              |
+-------------------+--------------------+------------------+-------------------+
| Alpine            | PASS               | PASS             | SKIPPED           |
+-------------------+--------------------+------------------+-------------------+
| FreeBSD 14.1      | PASS               | SKIPPED          | SKIPPED           |
+-------------------+--------------------+------------------+-------------------+
| FreeBSD 13.4      | PASS               | SKIPPED          | SKIPPED           |
+-------------------+--------------------+------------------+-------------------+

==== 20 line log output for Ubuntu 20.04 (dpdk_compile_ovs): ====
 --- Failed to get log output --- 
==== End log output ====

CentOS Stream 9
	Kernel: Depends on container host
	Compiler: gcc 11.4.1 20231218 (Red Hat 11.4.1-3)

Debian 12
	Kernel: Depends on container host
	Compiler: gcc (Debian 12.2.0-14) 12.2.0

Fedora 39 (Clang)
	Kernel: Depends on container host
	Compiler: clang 17.0.6 (Fedora 17.0.6-2.fc39)

Fedora 39
	Kernel: Depends on container host
	Compiler: gcc 13.3.1 20240522 (Red Hat 13.3.1-1)

Fedora 40 (Clang)
	Kernel: Depends on container host
	Compiler: clang 18.1.6 (Fedora 18.1.6-3.fc40)

Fedora 40
	Kernel: Depends on container host
	Compiler: gcc 14.2.1 20240801 (Red Hat 14.2.1-1)

openSUSE Leap 15
	Kernel: Depends on container host
	Compiler: gcc (SUSE Linux) 7.5.0

RHEL8
	Kernel: Depends on container host
	Compiler: gcc 8.5.0 20210514 (Red Hat 8.5.0-22)

RHEL9
	Kernel: Depends on container host
	Compiler: gcc 11.4.1 20231218 (Red Hat 11.4.1-3)

Ubuntu 20.04
	Kernel: Depends on container host
	Compiler: gcc (Ubuntu 9.4.0-1ubuntu1~20.04.2) 9.4.0

Ubuntu 22.04
	Kernel: Depends on container host
	Compiler: gcc (Ubuntu 11.4.0-1ubuntu1~22.04) 11.4.0

Ubuntu 24.04
	Kernel: Depends on container host
	Compiler: gcc (Ubuntu 13.2.0-23ubuntu4) 13.2.0

Alpine
	Kernel: Depends on container host
	Compiler: gcc (Alpine 13.2.1_git20240309) 13.2.1 20240309

FreeBSD 14.1
	Kernel: 14.1-RELEASE-p3
	Compiler: clang 18.1.5

FreeBSD 13.4
	Kernel: 13.4-RELEASE-p1
	Compiler: clang 18.1.6

To view detailed results, visit:
https://lab.dpdk.org/results/dashboard/patchsets/32055/

UNH-IOL DPDK Community Lab

To manage your email subscriptions, visit: 
https://lab.dpdk.org/results/dashboard/preferences/subscriptions/