From mboxrd@z Thu Jan  1 00:00:00 1970
Return-Path: <test-report-bounces@dpdk.org>
Received: from mails.dpdk.org (mails.dpdk.org [217.70.189.124])
	by inbox.dpdk.org (Postfix) with ESMTP id 6936345DD1
	for <public@inbox.dpdk.org>; Sat, 30 Nov 2024 00:46:47 +0100 (CET)
Received: from mails.dpdk.org (localhost [127.0.0.1])
	by mails.dpdk.org (Postfix) with ESMTP id 4F6404027D;
	Sat, 30 Nov 2024 00:46:47 +0100 (CET)
Received: from mail-yw1-f225.google.com (mail-yw1-f225.google.com
 [209.85.128.225])
 by mails.dpdk.org (Postfix) with ESMTP id 306AD40150
 for <test-report@dpdk.org>; Sat, 30 Nov 2024 00:46:46 +0100 (CET)
Received: by mail-yw1-f225.google.com with SMTP id
 00721157ae682-6ef0c64d75cso26375477b3.2
 for <test-report@dpdk.org>; Fri, 29 Nov 2024 15:46:46 -0800 (PST)
DKIM-Signature: v=1; a=rsa-sha256; c=relaxed/relaxed;
 d=iol.unh.edu; s=unh-iol; t=1732924005; x=1733528805; darn=dpdk.org;
 h=references:in-reply-to:cc:to:from:subject:message-id:date:from:to
 :cc:subject:date:message-id:reply-to;
 bh=6BmT2eG1UYoI1rq1mH/+z6nuJZw0vpRJswbCqZnlXOo=;
 b=ObDbIwHdma9gA5yFM8imO9rA+Og916yEzQdAy2XT69K7MpIVTW+BF7XfT68r2wGcwp
 ch4y6AfpuZQrLbZyObgUBwZzGWYxuLuQBIWpDPElSN8tJDZ4pZm9HddQcn8/j1GQaNsN
 TV2GjUmgJqcwuPzmxvE31oObL9r2CdY0ZweGw=
X-Google-DKIM-Signature: v=1; a=rsa-sha256; c=relaxed/relaxed;
 d=1e100.net; s=20230601; t=1732924005; x=1733528805;
 h=references:in-reply-to:cc:to:from:subject:message-id:date
 :x-gm-message-state:from:to:cc:subject:date:message-id:reply-to;
 bh=6BmT2eG1UYoI1rq1mH/+z6nuJZw0vpRJswbCqZnlXOo=;
 b=PIsK3ukLUSioAcsykRmesOvabU3h990e60h58rfYDlWvlKXiFDFpbTSneY4rg9NAmR
 7tJWQFsdS41BXPVXprZA2OyD3rYrq+7TYjoy++h3AcY2rIr6yvYf4k/rHXkzNsMyFWLK
 3VY3iw7xX9M/4WuaUXB82R4Z9C4V7dplKSxeQdKGg8V47O24+1teqKu7gOrSajBxTCMI
 O7+W4OyxBA+2cpHjl2qPY5dpAlV8kyouMAhTfjS5u08eFJRX4/t58+zSSxVbiA/pucvC
 gG3XDIdNDONPRov+H/v7noyaC9p9BcAkEvk+8lbaiPxOCFqC5Y7L9GQLhx1/OMsB2xzr
 mNWg==
X-Gm-Message-State: AOJu0Yy0vAXZCz2psCyM1u3tl4oE01a1YzNfVdyzPkeRiXyxXFkuZBCl
 sFOO85SEG3ibrEdNxYLf6aDUickKXIcCDPwXTACAZrrtEZiOMPXfj2lPsVdiQczgO2FlE46MEL8
 NhWtNp3I0g6yevfrbqiOtmMG3NRDQzpmumnItOkZk
X-Gm-Gg: ASbGncsNXxCgIAzt6Aaz3jNXvfR8RtSR2znZgfU9ib/cUEQfurc95yzxz+tzraXrEnV
 K4rkZ4HDCQ6vUQ14OEQP4GI0rjk0NaKYUfaZJv+sngAzEzd7dazZCG9kbSbWb3QM13GJmtHiB3k
 JIRFjcM/78RByQjQeWf2ckV+CC5/eaYdSYIdQSQ41RLL16omG3BeWMF0FoXtWqUbaw13LKTWFsD
 DDJtDZjEXWQ32+OBQPjTu//5PiPSiImxcX2+AbX2W+ZIOibqsMLJxcc6wipWDHTVq+rUhs=
X-Google-Smtp-Source: AGHT+IGlwCkXx90HKzrKJRAU8d6GW/vUh8E8rmNVfLLyALcjqS5SrDZY/ASgwn2yLvt0Rr142YpUtYV50e+4
X-Received: by 2002:a05:690c:d1f:b0:6ee:a81f:1264 with SMTP id
 00721157ae682-6ef37279303mr171232087b3.26.1732924005550; 
 Fri, 29 Nov 2024 15:46:45 -0800 (PST)
Received: from postal.iol.unh.edu (postal.iol.unh.edu. [132.177.123.84])
 by smtp-relay.gmail.com with ESMTPS id
 00721157ae682-6ef4db31432sm2070997b3.9.2024.11.29.15.46.45
 (version=TLS1_2 cipher=ECDHE-ECDSA-AES128-GCM-SHA256 bits=128/128);
 Fri, 29 Nov 2024 15:46:45 -0800 (PST)
X-Relaying-Domain: iol.unh.edu
Date: Fri, 29 Nov 2024 15:46:45 -0800 (PST)
Message-ID: <674a5265.810a0220.3898f4.cdcfSMTPIN_ADDED_MISSING@mx.google.com>
Received: from [172.17.0.3] (unknown [172.18.0.217])
 by postal.iol.unh.edu (Postfix) with ESMTP id 30C026052471;
 Fri, 29 Nov 2024 18:46:45 -0500 (EST)
Subject: |WARNING| pw148940 [PATCH] power/amd_uncore: add e-smi installation 
From: dpdklab@iol.unh.edu
To: Test Report <test-report@dpdk.org>
Cc: dpdk-test-reports@iol.unh.edu
In-Reply-To: <20241129043207.999912-1-sivaprasad.tummala@amd.com>
References: <20241129043207.999912-1-sivaprasad.tummala@amd.com>
Content-Type: text/plain
X-BeenThere: test-report@dpdk.org
X-Mailman-Version: 2.1.29
Precedence: list
List-Id: automatic DPDK test reports <test-report.dpdk.org>
List-Unsubscribe: <https://mails.dpdk.org/options/test-report>,
 <mailto:test-report-request@dpdk.org?subject=unsubscribe>
List-Archive: <http://mails.dpdk.org/archives/test-report/>
List-Post: <mailto:test-report@dpdk.org>
List-Help: <mailto:test-report-request@dpdk.org?subject=help>
List-Subscribe: <https://mails.dpdk.org/listinfo/test-report>,
 <mailto:test-report-request@dpdk.org?subject=subscribe>
Errors-To: test-report-bounces@dpdk.org

Test-Label: iol-compile-amd64-testing
Test-Status: WARNING
http://dpdk.org/patch/148940

_Testing issues_

Submitter: Sivaprasad Tummala <Sivaprasad.Tummala@amd.com>
Date: Friday, November 29 2024 04:32:07 
DPDK git baseline: Repo:dpdk
  Branch: master
  CommitID:c0f5a9dd74f41688660e4ef84487a175ee44a54a

148940 --> testing issues

Upstream job id: Windows-Compile-DPDK-Native#25051

Test environment and result as below:

+---------------------+--------------------+------------------+-------------------+-------------------+-----------------------+
|     Environment     | dpdk_meson_compile | dpdk_compile_ovs | dpdk_compile_spdk | dpdk_msvc_compile | dpdk_win_llvm_compile |
+=====================+====================+==================+===================+===================+=======================+
| CentOS Stream 9     | PASS               | PASS             | PASS              | SKIPPED           | SKIPPED               |
+---------------------+--------------------+------------------+-------------------+-------------------+-----------------------+
| Debian 12           | PASS               | PASS             | PASS              | SKIPPED           | SKIPPED               |
+---------------------+--------------------+------------------+-------------------+-------------------+-----------------------+
| Fedora 39 (Clang)   | PASS               | PASS             | PASS              | SKIPPED           | SKIPPED               |
+---------------------+--------------------+------------------+-------------------+-------------------+-----------------------+
| Fedora 39           | PASS               | PASS             | PASS              | SKIPPED           | SKIPPED               |
+---------------------+--------------------+------------------+-------------------+-------------------+-----------------------+
| Fedora 40 (Clang)   | PASS               | PASS             | PASS              | SKIPPED           | SKIPPED               |
+---------------------+--------------------+------------------+-------------------+-------------------+-----------------------+
| Fedora 40           | PASS               | PASS             | PASS              | SKIPPED           | SKIPPED               |
+---------------------+--------------------+------------------+-------------------+-------------------+-----------------------+
| openSUSE Leap 15    | PASS               | PASS             | SKIPPED           | SKIPPED           | SKIPPED               |
+---------------------+--------------------+------------------+-------------------+-------------------+-----------------------+
| RHEL8               | PASS               | PASS             | SKIPPED           | SKIPPED           | SKIPPED               |
+---------------------+--------------------+------------------+-------------------+-------------------+-----------------------+
| RHEL9               | PASS               | PASS             | SKIPPED           | SKIPPED           | SKIPPED               |
+---------------------+--------------------+------------------+-------------------+-------------------+-----------------------+
| Ubuntu 20.04        | PASS               | WARN             | SKIPPED           | SKIPPED           | SKIPPED               |
+---------------------+--------------------+------------------+-------------------+-------------------+-----------------------+
| Ubuntu 22.04        | PASS               | PASS             | PASS              | SKIPPED           | SKIPPED               |
+---------------------+--------------------+------------------+-------------------+-------------------+-----------------------+
| Ubuntu 24.04        | PASS               | PASS             | PASS              | SKIPPED           | SKIPPED               |
+---------------------+--------------------+------------------+-------------------+-------------------+-----------------------+
| Alpine              | PASS               | PASS             | SKIPPED           | SKIPPED           | SKIPPED               |
+---------------------+--------------------+------------------+-------------------+-------------------+-----------------------+
| FreeBSD 14.1        | PASS               | SKIPPED          | SKIPPED           | SKIPPED           | SKIPPED               |
+---------------------+--------------------+------------------+-------------------+-------------------+-----------------------+
| FreeBSD 13.4        | PASS               | SKIPPED          | SKIPPED           | SKIPPED           | SKIPPED               |
+---------------------+--------------------+------------------+-------------------+-------------------+-----------------------+
| Windows Server 2022 | SKIPPED            | SKIPPED          | SKIPPED           | PASS              | PASS                  |
+---------------------+--------------------+------------------+-------------------+-------------------+-----------------------+

==== 20 line log output for Ubuntu 20.04 (dpdk_compile_ovs): ====
 --- Failed to get log output --- 
==== End log output ====

CentOS Stream 9
	Kernel: Depends on container host
	Compiler: gcc 11.4.1 20231218 (Red Hat 11.4.1-3)

Debian 12
	Kernel: Depends on container host
	Compiler: gcc (Debian 12.2.0-14) 12.2.0

Fedora 39 (Clang)
	Kernel: Depends on container host
	Compiler: clang 17.0.6 (Fedora 17.0.6-2.fc39)

Fedora 39
	Kernel: Depends on container host
	Compiler: gcc 13.3.1 20240522 (Red Hat 13.3.1-1)

Fedora 40 (Clang)
	Kernel: Depends on container host
	Compiler: clang 18.1.6 (Fedora 18.1.6-3.fc40)

Fedora 40
	Kernel: Depends on container host
	Compiler: gcc 14.2.1 20240801 (Red Hat 14.2.1-1)

openSUSE Leap 15
	Kernel: Depends on container host
	Compiler: gcc (SUSE Linux) 7.5.0

RHEL8
	Kernel: Depends on container host
	Compiler: gcc 8.5.0 20210514 (Red Hat 8.5.0-22)

RHEL9
	Kernel: Depends on container host
	Compiler: gcc 11.4.1 20231218 (Red Hat 11.4.1-3)

Ubuntu 20.04
	Kernel: Depends on container host
	Compiler: gcc (Ubuntu 9.4.0-1ubuntu1~20.04.2) 9.4.0

Ubuntu 22.04
	Kernel: Depends on container host
	Compiler: gcc (Ubuntu 11.4.0-1ubuntu1~22.04) 11.4.0

Ubuntu 24.04
	Kernel: Depends on container host
	Compiler: gcc (Ubuntu 13.2.0-23ubuntu4) 13.2.0

Alpine
	Kernel: Depends on container host
	Compiler: gcc (Alpine 13.2.1_git20240309) 13.2.1 20240309

FreeBSD 14.1
	Kernel: 14.1-RELEASE-p3
	Compiler: clang 18.1.5

FreeBSD 13.4
	Kernel: 13.4-RELEASE-p1
	Compiler: clang 18.1.6

Windows Server 2022
	Kernel: 10.0.20348.2031
	Compiler: clang 15.0.7, gcc 14.1.0 (MinGW), and MSVC VS 19.39.33521

To view detailed results, visit:
https://lab.dpdk.org/results/dashboard/patchsets/32055/

UNH-IOL DPDK Community Lab

To manage your email subscriptions, visit: 
https://lab.dpdk.org/results/dashboard/preferences/subscriptions/