From mboxrd@z Thu Jan  1 00:00:00 1970
Return-Path: <test-report-bounces@dpdk.org>
Received: from mails.dpdk.org (mails.dpdk.org [217.70.189.124])
	by inbox.dpdk.org (Postfix) with ESMTP id A4CF845DD7
	for <public@inbox.dpdk.org>; Sat, 30 Nov 2024 06:25:35 +0100 (CET)
Received: from mails.dpdk.org (localhost [127.0.0.1])
	by mails.dpdk.org (Postfix) with ESMTP id 9D1D140267;
	Sat, 30 Nov 2024 06:25:35 +0100 (CET)
Received: from mail-pf1-f226.google.com (mail-pf1-f226.google.com
 [209.85.210.226])
 by mails.dpdk.org (Postfix) with ESMTP id BAFA740150
 for <test-report@dpdk.org>; Sat, 30 Nov 2024 06:25:33 +0100 (CET)
Received: by mail-pf1-f226.google.com with SMTP id
 d2e1a72fcca58-7251731d2b9so2539823b3a.1
 for <test-report@dpdk.org>; Fri, 29 Nov 2024 21:25:33 -0800 (PST)
DKIM-Signature: v=1; a=rsa-sha256; c=relaxed/relaxed;
 d=iol.unh.edu; s=unh-iol; t=1732944333; x=1733549133; darn=dpdk.org;
 h=references:in-reply-to:cc:to:from:subject:message-id:date:from:to
 :cc:subject:date:message-id:reply-to;
 bh=n13l09wWOatxpsq4fdrSx0alL43DKTG4rJkgRm1CxEM=;
 b=VdJK6+XKOiJOXUYHeSC7ZwjZEFd23CDTjtpyelPfmJiYOwHjbQOqsd5RqOt2bwoqp1
 0rJAVtKGk28ccJw5npUWnn5mhx2VwSK3c1wgpZGwuwwPQDJgPd+5lJ///fz40tQJTtOf
 qadNscCohTXhtqJpIi8JY6txJ0t1g6iWVb4vs=
X-Google-DKIM-Signature: v=1; a=rsa-sha256; c=relaxed/relaxed;
 d=1e100.net; s=20230601; t=1732944333; x=1733549133;
 h=references:in-reply-to:cc:to:from:subject:message-id:date
 :x-gm-message-state:from:to:cc:subject:date:message-id:reply-to;
 bh=n13l09wWOatxpsq4fdrSx0alL43DKTG4rJkgRm1CxEM=;
 b=U1OOMdgr6YUXl9imh9pjagbL6Nqm9ufWWuwg3I1iuSFubGa91rpVXNl1T7nHfxlRMl
 Kf3Ok5Jnc69rp7LqU/7avXmhoWW8RSKj/wNJJFuVhnWX8ZvCv5C8UzhIFh77NZNUlQQN
 WgtfGgBgjLHNt14i1PZ5GglZeMSuWocu5Yr7LxqPpbxlFbS6oI8FFtEU7pkXh4ycRKFf
 VRZAMLwlyZDqca6d7Pn79vo+RjaErBVEWemOEBJsmLER5ar9zyHTKvkAp+cxenEj/nl9
 NezOTXi7gLHUS946+q1aJDYYR1CoXWbrteJEistc0J7tSW7ARjreWRXghcQTT0rTVeWT
 6zxg==
X-Gm-Message-State: AOJu0Yy9Mq+61TaH/ltlj89K6fg1I72o4el15Ln77uLQWUtTY3L0368u
 Uh3//LVsieVET0h+2cclcxIj4qrMtddcTxS143C9GAhLnzNfbOKWoihZm2bebpymftGmarU3vGo
 6xPUIV5NgOIX11vzAPViYbWyABpOHit6FZxyqQIj18iMffANhL+PL1/2k
X-Gm-Gg: ASbGncs6E0eWLRS5kzneC0oAhX/gcAAX7/ZFrypt4Qf5fo9wx8IwKfboGfLgwuL2iuE
 Ubuv4CFBuWG6Lb8kiiiEhBUgQFwJijYhgE9fzJyV5io+GiFTHivZ1iCW5bEE4kbz71nmON0TblT
 s99k4l8UZ+8oUFXPs7t+Ja3qa9iGeoyRpyhkJHSVzN/ozxK+8tNDbiNsTKL5V+5B3huybRNs/nW
 /dHS2qzp5/2le+T8zUNf+BGV6WDL0klSl2IaeWspX1f3ZhObK33ANqxbObt/lZQdOZvGMr6qII=
X-Google-Smtp-Source: AGHT+IGSK1cZ+0hY99lzmQGhqQAs5pdp3FbgNg8cx+ykR/TGzAOfvibJZR1ScnG8OvzmbCC1djlX7YX310Yl
X-Received: by 2002:a17:902:d2c9:b0:20c:76a1:604b with SMTP id
 d9443c01a7336-2151d301a54mr131791535ad.12.1732944332932; 
 Fri, 29 Nov 2024 21:25:32 -0800 (PST)
Received: from postal.iol.unh.edu (postal.iol.unh.edu.
 [2606:4100:3880:1234::84]) by smtp-relay.gmail.com with ESMTPS id
 d9443c01a7336-215218f7bfdsm1940005ad.6.2024.11.29.21.25.32
 (version=TLS1_2 cipher=ECDHE-ECDSA-AES128-GCM-SHA256 bits=128/128);
 Fri, 29 Nov 2024 21:25:32 -0800 (PST)
X-Relaying-Domain: iol.unh.edu
Date: Fri, 29 Nov 2024 21:25:32 -0800 (PST)
Message-ID: <674aa1cc.170a0220.2dda7b.bcfcSMTPIN_ADDED_MISSING@mx.google.com>
Received: from [172.21.0.8] (unknown [172.18.0.240])
 by postal.iol.unh.edu (Postfix) with ESMTP id 08FC56052471;
 Sat, 30 Nov 2024 00:25:32 -0500 (EST)
Subject: |SUCCESS| pw148946-148947 [PATCH] [v3,2/2] config/arm: sort SOCs alp
From: dpdklab@iol.unh.edu
To: Test Report <test-report@dpdk.org>
Cc: dpdk-test-reports@iol.unh.edu
In-Reply-To: <20241129234726.1570765-2-wathsala.vithanage@arm.com>
References: <20241129234726.1570765-2-wathsala.vithanage@arm.com>
Content-Type: text/plain
X-BeenThere: test-report@dpdk.org
X-Mailman-Version: 2.1.29
Precedence: list
List-Id: automatic DPDK test reports <test-report.dpdk.org>
List-Unsubscribe: <https://mails.dpdk.org/options/test-report>,
 <mailto:test-report-request@dpdk.org?subject=unsubscribe>
List-Archive: <http://mails.dpdk.org/archives/test-report/>
List-Post: <mailto:test-report@dpdk.org>
List-Help: <mailto:test-report-request@dpdk.org?subject=help>
List-Subscribe: <https://mails.dpdk.org/listinfo/test-report>,
 <mailto:test-report-request@dpdk.org?subject=subscribe>
Errors-To: test-report-bounces@dpdk.org

Test-Label: iol-compile-arm64-testing
Test-Status: SUCCESS
http://dpdk.org/patch/148947

_Testing PASS_

Submitter: Wathsala Vithanage <wathsala.vithanage@arm.com>
Date: Friday, November 29 2024 23:47:26 
DPDK git baseline: Repo:dpdk
  Branch: master
  CommitID:8750576fb2a9a067ffbcce4bab6481f3bfa47097

148946-148947 --> testing pass

Upstream job id: Generic-DPDK-Compile-Meson#339678

Test environment and result as below:

+----------------------------------------+--------------------+
|              Environment               | dpdk_meson_compile |
+========================================+====================+
| RHEL9 (ARM)                            | PASS               |
+----------------------------------------+--------------------+
| Ubuntu 20.04 ARM SVE                   | PASS               |
+----------------------------------------+--------------------+
| Ubuntu 20.04 ARM GCC Cross Compile     | PASS               |
+----------------------------------------+--------------------+
| Debian 12 with MUSDK                   | PASS               |
+----------------------------------------+--------------------+
| Fedora 39 (ARM)                        | PASS               |
+----------------------------------------+--------------------+
| Fedora 39 (ARM Clang)                  | PASS               |
+----------------------------------------+--------------------+
| Fedora 40 (ARM)                        | PASS               |
+----------------------------------------+--------------------+
| Fedora 40 (ARM Clang)                  | PASS               |
+----------------------------------------+--------------------+
| Ubuntu 20.04 (ARM)                     | PASS               |
+----------------------------------------+--------------------+
| Ubuntu 24.04 (ARM)                     | PASS               |
+----------------------------------------+--------------------+
| Ubuntu 22.04 (ARM)                     | PASS               |
+----------------------------------------+--------------------+
| CentOS Stream 9 (ARM)                  | PASS               |
+----------------------------------------+--------------------+
| Debian 12 (arm)                        | PASS               |
+----------------------------------------+--------------------+
| Ubuntu 20.04 ARM Clang Cross Compile   | PASS               |
+----------------------------------------+--------------------+
| Ubuntu 20.04 aarch32 GCC Cross Compile | PASS               |
+----------------------------------------+--------------------+


RHEL9 (ARM)
	Kernel: Depends on container host
	Compiler: gcc 11.4.1 20231218 (Red Hat 11.4.1-3)

Ubuntu 20.04 ARM SVE
	Kernel: Depends on container host
	Compiler: gcc (Ubuntu 10.5.0-1ubuntu1~20.04) 10.5.0

Ubuntu 20.04 ARM GCC Cross Compile
	Kernel: Depends on container host
	Compiler: aarch64-linux-gnu-gcc (Ubuntu 9.4.0-1ubuntu1~20.04.2) 9.4.0

Debian 12 with MUSDK
	Kernel: Depends on container host
	Compiler: gcc (Debian 12.2.0-14) 12.2.0

Fedora 39 (ARM)
	Kernel: Depends on container host
	Compiler: gcc 13.3.1 20240522 (Red Hat 13.3.1-1)

Fedora 39 (ARM Clang)
	Kernel: Depends on container host
	Compiler: clang 17.0.6 (Fedora 17.0.6-2.fc39)

Fedora 40 (ARM)
	Kernel: Depends on container host
	Compiler: gcc 14.2.1 20240801 (Red Hat 14.2.1-1)

Fedora 40 (ARM Clang)
	Kernel: Depends on container host
	Compiler: clang 18.1.6 (Fedora 18.1.6-3.fc40)

Ubuntu 20.04 (ARM)
	Kernel: Depends on container host
	Compiler: gcc (Ubuntu 9.4.0-1ubuntu1~20.04.2) 9.4.0

Ubuntu 24.04 (ARM)
	Kernel: Depends on container host
	Compiler: gcc (Ubuntu 13.2.0-23ubuntu4) 13.2.0

Ubuntu 22.04 (ARM)
	Kernel: Depends on container host
	Compiler: gcc (Ubuntu 11.4.0-1ubuntu1~22.04) 11.4.0

CentOS Stream 9 (ARM)
	Kernel: Depends on container host
	Compiler: gcc 11.4.1 20231218 (Red Hat 11.4.1-3)

Debian 12 (arm)
	Kernel: Depends on container host
	Compiler: gcc (Debian 12.2.0-14) 12.2.0

Ubuntu 20.04 ARM Clang Cross Compile
	Kernel: Depends on container host
	Compiler: clang 10.0.0-4ubuntu1

Ubuntu 20.04 aarch32 GCC Cross Compile
	Kernel: Depends on container host
	Compiler: gcc 9.4.0

To view detailed results, visit:
https://lab.dpdk.org/results/dashboard/patchsets/32061/

UNH-IOL DPDK Community Lab

To manage your email subscriptions, visit: 
https://lab.dpdk.org/results/dashboard/preferences/subscriptions/