From mboxrd@z Thu Jan 1 00:00:00 1970 Return-Path: Received: from mails.dpdk.org (mails.dpdk.org [217.70.189.124]) by inbox.dpdk.org (Postfix) with ESMTP id EA32C45DFB for ; Sun, 1 Dec 2024 19:29:46 +0100 (CET) Received: from mails.dpdk.org (localhost [127.0.0.1]) by mails.dpdk.org (Postfix) with ESMTP id C19FA40289; Sun, 1 Dec 2024 19:29:46 +0100 (CET) Received: from mail-qt1-f226.google.com (mail-qt1-f226.google.com [209.85.160.226]) by mails.dpdk.org (Postfix) with ESMTP id 86E8040268 for ; Sun, 1 Dec 2024 19:29:45 +0100 (CET) Received: by mail-qt1-f226.google.com with SMTP id d75a77b69052e-4668486dec2so25815081cf.3 for ; Sun, 01 Dec 2024 10:29:45 -0800 (PST) DKIM-Signature: v=1; a=rsa-sha256; c=relaxed/relaxed; d=iol.unh.edu; s=unh-iol; t=1733077785; x=1733682585; darn=dpdk.org; h=cc:to:from:subject:message-id:date:from:to:cc:subject:date :message-id:reply-to; bh=ug/9GDhmiY45NyGL9GzeTiCmOYOL9pi63E0cFjccTHQ=; b=McYY1XuJeb6DEjDrKzbM60QZMrU5Medr+fWEnTb3tN6diFUOPkkj+X4ItI+V7MseyL UJ+GX+11SzMoWCollvw3gvbIEotvtFuZMQc03M9Y5Ip0iKw54t4BgCO+inDJceUiF0nm TJwAri+B8yRRJPQDtOEnZNwc16VBSsyh/VJ9E= X-Google-DKIM-Signature: v=1; a=rsa-sha256; c=relaxed/relaxed; d=1e100.net; s=20230601; t=1733077785; x=1733682585; h=cc:to:from:subject:message-id:date:x-gm-message-state:from:to:cc :subject:date:message-id:reply-to; bh=ug/9GDhmiY45NyGL9GzeTiCmOYOL9pi63E0cFjccTHQ=; b=F6Zj/GLiuqnoETHPS7NREqglZRxy8DB5jLbGO+h/TZAqqZskI23FtiqZb0XJc3PMl7 U2JPvSpKc0qT7LKMWDx9GPU1bk9DBrHwf9Nfr9BToANLsLifVRtEV3ENwPnmb/wciyuX 05d57fwDrfDkMUsvOH/dFAssIITjqXYBv2NwZl+sydb7TEUePUaDdZn2T7YMG1zZ2myS w7YQrehKrfFbTm6Cue4s3LN1W3OJrKJPn7awF+Pu4Pmb8w1EUM5Zt+WUhWLiPtRfaO2t CEdVT1ACTmqlvkQ1aaIS8EaifNAJKwrCimRktU9YOgiF2iFfAhz98FGxGEifc627eWsO 9uJQ== X-Gm-Message-State: AOJu0YzbbXU1z+RLBq35z3gNyTdS0IdQUl7DYHAmsdQW3xf9QnaAf8NQ 4cT7SNtVSkcP5GeAKLYHzs+sYtAdxVbvooRQI403o2vS7g1cadTfMEl+sJF/wA/lrTyBGZxNXeG DkddVMnuZpegqG6NxAp3gvpimWl9UMpSvojgwCFMdRcWT8GDGlLr7dOCm X-Gm-Gg: ASbGncsA2WSGMYeoE6TFg741mybG/2MS/a5on+r88c/IEw9AAkT8VW7khKnxeiPUK2l Yt0FWGk/tZnwqUyCIIDz2SxMWEYp6hkadBS3W/5gl7P7tW7IT7Kukl616/fJIN9+PlCjASFLokp 384wQ1doW400QSuEp87x99RU2ObwmXA9G2c1A0F+mcDsnRe2kgOmEPjl6GbivmZ8/qjyTcOotYc bLJqQPx2uew1idY3zp5JQ818eiSO1mx78JMZK1B4OGTB6aJSH+5mr5GmccDhtAZYqz4udQBY/o= X-Google-Smtp-Source: AGHT+IFrNgW55UvuXxpKCKSWY0ayU4PfeH91peUqvzGY5WiE1hk1pw54T1TyvGM3rgHx2eArHJKSA2BZR4ts X-Received: by 2002:ac8:5f94:0:b0:466:96ef:90c with SMTP id d75a77b69052e-466b3610acemr307040461cf.41.1733077784839; Sun, 01 Dec 2024 10:29:44 -0800 (PST) Received: from postal.iol.unh.edu (postal.iol.unh.edu. [2606:4100:3880:1234::84]) by smtp-relay.gmail.com with ESMTPS id d75a77b69052e-466c42543cbsm2887421cf.24.2024.12.01.10.29.44 (version=TLS1_2 cipher=ECDHE-ECDSA-AES128-GCM-SHA256 bits=128/128); Sun, 01 Dec 2024 10:29:44 -0800 (PST) X-Relaying-Domain: iol.unh.edu Date: Sun, 01 Dec 2024 10:29:44 -0800 (PST) Message-ID: <674cab18.050a0220.20959b.012fSMTPIN_ADDED_MISSING@mx.google.com> Received: from [172.17.0.2] (unknown [172.18.0.217]) by postal.iol.unh.edu (Postfix) with ESMTP id 76A4D6052471; Sun, 1 Dec 2024 13:29:44 -0500 (EST) Subject: |SUCCESS| [GIT MASTER] 1b3bf1128d9bda5595861814792f74b8f57160c8 From: dpdklab@iol.unh.edu To: Test Report Cc: dpdk-test-reports@iol.unh.edu, Jerin Jacob Content-Type: text/plain X-BeenThere: test-report@dpdk.org X-Mailman-Version: 2.1.29 Precedence: list List-Id: automatic DPDK test reports List-Unsubscribe: , List-Archive: List-Post: List-Help: List-Subscribe: , Errors-To: test-report-bounces@dpdk.org _Testing PASS_ Branch: dpdk-next-eventdev 1b3bf1128d9bda5595861814792f74b8f57160c8 --> testing pass Upstream job id: Generic-Unit-Test-DPDK#296592 Test environment and result as below: +---------------------+----------------+ | Environment | dpdk_unit_test | +=====================+================+ | Fedora 40 | PASS | +---------------------+----------------+ | RHEL8 | PASS | +---------------------+----------------+ | Ubuntu 22.04 | PASS | +---------------------+----------------+ | RHEL9 | PASS | +---------------------+----------------+ | Fedora 40 (Clang) | PASS | +---------------------+----------------+ | Fedora 39 (Clang) | PASS | +---------------------+----------------+ | Fedora 39 | PASS | +---------------------+----------------+ | Debian 12 | PASS | +---------------------+----------------+ | CentOS Stream 9 | PASS | +---------------------+----------------+ | Ubuntu 24.04 | PASS | +---------------------+----------------+ | Ubuntu 20.04 | PASS | +---------------------+----------------+ | Windows Server 2022 | PASS | +---------------------+----------------+ Fedora 40 Kernel: Depends on container host Compiler: gcc 14.2.1 20240801 (Red Hat 14.2.1-1) RHEL8 Kernel: Depends on container host Compiler: gcc 8.5.0 20210514 (Red Hat 8.5.0-22) Ubuntu 22.04 Kernel: Depends on container host Compiler: gcc (Ubuntu 11.4.0-1ubuntu1~22.04) 11.4.0 RHEL9 Kernel: Depends on container host Compiler: gcc 11.4.1 20231218 (Red Hat 11.4.1-3) Fedora 40 (Clang) Kernel: Depends on container host Compiler: clang 18.1.6 (Fedora 18.1.6-3.fc40) Fedora 39 (Clang) Kernel: Depends on container host Compiler: clang 17.0.6 (Fedora 17.0.6-2.fc39) Fedora 39 Kernel: Depends on container host Compiler: gcc 13.3.1 20240522 (Red Hat 13.3.1-1) Debian 12 Kernel: Depends on container host Compiler: gcc (Debian 12.2.0-14) 12.2.0 CentOS Stream 9 Kernel: Depends on container host Compiler: gcc 11.4.1 20231218 (Red Hat 11.4.1-3) Ubuntu 24.04 Kernel: Depends on container host Compiler: gcc (Ubuntu 13.2.0-23ubuntu4) 13.2.0 Ubuntu 20.04 Kernel: Depends on container host Compiler: gcc (Ubuntu 9.4.0-1ubuntu1~20.04.2) 9.4.0 Windows Server 2022 Kernel: 10.0.20348.2031 Compiler: clang 15.0.7, gcc 14.1.0 (MinGW), and MSVC VS 19.39.33521 To view detailed results, visit: https://lab.dpdk.org/results/dashboard/tarballs/31794/ UNH-IOL DPDK Community Lab To manage your email subscriptions, visit: https://lab.dpdk.org/results/dashboard/preferences/subscriptions/