From mboxrd@z Thu Jan 1 00:00:00 1970 Return-Path: Received: from mails.dpdk.org (mails.dpdk.org [217.70.189.124]) by inbox.dpdk.org (Postfix) with ESMTP id ED03445DFB for ; Sun, 1 Dec 2024 19:29:53 +0100 (CET) Received: from mails.dpdk.org (localhost [127.0.0.1]) by mails.dpdk.org (Postfix) with ESMTP id E90A540289; Sun, 1 Dec 2024 19:29:53 +0100 (CET) Received: from mail-io1-f98.google.com (mail-io1-f98.google.com [209.85.166.98]) by mails.dpdk.org (Postfix) with ESMTP id C9BF340268 for ; Sun, 1 Dec 2024 19:29:52 +0100 (CET) Received: by mail-io1-f98.google.com with SMTP id ca18e2360f4ac-841a6af60e9so114691239f.0 for ; Sun, 01 Dec 2024 10:29:52 -0800 (PST) DKIM-Signature: v=1; a=rsa-sha256; c=relaxed/relaxed; d=iol.unh.edu; s=unh-iol; t=1733077792; x=1733682592; darn=dpdk.org; h=cc:to:from:subject:message-id:date:from:to:cc:subject:date :message-id:reply-to; bh=/ZvHHZK6AUq+wXP6G7NT7E7ud9mv07RkjjzLeJQDMbc=; b=jJWhYJKNESEkCio/d2gh53rmGKON+VLppEfOhmbxvmk4c6wKE0BtBZp6yhe9lbeZZm 4/L0jQim1Wu1UH+CfmJ13kTap+Easi+X0mcjwnT1RH+1vsw1ZrZIAmj95o/BSzEBYbFF 4qHoaWdkcSnkBto8gZxnlVI6OCje4/TKXiOpU= X-Google-DKIM-Signature: v=1; a=rsa-sha256; c=relaxed/relaxed; d=1e100.net; s=20230601; t=1733077792; x=1733682592; h=cc:to:from:subject:message-id:date:x-gm-message-state:from:to:cc :subject:date:message-id:reply-to; bh=/ZvHHZK6AUq+wXP6G7NT7E7ud9mv07RkjjzLeJQDMbc=; b=A5cNy3XkY29g9wjIIJS5qhxYn7NL0Qa4MaqodUCeM7aByVsSxcjqwclDKwQJvc8hVU vevsGFiJq0of8ajP6SOHRDde1a5vWbYpnruj7MX9/PCAKgPQuEJuN6L/ilKonDOCgU6g AjxIQh4+GUoXCk4SogD8YU3MR4EowGIJ06ClYZd+NbbimI0+exCRl7uedqO38yalOV81 KwpXkol3Bsg4u4hqbnjxwl/VEaEf6b5rmMprRRkgwFqcdKqNgc2MUY51il/0hmus7a7b 5mBQBR2r11xEC4Jb4V+ibDWl3kzKNM7QFt69lOfCnwxpOzdTyTDMPI80vxxwiZ4Vsn+9 MBSg== X-Gm-Message-State: AOJu0YyzlFOMgK0anJWBbm2jXo3me3wGm0xRaKSeWXbpV9oyOgzU+olQ LcXkMMs/q+HyrTIfkeJrbkhXP4c9izAM0uI3Bm1bk6gcqwQfbJ5R2EPOG1Ba2oc6l+3SamyRchW E4tSxgm+tBlJvkC4bMpVtQ0xFImyd43L4TSpkKTFs X-Gm-Gg: ASbGncs0KlrTGSZWqTIm0tJgOBAflTzzFHvRxFt/tq3KxxCnN7gGL2lZNTcz5o1nlco eXegUrLKWTIPp9xZ4DSzTY1VW2B/1tReiT0s9m9SAdGqSXlVUFddXE4VxMISJd+r09C0AZj+6SB 4l0pq9JXQHRpPDTCzSpZxVJK5JvsbGUJDVmDBx3WY0SO28JAv4lhNb9R52M3O9igevBSrKIk0dx g6JZek72r0rRbmI6ma4Re3+VKhj01QyXHaIZK5ldeYzmxiyZ1ybZ72Xc+8i8WmBlyzL7lk= X-Google-Smtp-Source: AGHT+IGKHRB63bvH/EDlM+W7QNZ5hdOpiKyhY1DoZLbcEpI7CC1hMo4rdnD41xJ0A8I9vYqFduPRWz6Rr+44 X-Received: by 2002:a05:6602:6014:b0:83e:6069:ce2a with SMTP id ca18e2360f4ac-843ecf4af7bmr2107088339f.6.1733077792192; Sun, 01 Dec 2024 10:29:52 -0800 (PST) Received: from postal.iol.unh.edu (postal.iol.unh.edu. [132.177.123.84]) by smtp-relay.gmail.com with ESMTPS id ca18e2360f4ac-84405ee618esm24755439f.16.2024.12.01.10.29.52 (version=TLS1_2 cipher=ECDHE-ECDSA-AES128-GCM-SHA256 bits=128/128); Sun, 01 Dec 2024 10:29:52 -0800 (PST) X-Relaying-Domain: iol.unh.edu Date: Sun, 01 Dec 2024 10:29:52 -0800 (PST) Message-ID: <674cab20.050a0220.2f16ec.e518SMTPIN_ADDED_MISSING@mx.google.com> Received: from [172.21.0.6] (unknown [172.18.0.240]) by postal.iol.unh.edu (Postfix) with ESMTP id B749A6052471; Sun, 1 Dec 2024 13:29:51 -0500 (EST) Subject: |SUCCESS| [GIT MASTER] 1b3bf1128d9bda5595861814792f74b8f57160c8 From: dpdklab@iol.unh.edu To: Test Report Cc: dpdk-test-reports@iol.unh.edu, Jerin Jacob Content-Type: text/plain X-BeenThere: test-report@dpdk.org X-Mailman-Version: 2.1.29 Precedence: list List-Id: automatic DPDK test reports List-Unsubscribe: , List-Archive: List-Post: List-Help: List-Subscribe: , Errors-To: test-report-bounces@dpdk.org _Testing PASS_ Branch: dpdk-next-eventdev 1b3bf1128d9bda5595861814792f74b8f57160c8 --> testing pass Upstream job id: Generic-Unit-Test-DPDK#296588 Test environment and result as below: +---------------------+----------------+ | Environment | dpdk_unit_test | +=====================+================+ | Fedora 40 | PASS | +---------------------+----------------+ | RHEL8 | PASS | +---------------------+----------------+ | Ubuntu 22.04 | PASS | +---------------------+----------------+ | RHEL9 | PASS | +---------------------+----------------+ | Fedora 40 (Clang) | PASS | +---------------------+----------------+ | Fedora 39 (Clang) | PASS | +---------------------+----------------+ | Fedora 39 | PASS | +---------------------+----------------+ | Debian 12 | PASS | +---------------------+----------------+ | CentOS Stream 9 | PASS | +---------------------+----------------+ | Ubuntu 24.04 | PASS | +---------------------+----------------+ | Ubuntu 20.04 | PASS | +---------------------+----------------+ | Windows Server 2022 | PASS | +---------------------+----------------+ Fedora 40 Kernel: Depends on container host Compiler: gcc 14.2.1 20240801 (Red Hat 14.2.1-1) RHEL8 Kernel: Depends on container host Compiler: gcc 8.5.0 20210514 (Red Hat 8.5.0-22) Ubuntu 22.04 Kernel: Depends on container host Compiler: gcc (Ubuntu 11.4.0-1ubuntu1~22.04) 11.4.0 RHEL9 Kernel: Depends on container host Compiler: gcc 11.4.1 20231218 (Red Hat 11.4.1-3) Fedora 40 (Clang) Kernel: Depends on container host Compiler: clang 18.1.6 (Fedora 18.1.6-3.fc40) Fedora 39 (Clang) Kernel: Depends on container host Compiler: clang 17.0.6 (Fedora 17.0.6-2.fc39) Fedora 39 Kernel: Depends on container host Compiler: gcc 13.3.1 20240522 (Red Hat 13.3.1-1) Debian 12 Kernel: Depends on container host Compiler: gcc (Debian 12.2.0-14) 12.2.0 CentOS Stream 9 Kernel: Depends on container host Compiler: gcc 11.4.1 20231218 (Red Hat 11.4.1-3) Ubuntu 24.04 Kernel: Depends on container host Compiler: gcc (Ubuntu 13.2.0-23ubuntu4) 13.2.0 Ubuntu 20.04 Kernel: Depends on container host Compiler: gcc (Ubuntu 9.4.0-1ubuntu1~20.04.2) 9.4.0 Windows Server 2022 Kernel: 10.0.20348.2031 Compiler: clang 15.0.7, gcc 14.1.0 (MinGW), and MSVC VS 19.39.33521 To view detailed results, visit: https://lab.dpdk.org/results/dashboard/tarballs/31794/ UNH-IOL DPDK Community Lab To manage your email subscriptions, visit: https://lab.dpdk.org/results/dashboard/preferences/subscriptions/