From mboxrd@z Thu Jan 1 00:00:00 1970 Return-Path: Received: from mails.dpdk.org (mails.dpdk.org [217.70.189.124]) by inbox.dpdk.org (Postfix) with ESMTP id 03D2245DFB for ; Sun, 1 Dec 2024 19:41:55 +0100 (CET) Received: from mails.dpdk.org (localhost [127.0.0.1]) by mails.dpdk.org (Postfix) with ESMTP id DFA8840289; Sun, 1 Dec 2024 19:41:55 +0100 (CET) Received: from mail-io1-f99.google.com (mail-io1-f99.google.com [209.85.166.99]) by mails.dpdk.org (Postfix) with ESMTP id AAAC040268 for ; Sun, 1 Dec 2024 19:41:54 +0100 (CET) Received: by mail-io1-f99.google.com with SMTP id ca18e2360f4ac-841aa93433aso113520839f.0 for ; Sun, 01 Dec 2024 10:41:54 -0800 (PST) DKIM-Signature: v=1; a=rsa-sha256; c=relaxed/relaxed; d=iol.unh.edu; s=unh-iol; t=1733078514; x=1733683314; darn=dpdk.org; h=cc:to:from:subject:message-id:date:from:to:cc:subject:date :message-id:reply-to; bh=V4C/KiXQhp75Mzi3FBYVW7WPL1BYZzCP6wsqYACkCCE=; b=NBqXP+afBv6cUGBd07zsEBrHJHVcwSOFwzV1H/QUfEVIOp4wQPapODZNNoOpkBob0k gOECRp/TpEH33G9Bpb6FDfn0SS973e7OVOHV1n7Ov93YZBru7XHSfJbuCNaeNhBTxWfx xfhmfGIqwX/VQ+Xh8FKehQHGi0KgRN0qubdgg= X-Google-DKIM-Signature: v=1; a=rsa-sha256; c=relaxed/relaxed; d=1e100.net; s=20230601; t=1733078514; x=1733683314; h=cc:to:from:subject:message-id:date:x-gm-message-state:from:to:cc :subject:date:message-id:reply-to; bh=V4C/KiXQhp75Mzi3FBYVW7WPL1BYZzCP6wsqYACkCCE=; b=Hdw9kffpwgcoJ2LjVEG+BYUlydASHY6s3n2Aj8J1E8OkDY6ilf1YXNuOU/DWujIHQy LjiOQ3wz8LQFPl3o+jYRSHoWkJCEYCWGb+rWU0R0ZIv76uQD3AzU2OCGq8ymSMSlngIj S+d0itsJfwSp8FIW/rfOWJzvjrmCT0cSv6A8Zur+oflJ5I5OqNI92KSYA5EzIu8YWxbB 5rjQ5Lt3CA+qrr0tQoYslLiUyFIsdq4lSoIXhneWNZ0/3FCIrXUkJeLAESo8Gq6XS7Yr ErJpqhH89GVl+9WAUUW/hqBBzAPvNdJdpr7vFkTeKIs21GK4YN+OUj7saBouKT4N3wZ/ hUXg== X-Gm-Message-State: AOJu0YywtoWXdGqsFPHhk4/8vVdBn0HWcnQs3XAyyzvSSlQS8uTTnhlV OD6/0q7nRULqm2p39hqmLWHHxYgYJGlKY4cDQgqEZw1LBwFKRjTwhrheXRw2IRXTaMKSeORvoR3 JjAxA5qGiSdgzf4kTp9rMpAWMVQiNTrf38NCYRQk2wXIQ2dUGTs8s0MUu X-Gm-Gg: ASbGncsmz08C9kYmRywyCbbycGLYJ6Zwqqh51yPRDPN06Vre+/rrbyvODbBzCznYXWX V6nkdp2eMv5qYlvLhRQsCwiyyHmuQKnZ7GQ3H8wMLuiji0Ebtc03gXBX9bSVpJmrj1IAMQSZN+z LMSrDaKfrx7tiVbWOpleTjgefhwARZRJ02JDGnm+F6XYy/RICHuCUiv4xPRLIAATVKDovo6YirB FgM3Pv29VkR562ani8MDoFWsrTz/hjBN8bucfD4hhFwdSKYeOBbnVUhd9KlwP3rCNaForUGux4= X-Google-Smtp-Source: AGHT+IHr8gUjgmpbfqedEs51qteCcD4zKHh3HKKqR7uDUB28Qj2s+5+UQA4rcC4t2CEyqYAJ/RIKvtd4hj8y X-Received: by 2002:a05:6602:3fcb:b0:83a:a305:d9ee with SMTP id ca18e2360f4ac-843ed06a2bfmr2235918039f.12.1733078514027; Sun, 01 Dec 2024 10:41:54 -0800 (PST) Received: from postal.iol.unh.edu (postal.iol.unh.edu. [2606:4100:3880:1234::84]) by smtp-relay.gmail.com with ESMTPS id 8926c6da1cb9f-4e230dc9d31sm319493173.3.2024.12.01.10.41.53 (version=TLS1_2 cipher=ECDHE-ECDSA-AES128-GCM-SHA256 bits=128/128); Sun, 01 Dec 2024 10:41:54 -0800 (PST) X-Relaying-Domain: iol.unh.edu Date: Sun, 01 Dec 2024 10:41:54 -0800 (PST) Message-ID: <674cadf2.050a0220.99f93.25f7SMTPIN_ADDED_MISSING@mx.google.com> Received: from [172.17.0.2] (unknown [172.18.0.217]) by postal.iol.unh.edu (Postfix) with ESMTP id 784276052471; Sun, 1 Dec 2024 13:41:53 -0500 (EST) Subject: |SUCCESS| [GIT MASTER] 1b3bf1128d9bda5595861814792f74b8f57160c8 From: dpdklab@iol.unh.edu To: Test Report Cc: dpdk-test-reports@iol.unh.edu, Jerin Jacob Content-Type: text/plain X-BeenThere: test-report@dpdk.org X-Mailman-Version: 2.1.29 Precedence: list List-Id: automatic DPDK test reports List-Unsubscribe: , List-Archive: List-Post: List-Help: List-Subscribe: , Errors-To: test-report-bounces@dpdk.org _Testing PASS_ Branch: dpdk-next-eventdev 1b3bf1128d9bda5595861814792f74b8f57160c8 --> testing pass Upstream job id: Aarch32-Unit-Test#4522 Test environment and result as below: +-----------------------------+---------------------------+------------------------------+----------------+--------------+ | Environment | cryptodev_sw_zuc_autotest | cryptodev_sw_snow3g_autotest | dpdk_unit_test | lpm_autotest | +=============================+===========================+==============================+================+==============+ | Debian 12 (arm) | PASS | PASS | PASS | SKIPPED | +-----------------------------+---------------------------+------------------------------+----------------+--------------+ | Fedora 39 (ARM) | SKIPPED | SKIPPED | PASS | SKIPPED | +-----------------------------+---------------------------+------------------------------+----------------+--------------+ | RHEL9 (ARM) | SKIPPED | SKIPPED | PASS | SKIPPED | +-----------------------------+---------------------------+------------------------------+----------------+--------------+ | Fedora 40 (ARM Clang) | SKIPPED | SKIPPED | PASS | SKIPPED | +-----------------------------+---------------------------+------------------------------+----------------+--------------+ | Fedora 40 (ARM) | SKIPPED | SKIPPED | PASS | SKIPPED | +-----------------------------+---------------------------+------------------------------+----------------+--------------+ | Fedora 39 (ARM Clang) | SKIPPED | SKIPPED | PASS | SKIPPED | +-----------------------------+---------------------------+------------------------------+----------------+--------------+ | Ubuntu 24.04 (ARM) | SKIPPED | SKIPPED | PASS | SKIPPED | +-----------------------------+---------------------------+------------------------------+----------------+--------------+ | Ubuntu 22.04 (ARM) | SKIPPED | SKIPPED | PASS | SKIPPED | +-----------------------------+---------------------------+------------------------------+----------------+--------------+ | CentOS Stream 9 (ARM) | SKIPPED | SKIPPED | PASS | SKIPPED | +-----------------------------+---------------------------+------------------------------+----------------+--------------+ | Ubuntu 20.04 (ARM) | SKIPPED | SKIPPED | PASS | SKIPPED | +-----------------------------+---------------------------+------------------------------+----------------+--------------+ | 32-bit Ubuntu 22.04.4 (ARM) | SKIPPED | SKIPPED | PASS | SKIPPED | +-----------------------------+---------------------------+------------------------------+----------------+--------------+ | Ubuntu 20.04 ARM SVE | SKIPPED | SKIPPED | SKIPPED | PASS | +-----------------------------+---------------------------+------------------------------+----------------+--------------+ Debian 12 (arm) Kernel: Depends on container host Compiler: gcc (Debian 12.2.0-14) 12.2.0 Fedora 39 (ARM) Kernel: Depends on container host Compiler: gcc 13.3.1 20240522 (Red Hat 13.3.1-1) RHEL9 (ARM) Kernel: Depends on container host Compiler: gcc 11.4.1 20231218 (Red Hat 11.4.1-3) Fedora 40 (ARM Clang) Kernel: Depends on container host Compiler: clang 18.1.6 (Fedora 18.1.6-3.fc40) Fedora 40 (ARM) Kernel: Depends on container host Compiler: gcc 14.2.1 20240801 (Red Hat 14.2.1-1) Fedora 39 (ARM Clang) Kernel: Depends on container host Compiler: clang 17.0.6 (Fedora 17.0.6-2.fc39) Ubuntu 24.04 (ARM) Kernel: Depends on container host Compiler: gcc (Ubuntu 13.2.0-23ubuntu4) 13.2.0 Ubuntu 22.04 (ARM) Kernel: Depends on container host Compiler: gcc (Ubuntu 11.4.0-1ubuntu1~22.04) 11.4.0 CentOS Stream 9 (ARM) Kernel: Depends on container host Compiler: gcc 11.4.1 20231218 (Red Hat 11.4.1-3) Ubuntu 20.04 (ARM) Kernel: Depends on container host Compiler: gcc (Ubuntu 9.4.0-1ubuntu1~20.04.2) 9.4.0 32-bit Ubuntu 22.04.4 (ARM) Kernel: 5.15.83+ aarch64 Compiler: gcc (Ubuntu 11.4.0-1ubuntu1~22.04) 11.4.0 Ubuntu 20.04 ARM SVE Kernel: Depends on container host Compiler: gcc (Ubuntu 10.5.0-1ubuntu1~20.04) 10.5.0 To view detailed results, visit: https://lab.dpdk.org/results/dashboard/tarballs/31794/ UNH-IOL DPDK Community Lab To manage your email subscriptions, visit: https://lab.dpdk.org/results/dashboard/preferences/subscriptions/