From mboxrd@z Thu Jan 1 00:00:00 1970 Return-Path: Received: from mails.dpdk.org (mails.dpdk.org [217.70.189.124]) by inbox.dpdk.org (Postfix) with ESMTP id 86FBF45DFB for ; Sun, 1 Dec 2024 19:46:56 +0100 (CET) Received: from mails.dpdk.org (localhost [127.0.0.1]) by mails.dpdk.org (Postfix) with ESMTP id 6C56940289; Sun, 1 Dec 2024 19:46:56 +0100 (CET) Received: from mail-pl1-f227.google.com (mail-pl1-f227.google.com [209.85.214.227]) by mails.dpdk.org (Postfix) with ESMTP id EE15E40268 for ; Sun, 1 Dec 2024 19:46:55 +0100 (CET) Received: by mail-pl1-f227.google.com with SMTP id d9443c01a7336-21200c749bfso28752425ad.1 for ; Sun, 01 Dec 2024 10:46:55 -0800 (PST) DKIM-Signature: v=1; a=rsa-sha256; c=relaxed/relaxed; d=iol.unh.edu; s=unh-iol; t=1733078815; x=1733683615; darn=dpdk.org; h=cc:to:from:subject:message-id:date:from:to:cc:subject:date :message-id:reply-to; bh=sk3RMnwlxdsNy0Wfcxl59GXJxjmvYRwemR+4huhW9D0=; b=fmvJUTRYvP974fSZNHHEEeM9nB6LuhCfkYny3ZL4idxjOBsxBM8eZaDVopPd3WHBap yXbAO3CD2Qk1+jivNdxf8cF7vlI09BEW0LBPjXYkqP31iPxXOdhNZviFrj4L8yOjO5ZQ ZB7lEUyBr3kqMoge7HmlAT0rT6wK+LBORltAQ= X-Google-DKIM-Signature: v=1; a=rsa-sha256; c=relaxed/relaxed; d=1e100.net; s=20230601; t=1733078815; x=1733683615; h=cc:to:from:subject:message-id:date:x-gm-message-state:from:to:cc :subject:date:message-id:reply-to; bh=sk3RMnwlxdsNy0Wfcxl59GXJxjmvYRwemR+4huhW9D0=; b=czipKP9qpevIXZl7l6OCXIIqtxz/y9BkdW0/Kn7af7WrPgXvXkt03uYsqj+E4vJ0A6 cUDhtBVZX9PuMTvvJkiZ9Nk3ySP7wB7r32XJGFnxDUmb6yMcBSd1Xs3JYsoRut4trsLV oS9Il4SvJVfYY1J/j2/fLNKQJG3Qmc8HGWspOBc44dA601Bl2k/ggDqKzt6MUNN/5oOD ifVojzfHK4IBnuNoAoa0sY/T6fyE/LmoRMu9650/FPeVeMuiBEiyMx4LKT/QHenj7TDr yE55U+tiAwsWJtgZiipnsAaN64I4offG2T0vvtU/vL6mNGogD7J+WNl1fXRaFCiAceWz IvIA== X-Gm-Message-State: AOJu0YwMM6gRmDajkQ9x6WkWTKqx7ajnwypZzhTInnUgwFrtA7sNsmav j10cN177/UYfuEuDJ+tmNAPegmFo0hYaLLlqFXRVvLiRbz+EBVXiQM05kWwAW7b6te0QJBbkvc8 xutizpqW/FYwn+sPYZkjzSKu1i7s7/P1mw5VdTkV2edw5RyYYZrDsCPYQ X-Gm-Gg: ASbGncv31LaiXExvZMiXiUn3OdN2qxEbY5anmfoNHus3x46PSbBi/uHlSzoeTmWDHFj Qmjd1LlHpri+Pa2tqwH4hVWnz9t2h/SASP92MtFnqeaKA/TTgRA6trQPJ79GKNymIR3oJP26K5p QNfUIEwgCuHHaY2ScoWK7RtmPhTcWRerhJvp10tH14HPojSVXQtWoqAhBuhd/vxVJH5O+lrNl9h a+WEnNU0P9IvjRHrsSiGk96rsfchnbwJc8eIVxwwgzDgFTK07hHV9pCTs1wNEdwCj8enoyIuCI= X-Google-Smtp-Source: AGHT+IHZFbquYBX4ajozRPZXXrOYu338E/47QmcHrfcGwxgmLrWqXytwJOJp/AmHOyQocrshzHKODKMsidLG X-Received: by 2002:a17:902:ce02:b0:215:6397:b44d with SMTP id d9443c01a7336-2156397b758mr89030445ad.34.1733078815089; Sun, 01 Dec 2024 10:46:55 -0800 (PST) Received: from postal.iol.unh.edu (postal.iol.unh.edu. [2606:4100:3880:1234::84]) by smtp-relay.gmail.com with ESMTPS id 41be03b00d2f7-7fc9c29d294sm379177a12.9.2024.12.01.10.46.54 (version=TLS1_2 cipher=ECDHE-ECDSA-AES128-GCM-SHA256 bits=128/128); Sun, 01 Dec 2024 10:46:55 -0800 (PST) X-Relaying-Domain: iol.unh.edu Date: Sun, 01 Dec 2024 10:46:55 -0800 (PST) Message-ID: <674caf1f.630a0220.209833.5afdSMTPIN_ADDED_MISSING@mx.google.com> Received: from [172.17.0.2] (unknown [172.18.0.217]) by postal.iol.unh.edu (Postfix) with ESMTP id 3877C6052471; Sun, 1 Dec 2024 13:46:54 -0500 (EST) Subject: |SUCCESS| [GIT MASTER] 1b3bf1128d9bda5595861814792f74b8f57160c8 From: dpdklab@iol.unh.edu To: Test Report Cc: dpdk-test-reports@iol.unh.edu, Jerin Jacob Content-Type: text/plain X-BeenThere: test-report@dpdk.org X-Mailman-Version: 2.1.29 Precedence: list List-Id: automatic DPDK test reports List-Unsubscribe: , List-Archive: List-Post: List-Help: List-Subscribe: , Errors-To: test-report-bounces@dpdk.org _Testing PASS_ Branch: dpdk-next-eventdev 1b3bf1128d9bda5595861814792f74b8f57160c8 --> testing pass Upstream job id: ACVP-FIPS-testing#8177 Test environment and result as below: +--------------------+----------------------+----------------------+ | Environment | compressdev_zlib_pmd | dpdk_fips_validation | +====================+======================+======================+ | Ubuntu 22.04 (ARM) | PASS | SKIPPED | +--------------------+----------------------+----------------------+ | Ubuntu 22.04 | PASS | SKIPPED | +--------------------+----------------------+----------------------+ | Ubuntu 20.04 | SKIPPED | PASS | +--------------------+----------------------+----------------------+ Ubuntu 22.04 (ARM) Kernel: 5.15.0-97-generic Compiler: gcc gcc (Ubuntu 11.4.0-1ubuntu1~22.04) 11.4.0 Ubuntu 22.04 Kernel: 5.15.0-100-generic Compiler: gcc gcc (Ubuntu 11.4.0-1ubuntu1~22.04) 11.4.0 Ubuntu 20.04 Kernel: Depends on container host Compiler: gcc (Ubuntu 9.4.0-1ubuntu1~20.04.2) 9.4.0 To view detailed results, visit: https://lab.dpdk.org/results/dashboard/tarballs/31794/ UNH-IOL DPDK Community Lab To manage your email subscriptions, visit: https://lab.dpdk.org/results/dashboard/preferences/subscriptions/