From mboxrd@z Thu Jan 1 00:00:00 1970 Return-Path: Received: from mails.dpdk.org (mails.dpdk.org [217.70.189.124]) by inbox.dpdk.org (Postfix) with ESMTP id 1289A45DF8 for ; Sun, 1 Dec 2024 21:50:22 +0100 (CET) Received: from mails.dpdk.org (localhost [127.0.0.1]) by mails.dpdk.org (Postfix) with ESMTP id D97B340289; Sun, 1 Dec 2024 21:50:21 +0100 (CET) Received: from mail-il1-f225.google.com (mail-il1-f225.google.com [209.85.166.225]) by mails.dpdk.org (Postfix) with ESMTP id 4E62F40268 for ; Sun, 1 Dec 2024 21:50:20 +0100 (CET) Received: by mail-il1-f225.google.com with SMTP id e9e14a558f8ab-3a7e104e500so5991415ab.0 for ; Sun, 01 Dec 2024 12:50:20 -0800 (PST) DKIM-Signature: v=1; a=rsa-sha256; c=relaxed/relaxed; d=iol.unh.edu; s=unh-iol; t=1733086219; x=1733691019; darn=dpdk.org; h=cc:to:from:subject:message-id:date:from:to:cc:subject:date :message-id:reply-to; bh=fLGOkWZIqdRN2HcfahnI1zAJdSTRUAyVjtMifkfuCj4=; b=TvrwlWcCrN0qFH/VtSJt2K3coMBmoWMyVN1VQdKXzZh4T/AcbEft8YeXoYuxvnNnqh 6JDUFMUnaEamNaewv1sQ+JaVAfL08MXsgaFX6YTjeGzFJdt8tu8BW7eTvyKyX5mHvgpa 4cYqm/rlmlCXqBgv7nzLk+DxL2sJm4+0v74OM= X-Google-DKIM-Signature: v=1; a=rsa-sha256; c=relaxed/relaxed; d=1e100.net; s=20230601; t=1733086219; x=1733691019; h=cc:to:from:subject:message-id:date:x-gm-message-state:from:to:cc :subject:date:message-id:reply-to; bh=fLGOkWZIqdRN2HcfahnI1zAJdSTRUAyVjtMifkfuCj4=; b=FERk4xtZKv3gsQNDFwMr8iDYT/TJI9xu+PecFlWcngEmnQ/hEYElIPilfEXjPd5aQW Zuf6b+9TpGHvr3vj2d0zT1SyhGm6FhfyvU+Fr+FdhPixfNXfzQjHLfcuXhJSRgD3FC6b QVWc3bZVaLXLR9OjP7hXIIrFhlqTA6hpD0QohqFYqv+sL7EwgzfapEPVQ9rZR4HH17Zj P0kRKlDhXEXS0vO7r5U2i25zlCqtbMW5y1u6Z+Vbwkh7e+Agh8XJB0B/96c8DBSGmA0u wjyrjYgR46A5DLRPrXPv/Zo/Y5tv+3ukqNZEU8nGmNKF5TLZN/REG54Qtys9urNo1CEN cH+Q== X-Gm-Message-State: AOJu0YxB0Zwr+TURjKTTkjBBtHQk6w6P9XxjQOP0gKJk4oAs8NwrY99l DuXckgsawgd87F7zXbAeHgKspCCezJknR+UdkmUm2MRpRpdHk1Iy+2OPa2mMczUE6nMip5M+kw+ qfgvLgiSPtHcYSS3hpplUPkBYDgYC+hBfjnJzz66q X-Gm-Gg: ASbGnctpfOoo5r/GvcN3gOAatObPUtqS2PDSKlpMzCondaS0YJYdmClZ7pD/D6ShAu6 FE7AUAqjOIJx8ceAeFHKDpw+FdnYmy0i54YJoWBzw2q/2km1OX8fXjsKgdVgEqCvQc7u0sCBVKv 1TUCFe4Jrk/3dEiegWWazO2+eAOz97rHtchMf7f5B0/o5hmWqJ3g1RRW4b2SdmvZZV9TNx1C77G J2GeQ0qo15PdH4OzLvqt1AMFxHQhokoRbbaHRHEgRslubzdoNdabRwC2smipBIFwK6a7eY= X-Google-Smtp-Source: AGHT+IEInMzZPm8qipnQX76Rl4KrIbVQpmwxXk6kjFsVTlHvlIoyqNbVn+II//apx3pawE7zByoCwX+G2UD/ X-Received: by 2002:a05:6e02:1786:b0:3a7:86ab:bebe with SMTP id e9e14a558f8ab-3a7c55d962fmr175067955ab.16.1733086219628; Sun, 01 Dec 2024 12:50:19 -0800 (PST) Received: from postal.iol.unh.edu (postal.iol.unh.edu. [132.177.123.84]) by smtp-relay.gmail.com with ESMTPS id e9e14a558f8ab-3a7ccbde932sm4080675ab.14.2024.12.01.12.50.19 (version=TLS1_2 cipher=ECDHE-ECDSA-AES128-GCM-SHA256 bits=128/128); Sun, 01 Dec 2024 12:50:19 -0800 (PST) X-Relaying-Domain: iol.unh.edu Date: Sun, 01 Dec 2024 12:50:19 -0800 (PST) Message-ID: <674ccc0b.050a0220.1c2c99.7637SMTPIN_ADDED_MISSING@mx.google.com> Received: from [172.17.0.2] (unknown [172.18.0.217]) by postal.iol.unh.edu (Postfix) with ESMTP id 1820C6052471; Sun, 1 Dec 2024 15:50:19 -0500 (EST) Subject: |SUCCESS| [GIT MASTER] 1b3bf1128d9bda5595861814792f74b8f57160c8 From: dpdklab@iol.unh.edu To: Test Report Cc: dpdk-test-reports@iol.unh.edu, Jerin Jacob Content-Type: text/plain X-BeenThere: test-report@dpdk.org X-Mailman-Version: 2.1.29 Precedence: list List-Id: automatic DPDK test reports List-Unsubscribe: , List-Archive: List-Post: List-Help: List-Subscribe: , Errors-To: test-report-bounces@dpdk.org _Testing PASS_ Branch: dpdk-next-eventdev 1b3bf1128d9bda5595861814792f74b8f57160c8 --> testing pass Upstream job id: Generic-DPDK-Compile-Meson#339918 Test environment and result as below: +----------------------------------------+--------------------+ | Environment | dpdk_meson_compile | +========================================+====================+ | RHEL9 (ARM) | PASS | +----------------------------------------+--------------------+ | Ubuntu 20.04 ARM GCC Cross Compile | PASS | +----------------------------------------+--------------------+ | Ubuntu 20.04 ARM SVE | PASS | +----------------------------------------+--------------------+ | Debian 12 with MUSDK | PASS | +----------------------------------------+--------------------+ | Fedora 39 (ARM Clang) | PASS | +----------------------------------------+--------------------+ | Fedora 39 (ARM) | PASS | +----------------------------------------+--------------------+ | Fedora 40 (ARM) | PASS | +----------------------------------------+--------------------+ | Fedora 40 (ARM Clang) | PASS | +----------------------------------------+--------------------+ | CentOS Stream 9 (ARM) | PASS | +----------------------------------------+--------------------+ | Ubuntu 22.04 (ARM) | PASS | +----------------------------------------+--------------------+ | Ubuntu 20.04 ARM Clang Cross Compile | PASS | +----------------------------------------+--------------------+ | Ubuntu 20.04 (ARM) | PASS | +----------------------------------------+--------------------+ | Ubuntu 24.04 (ARM) | PASS | +----------------------------------------+--------------------+ | Debian 12 (arm) | PASS | +----------------------------------------+--------------------+ | Ubuntu 20.04 aarch32 GCC Cross Compile | PASS | +----------------------------------------+--------------------+ RHEL9 (ARM) Kernel: Depends on container host Compiler: gcc 11.4.1 20231218 (Red Hat 11.4.1-3) Ubuntu 20.04 ARM GCC Cross Compile Kernel: Depends on container host Compiler: aarch64-linux-gnu-gcc (Ubuntu 9.4.0-1ubuntu1~20.04.2) 9.4.0 Ubuntu 20.04 ARM SVE Kernel: Depends on container host Compiler: gcc (Ubuntu 10.5.0-1ubuntu1~20.04) 10.5.0 Debian 12 with MUSDK Kernel: Depends on container host Compiler: gcc (Debian 12.2.0-14) 12.2.0 Fedora 39 (ARM Clang) Kernel: Depends on container host Compiler: clang 17.0.6 (Fedora 17.0.6-2.fc39) Fedora 39 (ARM) Kernel: Depends on container host Compiler: gcc 13.3.1 20240522 (Red Hat 13.3.1-1) Fedora 40 (ARM) Kernel: Depends on container host Compiler: gcc 14.2.1 20240801 (Red Hat 14.2.1-1) Fedora 40 (ARM Clang) Kernel: Depends on container host Compiler: clang 18.1.6 (Fedora 18.1.6-3.fc40) CentOS Stream 9 (ARM) Kernel: Depends on container host Compiler: gcc 11.4.1 20231218 (Red Hat 11.4.1-3) Ubuntu 22.04 (ARM) Kernel: Depends on container host Compiler: gcc (Ubuntu 11.4.0-1ubuntu1~22.04) 11.4.0 Ubuntu 20.04 ARM Clang Cross Compile Kernel: Depends on container host Compiler: clang 10.0.0-4ubuntu1 Ubuntu 20.04 (ARM) Kernel: Depends on container host Compiler: gcc (Ubuntu 9.4.0-1ubuntu1~20.04.2) 9.4.0 Ubuntu 24.04 (ARM) Kernel: Depends on container host Compiler: gcc (Ubuntu 13.2.0-23ubuntu4) 13.2.0 Debian 12 (arm) Kernel: Depends on container host Compiler: gcc (Debian 12.2.0-14) 12.2.0 Ubuntu 20.04 aarch32 GCC Cross Compile Kernel: Depends on container host Compiler: gcc 9.4.0 To view detailed results, visit: https://lab.dpdk.org/results/dashboard/tarballs/31794/ UNH-IOL DPDK Community Lab To manage your email subscriptions, visit: https://lab.dpdk.org/results/dashboard/preferences/subscriptions/