From mboxrd@z Thu Jan 1 00:00:00 1970 Return-Path: Received: from mails.dpdk.org (mails.dpdk.org [217.70.189.124]) by inbox.dpdk.org (Postfix) with ESMTP id 5F6CC45DFC for ; Mon, 2 Dec 2024 03:09:53 +0100 (CET) Received: from mails.dpdk.org (localhost [127.0.0.1]) by mails.dpdk.org (Postfix) with ESMTP id 357D9402A7; Mon, 2 Dec 2024 03:09:53 +0100 (CET) Received: from mail-pf1-f228.google.com (mail-pf1-f228.google.com [209.85.210.228]) by mails.dpdk.org (Postfix) with ESMTP id 8C10D40285 for ; Mon, 2 Dec 2024 03:09:51 +0100 (CET) Received: by mail-pf1-f228.google.com with SMTP id d2e1a72fcca58-724e7d5d5b2so3364287b3a.2 for ; Sun, 01 Dec 2024 18:09:51 -0800 (PST) DKIM-Signature: v=1; a=rsa-sha256; c=relaxed/relaxed; d=iol.unh.edu; s=unh-iol; t=1733105391; x=1733710191; darn=dpdk.org; h=cc:to:from:subject:message-id:date:from:to:cc:subject:date :message-id:reply-to; bh=JRvVD52P+XBi73fK2Y/h4dC80ujnQXTQlGCIUrNKras=; b=jeJFNYdZPwvRMaJBnR1EtC8SIqUsHuBsThXwWkQcp7rmW8qAI7rBx+z7ciq1h7JD9Y gZitDCqR288eev85Zeo8sBBdokBEgzahDKuyORDIT+477SaGBT9pDIvxr5DFc9HGFu2b 64wOefg0GJvHzd/pEfqctJ5HsOz70VXIvNqZM= X-Google-DKIM-Signature: v=1; a=rsa-sha256; c=relaxed/relaxed; d=1e100.net; s=20230601; t=1733105391; x=1733710191; h=cc:to:from:subject:message-id:date:x-gm-message-state:from:to:cc :subject:date:message-id:reply-to; bh=JRvVD52P+XBi73fK2Y/h4dC80ujnQXTQlGCIUrNKras=; b=PJzSIU6yW7teb2GxOkS70KMLo9Cb6IXB8AfqblE1VsEqzmMMyris/aZlj7BGhzTpN/ V5OFIKw5Jyj1Pn5GGcIWKgMzzrFUz/X6d+Ljnm37+Gzqw8sNE7vNIFHGbPdMJc8pJWQF 1PJ/uDcacbjT1J5GDXdyZiajKRJxYsoCvoqJkRJGj5XbUdo2xR0c3qGujb9KNn42JpiK 4pLMFPo011gSdjE+Gk4AYSd+bhxhFKQ0lNfcoYls1fxfkUq3Dt/EVrrcPuLNxi2+pzJN kaYV/9jJwjTSxyOa3gPppK6CD5PnL7L5pAhd5VcB/ju0RxdorulC3GOMdmUMZun9Ca3w o4Vw== X-Gm-Message-State: AOJu0Yxn7bZq/XlQ6yD/5Yx1yIu6+ovTtsumFxs2ConpDVndX6g0u0lj ynsHf2BTznROi62844tqOD3JVZdiP5jKJXRuk7wUf2+X5bPFJPRCW0iFutpcdkb4NH/sOME03gM KssXL62f3FaJCvPSLZLxkjBixjDN349L/WgllFzlo X-Gm-Gg: ASbGnctayDvkp/PJRPgIWJBT0GLrM3tK0eW5+glDlMSMhgvO/WWLMeUfrttLwhJqfLY 7k89cstBrnQr2IkVJAVFapvnCTzOltwOK97hQdR0CBedet5M1to17gwrgbPPGUTID93FPI0REIz iNsRB3RJhuZXZfa+y4p/tw6+tt4ncUD3kU/vsR4Nhn8yL4NEFzlXNXSfIj82tmFVyyU/0QjtiRB LR5Fn7ckax0EEMqVAypvAook8LuPlFfYNtBdkMFOpeE2wHpQvvlpdbB4nyuc79MuSppR1Y= X-Google-Smtp-Source: AGHT+IHH/hNjaHxpUoCbivva19GvqX+1z+/vRwSb+bgqz97/rAHWmdyGXbHg/Lv1+GM3iAG0kkztwRPb060D X-Received: by 2002:a05:6a00:6c8c:b0:725:418b:90e6 with SMTP id d2e1a72fcca58-725418b93a2mr24166386b3a.2.1733105390666; Sun, 01 Dec 2024 18:09:50 -0800 (PST) Received: from postal.iol.unh.edu (postal.iol.unh.edu. [132.177.123.84]) by smtp-relay.gmail.com with ESMTPS id d2e1a72fcca58-725418245f9sm442915b3a.22.2024.12.01.18.09.50 (version=TLS1_2 cipher=ECDHE-ECDSA-AES128-GCM-SHA256 bits=128/128); Sun, 01 Dec 2024 18:09:50 -0800 (PST) X-Relaying-Domain: iol.unh.edu Date: Sun, 01 Dec 2024 18:09:50 -0800 (PST) Message-ID: <674d16ee.050a0220.e3ebd.8ac9SMTPIN_ADDED_MISSING@mx.google.com> Received: from [172.17.0.3] (unknown [172.18.0.217]) by postal.iol.unh.edu (Postfix) with ESMTP id C2C056052471; Sun, 1 Dec 2024 21:09:49 -0500 (EST) Subject: |SUCCESS| [GIT MASTER] 1b3bf1128d9bda5595861814792f74b8f57160c8 From: dpdklab@iol.unh.edu To: Test Report Cc: dpdk-test-reports@iol.unh.edu Content-Type: text/plain X-BeenThere: test-report@dpdk.org X-Mailman-Version: 2.1.29 Precedence: list List-Id: automatic DPDK test reports List-Unsubscribe: , List-Archive: List-Post: List-Help: List-Subscribe: , Errors-To: test-report-bounces@dpdk.org _Testing PASS_ Branch: dpdk 1b3bf1128d9bda5595861814792f74b8f57160c8 --> testing pass Upstream job id: ACVP-FIPS-testing#8178 Test environment and result as below: +--------------------+----------------------+----------------------+ | Environment | compressdev_zlib_pmd | dpdk_fips_validation | +====================+======================+======================+ | Ubuntu 22.04 (ARM) | PASS | SKIPPED | +--------------------+----------------------+----------------------+ | Ubuntu 22.04 | PASS | SKIPPED | +--------------------+----------------------+----------------------+ | Ubuntu 20.04 | SKIPPED | PASS | +--------------------+----------------------+----------------------+ Ubuntu 22.04 (ARM) Kernel: 5.15.0-97-generic Compiler: gcc gcc (Ubuntu 11.4.0-1ubuntu1~22.04) 11.4.0 Ubuntu 22.04 Kernel: 5.15.0-100-generic Compiler: gcc gcc (Ubuntu 11.4.0-1ubuntu1~22.04) 11.4.0 Ubuntu 20.04 Kernel: Depends on container host Compiler: gcc (Ubuntu 9.4.0-1ubuntu1~20.04.2) 9.4.0 To view detailed results, visit: https://lab.dpdk.org/results/dashboard/tarballs/31795/ UNH-IOL DPDK Community Lab To manage your email subscriptions, visit: https://lab.dpdk.org/results/dashboard/preferences/subscriptions/