From mboxrd@z Thu Jan 1 00:00:00 1970 Return-Path: Received: from mails.dpdk.org (mails.dpdk.org [217.70.189.124]) by inbox.dpdk.org (Postfix) with ESMTP id 87A5F45DFC for ; Mon, 2 Dec 2024 03:10:36 +0100 (CET) Received: from mails.dpdk.org (localhost [127.0.0.1]) by mails.dpdk.org (Postfix) with ESMTP id 7DFB0402A7; Mon, 2 Dec 2024 03:10:36 +0100 (CET) Received: from mail-io1-f99.google.com (mail-io1-f99.google.com [209.85.166.99]) by mails.dpdk.org (Postfix) with ESMTP id 8292840285 for ; Mon, 2 Dec 2024 03:10:34 +0100 (CET) Received: by mail-io1-f99.google.com with SMTP id ca18e2360f4ac-8418a2f596fso115692439f.1 for ; Sun, 01 Dec 2024 18:10:34 -0800 (PST) DKIM-Signature: v=1; a=rsa-sha256; c=relaxed/relaxed; d=iol.unh.edu; s=unh-iol; t=1733105434; x=1733710234; darn=dpdk.org; h=cc:to:from:subject:message-id:date:from:to:cc:subject:date :message-id:reply-to; bh=SZlbD+u5kgfj6C5ts0dTwOwtjNiTouni1GTBpXI4Peg=; b=jUHj3Nbjx10RSHS3RHi7p1vj+aj8AS6jQitls/tt6H29iI/z16JEpPj5StQfDKYsrJ 3fGKerrxWIPZBGToFR6Y8m/gNZ28XAfhlu6q//VUeDNMF3+f6b29SSuq4Z8Oo5Oy1G/N 5baDYuHVxkWfB6hQXjSEg6lf1BkjyA242VDuY= X-Google-DKIM-Signature: v=1; a=rsa-sha256; c=relaxed/relaxed; d=1e100.net; s=20230601; t=1733105434; x=1733710234; h=cc:to:from:subject:message-id:date:x-gm-message-state:from:to:cc :subject:date:message-id:reply-to; bh=SZlbD+u5kgfj6C5ts0dTwOwtjNiTouni1GTBpXI4Peg=; b=EBz3vt9i+XswGdZ8jWzrt+UNNjCNzpXrUrL/xTy1L/zBi5d8MXsrkEUnua9TgedIq4 XRaiT2w5TEjbTzOpXkNQ7uy/EiCL15CvxNIBUCyNAT0clsG0IIJ0fXeysIuuEobhoxEh pmwT8E7HXoYPfD3kNC3QTAhuROYWlzkHmaIV2A/TQFnBz/Vc6xO6BZCmq3iEj5MWBAlv YUKXoJ44ZbcHzJXtYccmlsEWSYp6TtGNwM6xpltNt07Kr2EOp+FpJkMujsU6lfk8AwRF Cj2Ry0pWOsVXmzku7ERcp3Mfq3CDkVhlIOC2ybNQzv6/8zBrdvbi8z94TWb4FgrS8EqY X9AQ== X-Gm-Message-State: AOJu0YxX8sHjsHM7kBwMNSRMJHpufzP4ghpkrB41DpZcy/apuDSm8J8w PhBswEtq1gkO09iiGw08RLBfZ/bHw17GFeyjSW8+8Nt/+FsB98/WRRA2xD5gXE2tNNobUfI20o4 DPSBqtzb4Avu6giHuVfC2mFPV71BALU+QjzMOBGl/ X-Gm-Gg: ASbGnctC+sUvMZ6S0A19ldayhDn+tYc/N/9CBk0k/cT3tanlqE2bloFYWImyMVSpgAM PD2btBSKT/w7ljyxTTou+rhg9pHCRQyqFTHdFpGFfjwXbCg8J5Za2e11wpFbBpFqWRaRDzjcJuW nF9KLm44VATt3YxOMGFSawJHtXHwTXX8FIhqtpfQUHmYhuabCVl3ewTzmqtuzwYH1bBwd2gDVEN LSh1ZUtlvZtrvsBA5ernaWuPIPJLhYQvFivqRWyNbNIjdqXvyAQk1asQvOD8FKAibxL3e8= X-Google-Smtp-Source: AGHT+IF2Z2+jTMA3nl5EeV+v9zrFmZrK7agS0s8LwS26zt7u1zG7RaWsUtl22pJgIi5ixzrzlXQNeCBabT0Q X-Received: by 2002:a05:6602:150e:b0:843:ec8d:be00 with SMTP id ca18e2360f4ac-843ed021f2bmr1996270539f.13.1733105433805; Sun, 01 Dec 2024 18:10:33 -0800 (PST) Received: from postal.iol.unh.edu (postal.iol.unh.edu. [132.177.123.84]) by smtp-relay.gmail.com with ESMTPS id 8926c6da1cb9f-4e230dc9bbdsm341997173.14.2024.12.01.18.10.33 (version=TLS1_2 cipher=ECDHE-ECDSA-AES128-GCM-SHA256 bits=128/128); Sun, 01 Dec 2024 18:10:33 -0800 (PST) X-Relaying-Domain: iol.unh.edu Date: Sun, 01 Dec 2024 18:10:33 -0800 (PST) Message-ID: <674d1719.050a0220.27020e.3e3aSMTPIN_ADDED_MISSING@mx.google.com> Received: from [172.17.0.3] (unknown [172.18.0.217]) by postal.iol.unh.edu (Postfix) with ESMTP id 591E96052471; Sun, 1 Dec 2024 21:10:33 -0500 (EST) Subject: |SUCCESS| [GIT MASTER] 1b3bf1128d9bda5595861814792f74b8f57160c8 From: dpdklab@iol.unh.edu To: Test Report Cc: dpdk-test-reports@iol.unh.edu Content-Type: text/plain X-BeenThere: test-report@dpdk.org X-Mailman-Version: 2.1.29 Precedence: list List-Id: automatic DPDK test reports List-Unsubscribe: , List-Archive: List-Post: List-Help: List-Subscribe: , Errors-To: test-report-bounces@dpdk.org _Testing PASS_ Branch: dpdk 1b3bf1128d9bda5595861814792f74b8f57160c8 --> testing pass Upstream job id: Generic-Unit-Test-DPDK#296619 Test environment and result as below: +-----------------------------+--------------+---------------------------+------------------------------+----------------+ | Environment | lpm_autotest | cryptodev_sw_zuc_autotest | cryptodev_sw_snow3g_autotest | dpdk_unit_test | +=============================+==============+===========================+==============================+================+ | Ubuntu 20.04 ARM SVE | PASS | SKIPPED | SKIPPED | SKIPPED | +-----------------------------+--------------+---------------------------+------------------------------+----------------+ | Debian 12 (arm) | SKIPPED | PASS | PASS | PASS | +-----------------------------+--------------+---------------------------+------------------------------+----------------+ | CentOS Stream 9 (ARM) | SKIPPED | SKIPPED | SKIPPED | PASS | +-----------------------------+--------------+---------------------------+------------------------------+----------------+ | Fedora 39 (ARM) | SKIPPED | SKIPPED | SKIPPED | PASS | +-----------------------------+--------------+---------------------------+------------------------------+----------------+ | Fedora 40 (ARM Clang) | SKIPPED | SKIPPED | SKIPPED | PASS | +-----------------------------+--------------+---------------------------+------------------------------+----------------+ | Fedora 40 (ARM) | SKIPPED | SKIPPED | SKIPPED | PASS | +-----------------------------+--------------+---------------------------+------------------------------+----------------+ | RHEL9 (ARM) | SKIPPED | SKIPPED | SKIPPED | PASS | +-----------------------------+--------------+---------------------------+------------------------------+----------------+ | Ubuntu 24.04 (ARM) | SKIPPED | SKIPPED | SKIPPED | PASS | +-----------------------------+--------------+---------------------------+------------------------------+----------------+ | Ubuntu 20.04 (ARM) | SKIPPED | SKIPPED | SKIPPED | PASS | +-----------------------------+--------------+---------------------------+------------------------------+----------------+ | Ubuntu 22.04 (ARM) | SKIPPED | SKIPPED | SKIPPED | PASS | +-----------------------------+--------------+---------------------------+------------------------------+----------------+ | Fedora 39 (ARM Clang) | SKIPPED | SKIPPED | SKIPPED | PASS | +-----------------------------+--------------+---------------------------+------------------------------+----------------+ | 32-bit Ubuntu 22.04.4 (ARM) | SKIPPED | SKIPPED | SKIPPED | PASS | +-----------------------------+--------------+---------------------------+------------------------------+----------------+ Ubuntu 20.04 ARM SVE Kernel: Depends on container host Compiler: gcc (Ubuntu 10.5.0-1ubuntu1~20.04) 10.5.0 Debian 12 (arm) Kernel: Depends on container host Compiler: gcc (Debian 12.2.0-14) 12.2.0 CentOS Stream 9 (ARM) Kernel: Depends on container host Compiler: gcc 11.4.1 20231218 (Red Hat 11.4.1-3) Fedora 39 (ARM) Kernel: Depends on container host Compiler: gcc 13.3.1 20240522 (Red Hat 13.3.1-1) Fedora 40 (ARM Clang) Kernel: Depends on container host Compiler: clang 18.1.6 (Fedora 18.1.6-3.fc40) Fedora 40 (ARM) Kernel: Depends on container host Compiler: gcc 14.2.1 20240801 (Red Hat 14.2.1-1) RHEL9 (ARM) Kernel: Depends on container host Compiler: gcc 11.4.1 20231218 (Red Hat 11.4.1-3) Ubuntu 24.04 (ARM) Kernel: Depends on container host Compiler: gcc (Ubuntu 13.2.0-23ubuntu4) 13.2.0 Ubuntu 20.04 (ARM) Kernel: Depends on container host Compiler: gcc (Ubuntu 9.4.0-1ubuntu1~20.04.2) 9.4.0 Ubuntu 22.04 (ARM) Kernel: Depends on container host Compiler: gcc (Ubuntu 11.4.0-1ubuntu1~22.04) 11.4.0 Fedora 39 (ARM Clang) Kernel: Depends on container host Compiler: clang 17.0.6 (Fedora 17.0.6-2.fc39) 32-bit Ubuntu 22.04.4 (ARM) Kernel: 5.15.83+ aarch64 Compiler: gcc (Ubuntu 11.4.0-1ubuntu1~22.04) 11.4.0 To view detailed results, visit: https://lab.dpdk.org/results/dashboard/tarballs/31795/ UNH-IOL DPDK Community Lab To manage your email subscriptions, visit: https://lab.dpdk.org/results/dashboard/preferences/subscriptions/