From mboxrd@z Thu Jan 1 00:00:00 1970 Return-Path: Received: from mails.dpdk.org (mails.dpdk.org [217.70.189.124]) by inbox.dpdk.org (Postfix) with ESMTP id 8A23445DFF for ; Mon, 2 Dec 2024 06:25:08 +0100 (CET) Received: from mails.dpdk.org (localhost [127.0.0.1]) by mails.dpdk.org (Postfix) with ESMTP id 8317A402A7; Mon, 2 Dec 2024 06:25:08 +0100 (CET) Received: from mail-vs1-f97.google.com (mail-vs1-f97.google.com [209.85.217.97]) by mails.dpdk.org (Postfix) with ESMTP id 6DF6340285 for ; Mon, 2 Dec 2024 06:25:07 +0100 (CET) Received: by mail-vs1-f97.google.com with SMTP id ada2fe7eead31-4af4575ec4cso1158509137.2 for ; Sun, 01 Dec 2024 21:25:07 -0800 (PST) DKIM-Signature: v=1; a=rsa-sha256; c=relaxed/relaxed; d=iol.unh.edu; s=unh-iol; t=1733117107; x=1733721907; darn=dpdk.org; h=cc:to:from:subject:message-id:date:from:to:cc:subject:date :message-id:reply-to; bh=XCSTyV90Yt9nyaKGOPzopJmIU4Fuuz9c28JY4SmYxo0=; b=LIqxTk+brlsyAt7asU6p7vb54j7kmnoCnQdZ543KZDNp1i+YHsuAY+l7LNOi/Yb9Ig TIMGSMtdRTH2ZQ7zhoY4rYvjninx1hevMokI33IvjBTc2QhdJ00xp5ICHSRoPgDrWD7C OugfBcx07SCaJaudWu/Tl36XbTkviqMrsTE1A= X-Google-DKIM-Signature: v=1; a=rsa-sha256; c=relaxed/relaxed; d=1e100.net; s=20230601; t=1733117107; x=1733721907; h=cc:to:from:subject:message-id:date:x-gm-message-state:from:to:cc :subject:date:message-id:reply-to; bh=XCSTyV90Yt9nyaKGOPzopJmIU4Fuuz9c28JY4SmYxo0=; b=V/E3tz22NSF3/B0+jQfdbUxhvV4JUv0ndFKBsYTV85HyUcuoq0dqL7LCwuXLCZgiBO nekWomPcvlZG/byU40rtLjfna3A8SXf/mJ8Tm3AphxzQCnGcYZNKKlgdx5+hWWOy45+8 bX9LcCROQyAhtO3macbz9RpsBirjDZSPCAqQ/BlDqF0uEPUHn+TZSzKzn29MqHOiizOl qzFEWO2j2UtpNPKY14AE58ia3LFc6CX26k6uFUoVtCVccbnmUrR1gVVvlktHMBfycCPz Ufq5BeiBCO+fHk4+ckY3TQVG9NAQAwVpEAUqNQsPHGBZI7YSXFmkKlqevfiQGaSVBuP3 j0+w== X-Gm-Message-State: AOJu0YwvuLCQRjMUNilwlGrPM74A0D5tYy+tYJAbTELymYEC1QQtAED1 GSMEaqOSxD14wi058Q9vVWHYH+0PQ63/YkR8y2B/wILlD0Q7wJ9wvKeeOzneyZCTc44YTBQz9hn gTxeHX10bS57OXbxa1L00bp7Gl5nio24DxDt3LH5K X-Gm-Gg: ASbGncvB/7q/4r6xHuyVYrJnbYH5FzFK2IIKq7ZtcG3yx0Ohafaqxgs9RRzdN1578zf NJmduZNGNoLWgrGhhH7LCipdNGckbM+tMmD5kg44MR1hKNtbwXgpIF4zeJoe12qFI6ND/8JwwuW ByyxY0OLB5NAlNDE2p/xQsM8Z26HgwOB8Grzo9IcOdib1neMXItRCBR0/mNB4WidcQpfVKabWEG 4m3N1swZNhNPsS0yawGKRCOGM7S8W+b8pdAFN5y0W7uWhNTnIskjCd7Y1ZgeIqCg7vKM+A= X-Google-Smtp-Source: AGHT+IEU0JBvcMESa7ESeemQJKEuqvToMt0IU5hDvKvLZeJYV7rzv6iuJkdjVpswhYyVzMIzi4FYqgbDRoOn X-Received: by 2002:a67:f34f:0:b0:4af:5eb5:844e with SMTP id ada2fe7eead31-4af5eb58642mr13646101137.18.1733117106842; Sun, 01 Dec 2024 21:25:06 -0800 (PST) Received: from postal.iol.unh.edu (postal.iol.unh.edu. [132.177.123.84]) by smtp-relay.gmail.com with ESMTPS id a1e0cc1a2514c-85b82cb7d97sm241217241.12.2024.12.01.21.25.06 (version=TLS1_2 cipher=ECDHE-ECDSA-AES128-GCM-SHA256 bits=128/128); Sun, 01 Dec 2024 21:25:06 -0800 (PST) X-Relaying-Domain: iol.unh.edu Date: Sun, 01 Dec 2024 21:25:06 -0800 (PST) Message-ID: <674d44b2.9f0a0220.a5ad0.d807SMTPIN_ADDED_MISSING@mx.google.com> Received: from [172.21.0.7] (unknown [172.18.0.240]) by postal.iol.unh.edu (Postfix) with ESMTP id 5F0256052471; Mon, 2 Dec 2024 00:25:06 -0500 (EST) Subject: |SUCCESS| [GIT MASTER] 1b3bf1128d9bda5595861814792f74b8f57160c8 From: dpdklab@iol.unh.edu To: Test Report Cc: dpdk-test-reports@iol.unh.edu Content-Type: text/plain X-BeenThere: test-report@dpdk.org X-Mailman-Version: 2.1.29 Precedence: list List-Id: automatic DPDK test reports List-Unsubscribe: , List-Archive: List-Post: List-Help: List-Subscribe: , Errors-To: test-report-bounces@dpdk.org _Testing PASS_ Branch: dpdk 1b3bf1128d9bda5595861814792f74b8f57160c8 --> testing pass Upstream job id: Generic-DPDK-Compile-Meson#339945 Test environment and result as below: +----------------------------------------+--------------------+ | Environment | dpdk_meson_compile | +========================================+====================+ | Ubuntu 20.04 ARM GCC Cross Compile | PASS | +----------------------------------------+--------------------+ | RHEL9 (ARM) | PASS | +----------------------------------------+--------------------+ | Ubuntu 20.04 ARM SVE | PASS | +----------------------------------------+--------------------+ | Debian 12 with MUSDK | PASS | +----------------------------------------+--------------------+ | Fedora 39 (ARM) | PASS | +----------------------------------------+--------------------+ | Fedora 40 (ARM) | PASS | +----------------------------------------+--------------------+ | Ubuntu 20.04 (ARM) | PASS | +----------------------------------------+--------------------+ | Fedora 40 (ARM Clang) | PASS | +----------------------------------------+--------------------+ | Fedora 39 (ARM Clang) | PASS | +----------------------------------------+--------------------+ | Ubuntu 22.04 (ARM) | PASS | +----------------------------------------+--------------------+ | Debian 12 (arm) | PASS | +----------------------------------------+--------------------+ | CentOS Stream 9 (ARM) | PASS | +----------------------------------------+--------------------+ | Ubuntu 24.04 (ARM) | PASS | +----------------------------------------+--------------------+ | Ubuntu 20.04 ARM Clang Cross Compile | PASS | +----------------------------------------+--------------------+ | Ubuntu 20.04 aarch32 GCC Cross Compile | PASS | +----------------------------------------+--------------------+ Ubuntu 20.04 ARM GCC Cross Compile Kernel: Depends on container host Compiler: aarch64-linux-gnu-gcc (Ubuntu 9.4.0-1ubuntu1~20.04.2) 9.4.0 RHEL9 (ARM) Kernel: Depends on container host Compiler: gcc 11.4.1 20231218 (Red Hat 11.4.1-3) Ubuntu 20.04 ARM SVE Kernel: Depends on container host Compiler: gcc (Ubuntu 10.5.0-1ubuntu1~20.04) 10.5.0 Debian 12 with MUSDK Kernel: Depends on container host Compiler: gcc (Debian 12.2.0-14) 12.2.0 Fedora 39 (ARM) Kernel: Depends on container host Compiler: gcc 13.3.1 20240522 (Red Hat 13.3.1-1) Fedora 40 (ARM) Kernel: Depends on container host Compiler: gcc 14.2.1 20240801 (Red Hat 14.2.1-1) Ubuntu 20.04 (ARM) Kernel: Depends on container host Compiler: gcc (Ubuntu 9.4.0-1ubuntu1~20.04.2) 9.4.0 Fedora 40 (ARM Clang) Kernel: Depends on container host Compiler: clang 18.1.6 (Fedora 18.1.6-3.fc40) Fedora 39 (ARM Clang) Kernel: Depends on container host Compiler: clang 17.0.6 (Fedora 17.0.6-2.fc39) Ubuntu 22.04 (ARM) Kernel: Depends on container host Compiler: gcc (Ubuntu 11.4.0-1ubuntu1~22.04) 11.4.0 Debian 12 (arm) Kernel: Depends on container host Compiler: gcc (Debian 12.2.0-14) 12.2.0 CentOS Stream 9 (ARM) Kernel: Depends on container host Compiler: gcc 11.4.1 20231218 (Red Hat 11.4.1-3) Ubuntu 24.04 (ARM) Kernel: Depends on container host Compiler: gcc (Ubuntu 13.2.0-23ubuntu4) 13.2.0 Ubuntu 20.04 ARM Clang Cross Compile Kernel: Depends on container host Compiler: clang 10.0.0-4ubuntu1 Ubuntu 20.04 aarch32 GCC Cross Compile Kernel: Depends on container host Compiler: gcc 9.4.0 To view detailed results, visit: https://lab.dpdk.org/results/dashboard/tarballs/31795/ UNH-IOL DPDK Community Lab To manage your email subscriptions, visit: https://lab.dpdk.org/results/dashboard/preferences/subscriptions/