From mboxrd@z Thu Jan  1 00:00:00 1970
Return-Path: <test-report-bounces@dpdk.org>
Received: from mails.dpdk.org (mails.dpdk.org [217.70.189.124])
	by inbox.dpdk.org (Postfix) with ESMTP id 86E7545E03
	for <public@inbox.dpdk.org>; Mon,  2 Dec 2024 13:52:04 +0100 (CET)
Received: from mails.dpdk.org (localhost [127.0.0.1])
	by mails.dpdk.org (Postfix) with ESMTP id 839D140270;
	Mon,  2 Dec 2024 13:52:04 +0100 (CET)
Received: from mail-yw1-f225.google.com (mail-yw1-f225.google.com
 [209.85.128.225])
 by mails.dpdk.org (Postfix) with ESMTP id D04AD400D6
 for <test-report@dpdk.org>; Mon,  2 Dec 2024 13:52:03 +0100 (CET)
Received: by mail-yw1-f225.google.com with SMTP id
 00721157ae682-6ef8028fe9fso12161397b3.2
 for <test-report@dpdk.org>; Mon, 02 Dec 2024 04:52:03 -0800 (PST)
DKIM-Signature: v=1; a=rsa-sha256; c=relaxed/relaxed;
 d=iol.unh.edu; s=unh-iol; t=1733143923; x=1733748723; darn=dpdk.org;
 h=references:in-reply-to:cc:to:from:subject:message-id:date:from:to
 :cc:subject:date:message-id:reply-to;
 bh=0Ux6OEe0JYvzT13SCa1BZTbNah4mPXpWzdf2NkQD+0U=;
 b=PlfqDq+IsfcWa+Nshpn+mjcvc41dTujrVXro18BxBlDgNexwOA/ddBZfxfdiQq7VBs
 VwZkYmDw/GogpPfvnw2o5YjWTuICUbV/XRwNZL00uC5Rm6i6KSyqvyfh5oCb77Qkwq79
 T8DFmLIULO12KbetnH+JPZrvYl+x4jbUdtjgs=
X-Google-DKIM-Signature: v=1; a=rsa-sha256; c=relaxed/relaxed;
 d=1e100.net; s=20230601; t=1733143923; x=1733748723;
 h=references:in-reply-to:cc:to:from:subject:message-id:date
 :x-gm-message-state:from:to:cc:subject:date:message-id:reply-to;
 bh=0Ux6OEe0JYvzT13SCa1BZTbNah4mPXpWzdf2NkQD+0U=;
 b=T5Dl06vrj5v6b+dkrxyEX6K6CZPjC/JYDuWLIijBTzdngLiLVLwRfceVkD/zMf/Prx
 449MC7572eBSOn2u2jkeTksEVYEoG+BOQFlmGtIygWtuW9atkc5uA31YEg9BLkm6T1MX
 4KoPtY00koZk60BL9DGnsTrRcYW3pljVpvAo4bJih6u5+mr5ZS/p2Rluq+X9Zh7U5UOF
 OnwqdWxcSi/nBYDukeOm0okxlhw4J04fqymIQSknKthO35Wuntdg4kO4y4rVGQQObQTr
 AJppsWZTpv09Wk9MDRNO2tfwwj1+8GDA8Xs92R4Faf10XraB6jp3WFc/EdaTL8RlddEn
 /Iyg==
X-Gm-Message-State: AOJu0YxKCfp8ZyF9BZdbMOx1jGYoQxrCYPx/WlIqYcehfRF+5N6JjeiU
 7+1NdBo5vtP5WznUZ4LVwLdp1OZtNbAbp/XL3HP1dNtskDRgKZCH6InFwB0Vhoc6G1/8x4Hdsn9
 4+aawPl0E4IbD85v5mBVZEI5H+BmQSsFlFMl0euJq
X-Gm-Gg: ASbGncsxlT33+i7AlHR6UQRR8vF4Z5dwji7aR9mlqq9kaeHZqEqifSpAFgJLnAOPn8l
 5Tu0CTJzSjoDABncYmBgstUDLmZNYRJMqnCOXluXDuvSbdXu5/fmkWlkxY5o7RaTLO0h3i+xG67
 JYZBqqu7Qnwj7aVPIKiGKZ8PIhupRZ5aUL15R7g0AP59R+SWtI31pIg7f0c+8YhAAqa7WUOJ5J2
 JwfWZNUlepN93pkT12ah8AQVxqAEViHC97ftXaMNDoc7VUOPt/5fCJwURslUVzxupophtQ=
X-Google-Smtp-Source: AGHT+IExC/eHX0I6ZrFOmLuBge83h9LxYYS5glF2ulj7RyV2UEypoFYHlSUlSgn+hEtP/79i7KXPSEr2mRkb
X-Received: by 2002:a05:690c:600e:b0:6ef:6a91:4965 with SMTP id
 00721157ae682-6ef6a914f45mr100762657b3.37.1733143921603; 
 Mon, 02 Dec 2024 04:52:01 -0800 (PST)
Received: from postal.iol.unh.edu (postal.iol.unh.edu. [132.177.123.84])
 by smtp-relay.gmail.com with ESMTPS id
 00721157ae682-6ef4dd7732bsm2844697b3.52.2024.12.02.04.52.01
 (version=TLS1_2 cipher=ECDHE-ECDSA-AES128-GCM-SHA256 bits=128/128);
 Mon, 02 Dec 2024 04:52:01 -0800 (PST)
X-Relaying-Domain: iol.unh.edu
Date: Mon, 02 Dec 2024 04:52:01 -0800 (PST)
Message-ID: <674dad71.050a0220.1966f9.f02bSMTPIN_ADDED_MISSING@mx.google.com>
Received: from [172.17.0.2] (unknown [172.18.0.217])
 by postal.iol.unh.edu (Postfix) with ESMTP id 3B4766052471;
 Mon,  2 Dec 2024 07:52:01 -0500 (EST)
Subject: |WARNING| pw148953-148973 [PATCH] [v1,21/21] net/ixgbe: use common T
From: dpdklab@iol.unh.edu
To: Test Report <test-report@dpdk.org>
Cc: dpdk-test-reports@iol.unh.edu
In-Reply-To: <20241202112444.1517416-22-bruce.richardson@intel.com>
References: <20241202112444.1517416-22-bruce.richardson@intel.com>
Content-Type: text/plain
X-BeenThere: test-report@dpdk.org
X-Mailman-Version: 2.1.29
Precedence: list
List-Id: automatic DPDK test reports <test-report.dpdk.org>
List-Unsubscribe: <https://mails.dpdk.org/options/test-report>,
 <mailto:test-report-request@dpdk.org?subject=unsubscribe>
List-Archive: <http://mails.dpdk.org/archives/test-report/>
List-Post: <mailto:test-report@dpdk.org>
List-Help: <mailto:test-report-request@dpdk.org?subject=help>
List-Subscribe: <https://mails.dpdk.org/listinfo/test-report>,
 <mailto:test-report-request@dpdk.org?subject=subscribe>
Errors-To: test-report-bounces@dpdk.org

Test-Label: iol-compile-amd64-testing
Test-Status: WARNING
http://dpdk.org/patch/148973

_Testing issues_

Submitter: Bruce Richardson <bruce.richardson@intel.com>
Date: Monday, December 02 2024 11:24:41 
DPDK git baseline: Repo:dpdk
  Branch: master
  CommitID:1b3bf1128d9bda5595861814792f74b8f57160c8

148953-148973 --> testing issues

Upstream job id: Generic-DPDK-Compile-Meson#340134

Test environment and result as below:

+---------------------+--------------------+------------------+-------------------+-----------------------+-------------------+----------------------+
|     Environment     | dpdk_meson_compile | dpdk_compile_ovs | dpdk_compile_spdk | dpdk_win_llvm_compile | dpdk_msvc_compile | dpdk_mingw64_compile |
+=====================+====================+==================+===================+=======================+===================+======================+
| CentOS Stream 9     | PASS               | PASS             | PASS              | SKIPPED               | SKIPPED           | SKIPPED              |
+---------------------+--------------------+------------------+-------------------+-----------------------+-------------------+----------------------+
| Debian 12           | PASS               | PASS             | PASS              | SKIPPED               | SKIPPED           | SKIPPED              |
+---------------------+--------------------+------------------+-------------------+-----------------------+-------------------+----------------------+
| Fedora 39 (Clang)   | PASS               | PASS             | PASS              | SKIPPED               | SKIPPED           | SKIPPED              |
+---------------------+--------------------+------------------+-------------------+-----------------------+-------------------+----------------------+
| Fedora 39           | PASS               | PASS             | PASS              | SKIPPED               | SKIPPED           | SKIPPED              |
+---------------------+--------------------+------------------+-------------------+-----------------------+-------------------+----------------------+
| Fedora 40 (Clang)   | PASS               | PASS             | PASS              | SKIPPED               | SKIPPED           | SKIPPED              |
+---------------------+--------------------+------------------+-------------------+-----------------------+-------------------+----------------------+
| openSUSE Leap 15    | PASS               | PASS             | SKIPPED           | SKIPPED               | SKIPPED           | SKIPPED              |
+---------------------+--------------------+------------------+-------------------+-----------------------+-------------------+----------------------+
| RHEL8               | PASS               | PASS             | SKIPPED           | SKIPPED               | SKIPPED           | SKIPPED              |
+---------------------+--------------------+------------------+-------------------+-----------------------+-------------------+----------------------+
| Fedora 40           | PASS               | PASS             | PASS              | SKIPPED               | SKIPPED           | SKIPPED              |
+---------------------+--------------------+------------------+-------------------+-----------------------+-------------------+----------------------+
| RHEL9               | PASS               | PASS             | SKIPPED           | SKIPPED               | SKIPPED           | SKIPPED              |
+---------------------+--------------------+------------------+-------------------+-----------------------+-------------------+----------------------+
| Ubuntu 20.04        | PASS               | WARN             | SKIPPED           | SKIPPED               | SKIPPED           | SKIPPED              |
+---------------------+--------------------+------------------+-------------------+-----------------------+-------------------+----------------------+
| Ubuntu 24.04        | PASS               | PASS             | PASS              | SKIPPED               | SKIPPED           | SKIPPED              |
+---------------------+--------------------+------------------+-------------------+-----------------------+-------------------+----------------------+
| Ubuntu 22.04        | PASS               | PASS             | PASS              | SKIPPED               | SKIPPED           | SKIPPED              |
+---------------------+--------------------+------------------+-------------------+-----------------------+-------------------+----------------------+
| Alpine              | PASS               | PASS             | SKIPPED           | SKIPPED               | SKIPPED           | SKIPPED              |
+---------------------+--------------------+------------------+-------------------+-----------------------+-------------------+----------------------+
| FreeBSD 13.4        | PASS               | SKIPPED          | SKIPPED           | SKIPPED               | SKIPPED           | SKIPPED              |
+---------------------+--------------------+------------------+-------------------+-----------------------+-------------------+----------------------+
| FreeBSD 14.1        | PASS               | SKIPPED          | SKIPPED           | SKIPPED               | SKIPPED           | SKIPPED              |
+---------------------+--------------------+------------------+-------------------+-----------------------+-------------------+----------------------+
| Windows Server 2022 | SKIPPED            | SKIPPED          | SKIPPED           | PASS                  | PASS              | PASS                 |
+---------------------+--------------------+------------------+-------------------+-----------------------+-------------------+----------------------+

==== 20 line log output for Ubuntu 20.04 (dpdk_compile_ovs): ====
 --- Failed to get log output --- 
==== End log output ====

CentOS Stream 9
	Kernel: Depends on container host
	Compiler: gcc 11.4.1 20231218 (Red Hat 11.4.1-3)

Debian 12
	Kernel: Depends on container host
	Compiler: gcc (Debian 12.2.0-14) 12.2.0

Fedora 39 (Clang)
	Kernel: Depends on container host
	Compiler: clang 17.0.6 (Fedora 17.0.6-2.fc39)

Fedora 39
	Kernel: Depends on container host
	Compiler: gcc 13.3.1 20240522 (Red Hat 13.3.1-1)

Fedora 40 (Clang)
	Kernel: Depends on container host
	Compiler: clang 18.1.6 (Fedora 18.1.6-3.fc40)

openSUSE Leap 15
	Kernel: Depends on container host
	Compiler: gcc (SUSE Linux) 7.5.0

RHEL8
	Kernel: Depends on container host
	Compiler: gcc 8.5.0 20210514 (Red Hat 8.5.0-22)

Fedora 40
	Kernel: Depends on container host
	Compiler: gcc 14.2.1 20240801 (Red Hat 14.2.1-1)

RHEL9
	Kernel: Depends on container host
	Compiler: gcc 11.4.1 20231218 (Red Hat 11.4.1-3)

Ubuntu 20.04
	Kernel: Depends on container host
	Compiler: gcc (Ubuntu 9.4.0-1ubuntu1~20.04.2) 9.4.0

Ubuntu 24.04
	Kernel: Depends on container host
	Compiler: gcc (Ubuntu 13.2.0-23ubuntu4) 13.2.0

Ubuntu 22.04
	Kernel: Depends on container host
	Compiler: gcc (Ubuntu 11.4.0-1ubuntu1~22.04) 11.4.0

Alpine
	Kernel: Depends on container host
	Compiler: gcc (Alpine 13.2.1_git20240309) 13.2.1 20240309

FreeBSD 13.4
	Kernel: 13.4-RELEASE-p1
	Compiler: clang 18.1.6

FreeBSD 14.1
	Kernel: 14.1-RELEASE-p3
	Compiler: clang 18.1.5

Windows Server 2022
	Kernel: 10.0.20348.2031
	Compiler: clang 15.0.7, gcc 14.1.0 (MinGW), and MSVC VS 19.39.33521

To view detailed results, visit:
https://lab.dpdk.org/results/dashboard/patchsets/32067/

UNH-IOL DPDK Community Lab

To manage your email subscriptions, visit: 
https://lab.dpdk.org/results/dashboard/preferences/subscriptions/