From mboxrd@z Thu Jan 1 00:00:00 1970 Return-Path: Received: from mails.dpdk.org (mails.dpdk.org [217.70.189.124]) by inbox.dpdk.org (Postfix) with ESMTP id 4C41545E1E for ; Tue, 3 Dec 2024 18:31:45 +0100 (CET) Received: from mails.dpdk.org (localhost [127.0.0.1]) by mails.dpdk.org (Postfix) with ESMTP id 2838440270; Tue, 3 Dec 2024 18:31:45 +0100 (CET) Received: from mail-pg1-f227.google.com (mail-pg1-f227.google.com [209.85.215.227]) by mails.dpdk.org (Postfix) with ESMTP id A1DD54025D for ; Tue, 3 Dec 2024 18:31:44 +0100 (CET) Received: by mail-pg1-f227.google.com with SMTP id 41be03b00d2f7-7fcc8533607so2005670a12.0 for ; Tue, 03 Dec 2024 09:31:44 -0800 (PST) DKIM-Signature: v=1; a=rsa-sha256; c=relaxed/relaxed; d=iol.unh.edu; s=unh-iol; t=1733247104; x=1733851904; darn=dpdk.org; h=cc:to:from:subject:message-id:date:from:to:cc:subject:date :message-id:reply-to; bh=1jiHdrQeRlpTC1FiDl9Cgz3UtM7i3UXseKrVC93ZOf8=; b=CsVj4KPU8HSs7sof8rqYD+LK3dffT2WkRH7bVdKnVEAl78WAU4Hre8pQuEzqyKOkOR JXsjmzrLzQeJ9ua4Wc5LirW70fFgZY+2yBcR7Ml7j6CGHb9B5tsWzHBE3RWsRBYO5ZfQ wbgsx3l8gNCn8/EpEldTfAIOvzOLtldz2b4Sw= X-Google-DKIM-Signature: v=1; a=rsa-sha256; c=relaxed/relaxed; d=1e100.net; s=20230601; t=1733247104; x=1733851904; h=cc:to:from:subject:message-id:date:x-gm-message-state:from:to:cc :subject:date:message-id:reply-to; bh=1jiHdrQeRlpTC1FiDl9Cgz3UtM7i3UXseKrVC93ZOf8=; b=M6bnJtjW3FZBHlIVIFARVr0gALDCn+ddV8xFHuWGNDIxiP6ggOLEyXshpPIfrlJcHx hnaoXOo7X0NpfOCRPTX2E1qQZxZu6O76SH5VNog/hdppnKa930h29s1T9l8nKcRQKWEs vVabPyzf3P98C88sf/HBFdfs1Kkb+XKl32s5gMrLn1lE0nSb3dysax+3j2CDcqZOzWf9 p8ytNBw5cuzhwll+bziNcTwOCad/9vsexsR2QCxSGabH3VuTFi16XJDWox5iGgW4NjJv 7AWsOkcL9KYv7/EnDyEvujIJOGiX7NcYEXXWKzo37cuCx2pQZx4ktQWDPLMqcoi4scn5 476w== X-Gm-Message-State: AOJu0YzLvNe1/7+vP4oVIFGJzc8BBE11jW3IW6GC/8fLsITrPqfh503e a2veuEJ989DbkqylUR29uIw9HYSdH59gTy4LaUybqg4IGFNByBxRUIMUDHwlzR6P2+mC1WeZjE4 nyHxXm9Tlro+RicgJMFhwB418/AGzD7ifr8sYDNTdJMKGJU2EnIWD77ED X-Gm-Gg: ASbGncux/Lu+lTFdFtMQP8V7Y2aV+f+9vJLKBWC0c6L2U8VLwL1FS6Pvc2qKR8YxQtx Xxnsh223To6ms7lQMp8yYnlvEu7fN2U0f+QrNO2bjP322gkeg89seV15F7IWD4kXAmSP1ClTIBQ zvTIWEBCkp0e4IRGqWrAjypzDhUvfGv7eypjQoA3tAqhot8nyRQIlM+6CNWhCz8QAHakVoGputF b1im55qvFz4mm5vKY4NgYeanAYWKXata60ANrbgxRzJC7ZCXojcKJRho4sO8TfHNy0w33GTaA8= X-Google-Smtp-Source: AGHT+IEeDhM25RMOUQ2O+spYGmzcQWar6pNmhMVlkoXkKcLhhRIUNpgKcPFi8MIkbm5C6ZqvCfKUGLTa2Tkq X-Received: by 2002:a05:6a21:78a0:b0:1d9:1af6:94ba with SMTP id adf61e73a8af0-1e1653bb668mr4380707637.14.1733247103585; Tue, 03 Dec 2024 09:31:43 -0800 (PST) Received: from postal.iol.unh.edu (postal.iol.unh.edu. [2606:4100:3880:1234::84]) by smtp-relay.gmail.com with ESMTPS id 41be03b00d2f7-7fcf582c8c7sm13102a12.10.2024.12.03.09.31.43 (version=TLS1_2 cipher=ECDHE-ECDSA-AES128-GCM-SHA256 bits=128/128); Tue, 03 Dec 2024 09:31:43 -0800 (PST) X-Relaying-Domain: iol.unh.edu Date: Tue, 03 Dec 2024 09:31:43 -0800 (PST) Message-ID: <674f407f.630a0220.31ecfc.0b9dSMTPIN_ADDED_MISSING@mx.google.com> Received: from [172.17.0.3] (unknown [172.18.0.217]) by postal.iol.unh.edu (Postfix) with ESMTP id 5FB536052471; Tue, 3 Dec 2024 12:31:42 -0500 (EST) Subject: |SUCCESS| [GIT MASTER] 4843aacb0d1201fef37e8a579fcd8baec4acdf98 From: dpdklab@iol.unh.edu To: Test Report Cc: dpdk-test-reports@iol.unh.edu, Akhil Goyal Content-Type: text/plain X-BeenThere: test-report@dpdk.org X-Mailman-Version: 2.1.29 Precedence: list List-Id: automatic DPDK test reports List-Unsubscribe: , List-Archive: List-Post: List-Help: List-Subscribe: , Errors-To: test-report-bounces@dpdk.org _Testing PASS_ Branch: dpdk-next-crypto 4843aacb0d1201fef37e8a579fcd8baec4acdf98 --> testing pass Upstream job id: Generic-Unit-Test-DPDK#297040 Test environment and result as below: +---------------------+----------------+ | Environment | dpdk_unit_test | +=====================+================+ | Fedora 39 (Clang) | PASS | +---------------------+----------------+ | Fedora 40 (Clang) | PASS | +---------------------+----------------+ | Debian 12 | PASS | +---------------------+----------------+ | Fedora 39 | PASS | +---------------------+----------------+ | CentOS Stream 9 | PASS | +---------------------+----------------+ | RHEL9 | PASS | +---------------------+----------------+ | Ubuntu 20.04 | PASS | +---------------------+----------------+ | RHEL8 | PASS | +---------------------+----------------+ | Fedora 40 | PASS | +---------------------+----------------+ | Ubuntu 24.04 | PASS | +---------------------+----------------+ | Ubuntu 22.04 | PASS | +---------------------+----------------+ | Windows Server 2022 | PASS | +---------------------+----------------+ Fedora 39 (Clang) Kernel: Depends on container host Compiler: clang 17.0.6 (Fedora 17.0.6-2.fc39) Fedora 40 (Clang) Kernel: Depends on container host Compiler: clang 18.1.6 (Fedora 18.1.6-3.fc40) Debian 12 Kernel: Depends on container host Compiler: gcc (Debian 12.2.0-14) 12.2.0 Fedora 39 Kernel: Depends on container host Compiler: gcc 13.3.1 20240522 (Red Hat 13.3.1-1) CentOS Stream 9 Kernel: Depends on container host Compiler: gcc 11.4.1 20231218 (Red Hat 11.4.1-3) RHEL9 Kernel: Depends on container host Compiler: gcc 11.4.1 20231218 (Red Hat 11.4.1-3) Ubuntu 20.04 Kernel: Depends on container host Compiler: gcc (Ubuntu 9.4.0-1ubuntu1~20.04.2) 9.4.0 RHEL8 Kernel: Depends on container host Compiler: gcc 8.5.0 20210514 (Red Hat 8.5.0-22) Fedora 40 Kernel: Depends on container host Compiler: gcc 14.2.1 20240801 (Red Hat 14.2.1-1) Ubuntu 24.04 Kernel: Depends on container host Compiler: gcc (Ubuntu 13.2.0-23ubuntu4) 13.2.0 Ubuntu 22.04 Kernel: Depends on container host Compiler: gcc (Ubuntu 11.4.0-1ubuntu1~22.04) 11.4.0 Windows Server 2022 Kernel: 10.0.20348.2031 Compiler: clang 15.0.7, gcc 14.1.0 (MinGW), and MSVC VS 19.39.33521 To view detailed results, visit: https://lab.dpdk.org/results/dashboard/tarballs/31816/ UNH-IOL DPDK Community Lab To manage your email subscriptions, visit: https://lab.dpdk.org/results/dashboard/preferences/subscriptions/