From mboxrd@z Thu Jan 1 00:00:00 1970 Return-Path: Received: from mails.dpdk.org (mails.dpdk.org [217.70.189.124]) by inbox.dpdk.org (Postfix) with ESMTP id C56FF45E1E for ; Tue, 3 Dec 2024 18:43:25 +0100 (CET) Received: from mails.dpdk.org (localhost [127.0.0.1]) by mails.dpdk.org (Postfix) with ESMTP id BF71540261; Tue, 3 Dec 2024 18:43:25 +0100 (CET) Received: from mail-io1-f98.google.com (mail-io1-f98.google.com [209.85.166.98]) by mails.dpdk.org (Postfix) with ESMTP id 11CB94025D for ; Tue, 3 Dec 2024 18:43:24 +0100 (CET) Received: by mail-io1-f98.google.com with SMTP id ca18e2360f4ac-841acc8151aso203623139f.1 for ; Tue, 03 Dec 2024 09:43:24 -0800 (PST) DKIM-Signature: v=1; a=rsa-sha256; c=relaxed/relaxed; d=iol.unh.edu; s=unh-iol; t=1733247803; x=1733852603; darn=dpdk.org; h=cc:to:from:subject:message-id:date:from:to:cc:subject:date :message-id:reply-to; bh=I9KmE2YA3RLC1FClpWgniLtuoFKCp4eu00x0eGFmpEI=; b=fzIuI6L/bX5SbRba8YNbzlIsfeUlhvPJipAIVy5wxH0GIZm+7xKMdMm3NAhsipHQMc MsuWVmynZ0JK0bW0NJds/0Ss5dgo2wgcd0b8QBvMyZQ4CRjgnFUGi45mC1xoPxjjuAhf tabBTJV+V2+2GXHsJ98yjSoUDdsEdjcsVyijs= X-Google-DKIM-Signature: v=1; a=rsa-sha256; c=relaxed/relaxed; d=1e100.net; s=20230601; t=1733247803; x=1733852603; h=cc:to:from:subject:message-id:date:x-gm-message-state:from:to:cc :subject:date:message-id:reply-to; bh=I9KmE2YA3RLC1FClpWgniLtuoFKCp4eu00x0eGFmpEI=; b=aQk8/fgb+j6iZfjTOVNqV2vfs8xKFhs7SbfZGtND+aXvpL1m1c01n+UKDXlOmWECo1 KAoDoM70AwthzqK3tV4+QoWfAPGyM8TRX54L4qDEdb5KXKWHad7aByb3hjSGw0YhwLQY xUQra0sWyTkg6WTSfur551wUjl5QbzULc0wyNFa3JJ0L1ptGIJ4phfr1h1quLp546sKA vp7HLFJfhq0hFrSw96fAXfZgOGDizzHuvbbKPcnm4psIdNeEnPKcjdfBDiVK8+4nbZaf QMbi2YUd5tNjLcoEd2p/0LakEhm+1cntJIMvJRo+T3Jv3bnEsWFr0idnuJJ3dDEmdGIf 590w== X-Gm-Message-State: AOJu0Yxw8b+pGh7KdrjR7AKgCrAsQbHj/cQlaDVOtnz/up2SXuFCU+/6 eFkK4KfF16EuRz9UzlGaKWzFBq8P80KnIgW9KISpsCTZDcHDx7DvcJhIa8Ly97GI2FLS5y7JgDd cUTlS0D7VoywmBnGt0L8K4yrOvhWEfxnrfbTHOiKekr73LIL5lGsULFDS X-Gm-Gg: ASbGncvxtOZzQufuDZQMJseKxWsDSvwzzeT1PZ1LFmCbe2kYLwGK6MY/xKRvk8dNeST oPjSqehz66GIqg36i0ieni9Cil46Ivr+3zoT1f+xrDxGza6qGGLITSYr6Osc5JSo3TamFnPO5ZP FRuzNlMM3QA7cSO1/Z/ow8Lfcxcmp+WsBuVovQJmSoajHQ+CDF7Ns3zGQMSLOT8JBaHXd0UCDD3 W6zHInlvngZkIolOTl7eH+VsKuY0DPkPby+DbxRX8FPemQlCnIX+XakTzb6mv7H6UzWp6+1T2k= X-Google-Smtp-Source: AGHT+IGI/P8qYXasFDD65+NIB3n1sQU7O1QRLZJVub1qSxzwJUIUJ+SxT+Qs2XAINBOkIlmAznuz+DYGZsDT X-Received: by 2002:a05:6602:29c8:b0:841:95b5:8944 with SMTP id ca18e2360f4ac-8445b5e2776mr428746139f.15.1733247803428; Tue, 03 Dec 2024 09:43:23 -0800 (PST) Received: from postal.iol.unh.edu (postal.iol.unh.edu. [2606:4100:3880:1234::84]) by smtp-relay.gmail.com with ESMTPS id 8926c6da1cb9f-4e230ddc919sm521255173.18.2024.12.03.09.43.23 (version=TLS1_2 cipher=ECDHE-ECDSA-AES128-GCM-SHA256 bits=128/128); Tue, 03 Dec 2024 09:43:23 -0800 (PST) X-Relaying-Domain: iol.unh.edu Date: Tue, 03 Dec 2024 09:43:23 -0800 (PST) Message-ID: <674f433b.050a0220.336c0a.fb2eSMTPIN_ADDED_MISSING@mx.google.com> Received: from [172.17.0.3] (unknown [172.18.0.217]) by postal.iol.unh.edu (Postfix) with ESMTP id E8F396052471; Tue, 3 Dec 2024 12:43:22 -0500 (EST) Subject: |SUCCESS| [GIT MASTER] 4843aacb0d1201fef37e8a579fcd8baec4acdf98 From: dpdklab@iol.unh.edu To: Test Report Cc: dpdk-test-reports@iol.unh.edu, Akhil Goyal Content-Type: text/plain X-BeenThere: test-report@dpdk.org X-Mailman-Version: 2.1.29 Precedence: list List-Id: automatic DPDK test reports List-Unsubscribe: , List-Archive: List-Post: List-Help: List-Subscribe: , Errors-To: test-report-bounces@dpdk.org _Testing PASS_ Branch: dpdk-next-crypto 4843aacb0d1201fef37e8a579fcd8baec4acdf98 --> testing pass Upstream job id: Aarch32-Unit-Test#4542 Test environment and result as below: +-----------------------------+--------------+---------------------------+------------------------------+----------------+ | Environment | lpm_autotest | cryptodev_sw_zuc_autotest | cryptodev_sw_snow3g_autotest | dpdk_unit_test | +=============================+==============+===========================+==============================+================+ | Ubuntu 20.04 ARM SVE | PASS | SKIPPED | SKIPPED | SKIPPED | +-----------------------------+--------------+---------------------------+------------------------------+----------------+ | Debian 12 (arm) | SKIPPED | PASS | PASS | PASS | +-----------------------------+--------------+---------------------------+------------------------------+----------------+ | Fedora 39 (ARM) | SKIPPED | SKIPPED | SKIPPED | PASS | +-----------------------------+--------------+---------------------------+------------------------------+----------------+ | Fedora 39 (ARM Clang) | SKIPPED | SKIPPED | SKIPPED | PASS | +-----------------------------+--------------+---------------------------+------------------------------+----------------+ | CentOS Stream 9 (ARM) | SKIPPED | SKIPPED | SKIPPED | PASS | +-----------------------------+--------------+---------------------------+------------------------------+----------------+ | Fedora 40 (ARM Clang) | SKIPPED | SKIPPED | SKIPPED | PASS | +-----------------------------+--------------+---------------------------+------------------------------+----------------+ | Ubuntu 20.04 (ARM) | SKIPPED | SKIPPED | SKIPPED | PASS | +-----------------------------+--------------+---------------------------+------------------------------+----------------+ | Fedora 40 (ARM) | SKIPPED | SKIPPED | SKIPPED | PASS | +-----------------------------+--------------+---------------------------+------------------------------+----------------+ | RHEL9 (ARM) | SKIPPED | SKIPPED | SKIPPED | PASS | +-----------------------------+--------------+---------------------------+------------------------------+----------------+ | Ubuntu 24.04 (ARM) | SKIPPED | SKIPPED | SKIPPED | PASS | +-----------------------------+--------------+---------------------------+------------------------------+----------------+ | Ubuntu 22.04 (ARM) | SKIPPED | SKIPPED | SKIPPED | PASS | +-----------------------------+--------------+---------------------------+------------------------------+----------------+ | 32-bit Ubuntu 22.04.4 (ARM) | SKIPPED | SKIPPED | SKIPPED | PASS | +-----------------------------+--------------+---------------------------+------------------------------+----------------+ Ubuntu 20.04 ARM SVE Kernel: Depends on container host Compiler: gcc (Ubuntu 10.5.0-1ubuntu1~20.04) 10.5.0 Debian 12 (arm) Kernel: Depends on container host Compiler: gcc (Debian 12.2.0-14) 12.2.0 Fedora 39 (ARM) Kernel: Depends on container host Compiler: gcc 13.3.1 20240522 (Red Hat 13.3.1-1) Fedora 39 (ARM Clang) Kernel: Depends on container host Compiler: clang 17.0.6 (Fedora 17.0.6-2.fc39) CentOS Stream 9 (ARM) Kernel: Depends on container host Compiler: gcc 11.4.1 20231218 (Red Hat 11.4.1-3) Fedora 40 (ARM Clang) Kernel: Depends on container host Compiler: clang 18.1.6 (Fedora 18.1.6-3.fc40) Ubuntu 20.04 (ARM) Kernel: Depends on container host Compiler: gcc (Ubuntu 9.4.0-1ubuntu1~20.04.2) 9.4.0 Fedora 40 (ARM) Kernel: Depends on container host Compiler: gcc 14.2.1 20240801 (Red Hat 14.2.1-1) RHEL9 (ARM) Kernel: Depends on container host Compiler: gcc 11.4.1 20231218 (Red Hat 11.4.1-3) Ubuntu 24.04 (ARM) Kernel: Depends on container host Compiler: gcc (Ubuntu 13.2.0-23ubuntu4) 13.2.0 Ubuntu 22.04 (ARM) Kernel: Depends on container host Compiler: gcc (Ubuntu 11.4.0-1ubuntu1~22.04) 11.4.0 32-bit Ubuntu 22.04.4 (ARM) Kernel: 5.15.83+ aarch64 Compiler: gcc (Ubuntu 11.4.0-1ubuntu1~22.04) 11.4.0 To view detailed results, visit: https://lab.dpdk.org/results/dashboard/tarballs/31816/ UNH-IOL DPDK Community Lab To manage your email subscriptions, visit: https://lab.dpdk.org/results/dashboard/preferences/subscriptions/