From mboxrd@z Thu Jan 1 00:00:00 1970 Return-Path: Received: from mails.dpdk.org (mails.dpdk.org [217.70.189.124]) by inbox.dpdk.org (Postfix) with ESMTP id 444BF45E1E for ; Tue, 3 Dec 2024 19:26:18 +0100 (CET) Received: from mails.dpdk.org (localhost [127.0.0.1]) by mails.dpdk.org (Postfix) with ESMTP id C66AB40261; Tue, 3 Dec 2024 19:26:17 +0100 (CET) Received: from mail-il1-f225.google.com (mail-il1-f225.google.com [209.85.166.225]) by mails.dpdk.org (Postfix) with ESMTP id 1821D4025D for ; Tue, 3 Dec 2024 19:26:17 +0100 (CET) Received: by mail-il1-f225.google.com with SMTP id e9e14a558f8ab-3a75eaaab59so410135ab.0 for ; Tue, 03 Dec 2024 10:26:17 -0800 (PST) DKIM-Signature: v=1; a=rsa-sha256; c=relaxed/relaxed; d=iol.unh.edu; s=unh-iol; t=1733250375; x=1733855175; darn=dpdk.org; h=cc:to:from:subject:message-id:date:from:to:cc:subject:date :message-id:reply-to; bh=bzYW3Bb68JIs2nqLprTJ3RB0QZt0BvvnsHLDWl8q+IQ=; b=LoJtgba6qxlt6B+3on03rVo4jPGA/pzfBs7wCc6k19g1T0/52/+W67iusqjEElrq2K eMbIg+CKqc5g+iemAuwugRXKK9ZTE6k3tenA25SwAQL9MmH/y/nqzx+RpJIC5ucNKukT aKYEhUt4yCNtlmh/NwT3CX+X8AaVpVgkOYTC8= X-Google-DKIM-Signature: v=1; a=rsa-sha256; c=relaxed/relaxed; d=1e100.net; s=20230601; t=1733250375; x=1733855175; h=cc:to:from:subject:message-id:date:x-gm-message-state:from:to:cc :subject:date:message-id:reply-to; bh=bzYW3Bb68JIs2nqLprTJ3RB0QZt0BvvnsHLDWl8q+IQ=; b=cXkhz2w9jrctng18wbdFcFmxqsvzqLfTpALEOpMy73eDb9sdibOKDYqgviWxRWCC6D 4gXs5NIZ/AVdIrvv2T01rlTITgrVAPjlcybgqnIxnHt/UiLYxL4VRa1GEwrn7tzr3GXy 1D5VuzjOh9iBdcU76UIJkRk11hfU/2wvin/xOhF5Su9F8kwdbITQu48JISsf7LgdICZe 7YVmVE8t5Qd/Ir0UiJ+3djrdJPj663vctmAt6DBZw0+kdkkpHSNn1cJ4fRMEU/43ihOq NiF4075cJpIQgHfQuLRyEgtH23XSGUA9enuH87Hp/U89MaDGHOUZG+wq5HYuNi4civpA KZsA== X-Gm-Message-State: AOJu0YyeGl/9eec3ETL5AQNKZIOCWNc/zqQiSuyhaX4IgkPgXHCj+Wuf +6CqqDYIvdXVGklSWx01J29B6mnL6XtBO7FP3l2IeryDpRTU2Nc+3ttBQuObbbXfuPWJujg8IJ2 c1IHE8BZNrtlhvTG02QZkh1RKjOsVTy2FUQm+kKviYoZDsozmWK6pGzYE X-Gm-Gg: ASbGncsdM5jujhR39etahbIWj3TUsF1tIMaC2E1Rihk0fMw5QjX3M4pcaHaIxWUjCqC gxgx6EJAveBRM7XhJIwVwwDmEYy/P/ynen2iHHyRGWMfU63rqeGKDEf0zNFi1rWDbGGlErc2W8L gyBR27L3L4DE9VcP5ymvcCMHBUlXGKj9WTUPxptoa5eRHWQRepyfZ8R4qD03R/LyDrG0QO/pXAV 1NuKcAnjCLCyy18fT5bG/GnE1S41u2MfsmTsO44Gyu4W2pKYVdGagEtZRjCVeGLjajhTAemtI0= X-Google-Smtp-Source: AGHT+IEHHwLA/+18lP09ccayVdvfLDp1NCym0GmPrxLWpxvMvAMDaqNU9gUzYCnE7YztVn/UB7eCpTOFc8lT X-Received: by 2002:a92:c103:0:b0:3a7:cf75:30b4 with SMTP id e9e14a558f8ab-3a7cf7531a7mr214275875ab.10.1733250373937; Tue, 03 Dec 2024 10:26:13 -0800 (PST) Received: from postal.iol.unh.edu (postal.iol.unh.edu. [2606:4100:3880:1234::84]) by smtp-relay.gmail.com with ESMTPS id 8926c6da1cb9f-4e230dded06sm531815173.28.2024.12.03.10.26.13 (version=TLS1_2 cipher=ECDHE-ECDSA-AES128-GCM-SHA256 bits=128/128); Tue, 03 Dec 2024 10:26:13 -0800 (PST) X-Relaying-Domain: iol.unh.edu Date: Tue, 03 Dec 2024 10:26:13 -0800 (PST) Message-ID: <674f4d45.050a0220.3d2f30.0072SMTPIN_ADDED_MISSING@mx.google.com> Received: from [172.21.0.6] (unknown [172.18.0.240]) by postal.iol.unh.edu (Postfix) with ESMTP id 6EB206052471; Tue, 3 Dec 2024 13:26:13 -0500 (EST) Subject: |SUCCESS| [GIT MASTER] 4843aacb0d1201fef37e8a579fcd8baec4acdf98 From: dpdklab@iol.unh.edu To: Test Report Cc: dpdk-test-reports@iol.unh.edu, Akhil Goyal Content-Type: text/plain X-BeenThere: test-report@dpdk.org X-Mailman-Version: 2.1.29 Precedence: list List-Id: automatic DPDK test reports List-Unsubscribe: , List-Archive: List-Post: List-Help: List-Subscribe: , Errors-To: test-report-bounces@dpdk.org _Testing PASS_ Branch: dpdk-next-crypto 4843aacb0d1201fef37e8a579fcd8baec4acdf98 --> testing pass Upstream job id: ACVP-FIPS-testing#8195 Test environment and result as below: +--------------------+----------------------+----------------------+ | Environment | compressdev_zlib_pmd | dpdk_fips_validation | +====================+======================+======================+ | Ubuntu 22.04 (ARM) | PASS | SKIPPED | +--------------------+----------------------+----------------------+ | Ubuntu 22.04 | PASS | SKIPPED | +--------------------+----------------------+----------------------+ | Ubuntu 20.04 | SKIPPED | PASS | +--------------------+----------------------+----------------------+ Ubuntu 22.04 (ARM) Kernel: 5.15.0-97-generic Compiler: gcc gcc (Ubuntu 11.4.0-1ubuntu1~22.04) 11.4.0 Ubuntu 22.04 Kernel: 5.15.0-100-generic Compiler: gcc gcc (Ubuntu 11.4.0-1ubuntu1~22.04) 11.4.0 Ubuntu 20.04 Kernel: Depends on container host Compiler: gcc (Ubuntu 9.4.0-1ubuntu1~20.04.2) 9.4.0 To view detailed results, visit: https://lab.dpdk.org/results/dashboard/tarballs/31816/ UNH-IOL DPDK Community Lab To manage your email subscriptions, visit: https://lab.dpdk.org/results/dashboard/preferences/subscriptions/