From mboxrd@z Thu Jan 1 00:00:00 1970 Return-Path: Received: from mails.dpdk.org (mails.dpdk.org [217.70.189.124]) by inbox.dpdk.org (Postfix) with ESMTP id A8FC045E1E for ; Tue, 3 Dec 2024 19:52:06 +0100 (CET) Received: from mails.dpdk.org (localhost [127.0.0.1]) by mails.dpdk.org (Postfix) with ESMTP id 8E1E240261; Tue, 3 Dec 2024 19:52:06 +0100 (CET) Received: from mail-qv1-f97.google.com (mail-qv1-f97.google.com [209.85.219.97]) by mails.dpdk.org (Postfix) with ESMTP id EDC954025D for ; Tue, 3 Dec 2024 19:52:04 +0100 (CET) Received: by mail-qv1-f97.google.com with SMTP id 6a1803df08f44-6d8918ec243so27102816d6.1 for ; Tue, 03 Dec 2024 10:52:04 -0800 (PST) DKIM-Signature: v=1; a=rsa-sha256; c=relaxed/relaxed; d=iol.unh.edu; s=unh-iol; t=1733251924; x=1733856724; darn=dpdk.org; h=cc:to:from:subject:message-id:date:from:to:cc:subject:date :message-id:reply-to; bh=aL3LV2JE/WamLZd7ctQQHi1+FA4NRpZx2Z1ML3j+iok=; b=H7/WOrqeL5QBtRhGHC0bWCJeT/MuP6bjOULQebQ4D8kYat1s00CLSYqB1pwwKI/m2R 6QcC0iD5mE5BD6/jzZLOwOtpf5SbIQGdqASKrdClYCN1FvwnlJrttpoPRLt21CcUog+R pPNj5IZVZ9spHGLCuY75Airtm64q87o1FPBr0= X-Google-DKIM-Signature: v=1; a=rsa-sha256; c=relaxed/relaxed; d=1e100.net; s=20230601; t=1733251924; x=1733856724; h=cc:to:from:subject:message-id:date:x-gm-message-state:from:to:cc :subject:date:message-id:reply-to; bh=aL3LV2JE/WamLZd7ctQQHi1+FA4NRpZx2Z1ML3j+iok=; b=aXCK7//jBKK8W+xgsz0q2bw/ed96c+GlV8JJLBI3YEUToHkgZmqkdQu2Byj6wZop5X S/BLU7d0E3LOyae/ZYn+okMamisbe8GjI/xCQXvdVix9vR/cPggH7b70Rh30Xx+DWq83 7+UOLL6WLam2tHRaHyBLjVgPF7RuOnhv8ZLRVfm9fv0AWmtUXPxGH/EtPM+GzxtWLQa1 Pj4Z8NUj6JXp/JM+5utVpE5hf8ZL8eQ39l5mCk47hgl+TxHiOMB9D02ftD2uNrBAMfKN Vjde+S188sBHj/8Fb0r7hfU9tLfsybl8vZ9WHOISqZx61mLHiVz07fKeV39wV/xSPgs5 pleA== X-Gm-Message-State: AOJu0Yz+tBzG45z8lLPXe02I6sXxeISrfEwdDGIHR4Aj8o+hCxzpwI6d n5go0w855Zroe6hSisTz5f4rB7TVQX3cRPjXgqBsRRRVlr6nGY/wd92A5e86GWp8+VSRmojbNir ojyEhewxWKwhPTEvG8tFoSN2M13TQliM0RT7kc2AZ X-Gm-Gg: ASbGncsjQIAg4TN7DNiOq6Fno3646XshKID40SYWKk9iLrUkXCZQ2QXTNntu7DvZdQS le8JvhEi3za1SV7nyA5keLUbnl7ZdgLq2rvcjStrcBWa6M2rkJ664hLNOXiIwScxZ8ocF8exIxy qLR4S8xwV51UzluA2dg9e8/ozdRkaAyaIkZAKX3TIDdk44Ex7WUwFvwMaLOWnhx6t5UEOMWOGXh 1IocKAItPcvRTRxXEVzZcXRcRV8jgSwtTKQKEwAWT7z+OJgpqh0m1jxsb/D48auj7nPvYE= X-Google-Smtp-Source: AGHT+IHKCJYwZ9sUp/aQY4OpfT7BS2LdB3/TFqaBDFCRZ7nb7AMiUqDetM1uNyrZ0FCazSj7rBuvGtAN4Rnl X-Received: by 2002:a05:6214:268f:b0:6d8:a50f:b5f6 with SMTP id 6a1803df08f44-6d8b738e405mr71697836d6.25.1733251924258; Tue, 03 Dec 2024 10:52:04 -0800 (PST) Received: from postal.iol.unh.edu (postal.iol.unh.edu. [132.177.123.84]) by smtp-relay.gmail.com with ESMTPS id 6a1803df08f44-6d87db5da05sm5968306d6.60.2024.12.03.10.52.04 (version=TLS1_2 cipher=ECDHE-ECDSA-AES128-GCM-SHA256 bits=128/128); Tue, 03 Dec 2024 10:52:04 -0800 (PST) X-Relaying-Domain: iol.unh.edu Date: Tue, 03 Dec 2024 10:52:04 -0800 (PST) Message-ID: <674f5354.050a0220.1b48c8.0de0SMTPIN_ADDED_MISSING@mx.google.com> Received: from [172.21.0.6] (unknown [172.18.0.240]) by postal.iol.unh.edu (Postfix) with ESMTP id E16026052472; Tue, 3 Dec 2024 13:52:03 -0500 (EST) Subject: |SUCCESS| [GIT MASTER] 4843aacb0d1201fef37e8a579fcd8baec4acdf98 From: dpdklab@iol.unh.edu To: Test Report Cc: dpdk-test-reports@iol.unh.edu, Akhil Goyal Content-Type: text/plain X-BeenThere: test-report@dpdk.org X-Mailman-Version: 2.1.29 Precedence: list List-Id: automatic DPDK test reports List-Unsubscribe: , List-Archive: List-Post: List-Help: List-Subscribe: , Errors-To: test-report-bounces@dpdk.org _Testing PASS_ Branch: dpdk-next-crypto 4843aacb0d1201fef37e8a579fcd8baec4acdf98 --> testing pass Upstream job id: Generic-Unit-Test-DPDK#297085 Test environment and result as below: +-------------------+----------------+ | Environment | dpdk_unit_test | +===================+================+ | Fedora 40 | PASS | +-------------------+----------------+ | Fedora 39 (Clang) | PASS | +-------------------+----------------+ | Fedora 39 | PASS | +-------------------+----------------+ | CentOS Stream 9 | PASS | +-------------------+----------------+ | Debian 12 | PASS | +-------------------+----------------+ | RHEL8 | PASS | +-------------------+----------------+ | Fedora 40 (Clang) | PASS | +-------------------+----------------+ | Ubuntu 20.04 | PASS | +-------------------+----------------+ | Ubuntu 24.04 | PASS | +-------------------+----------------+ | RHEL9 | PASS | +-------------------+----------------+ | Ubuntu 22.04 | PASS | +-------------------+----------------+ Fedora 40 Kernel: Depends on container host Compiler: gcc 14.2.1 20240801 (Red Hat 14.2.1-1) Fedora 39 (Clang) Kernel: Depends on container host Compiler: clang 17.0.6 (Fedora 17.0.6-2.fc39) Fedora 39 Kernel: Depends on container host Compiler: gcc 13.3.1 20240522 (Red Hat 13.3.1-1) CentOS Stream 9 Kernel: Depends on container host Compiler: gcc 11.4.1 20231218 (Red Hat 11.4.1-3) Debian 12 Kernel: Depends on container host Compiler: gcc (Debian 12.2.0-14) 12.2.0 RHEL8 Kernel: Depends on container host Compiler: gcc 8.5.0 20210514 (Red Hat 8.5.0-22) Fedora 40 (Clang) Kernel: Depends on container host Compiler: clang 18.1.6 (Fedora 18.1.6-3.fc40) Ubuntu 20.04 Kernel: Depends on container host Compiler: gcc (Ubuntu 9.4.0-1ubuntu1~20.04.2) 9.4.0 Ubuntu 24.04 Kernel: Depends on container host Compiler: gcc (Ubuntu 13.2.0-23ubuntu4) 13.2.0 RHEL9 Kernel: Depends on container host Compiler: gcc 11.4.1 20231218 (Red Hat 11.4.1-3) Ubuntu 22.04 Kernel: Depends on container host Compiler: gcc (Ubuntu 11.4.0-1ubuntu1~22.04) 11.4.0 To view detailed results, visit: https://lab.dpdk.org/results/dashboard/tarballs/31818/ UNH-IOL DPDK Community Lab To manage your email subscriptions, visit: https://lab.dpdk.org/results/dashboard/preferences/subscriptions/