From mboxrd@z Thu Jan 1 00:00:00 1970 Return-Path: Received: from mails.dpdk.org (mails.dpdk.org [217.70.189.124]) by inbox.dpdk.org (Postfix) with ESMTP id 604CC45E1E for ; Tue, 3 Dec 2024 19:52:37 +0100 (CET) Received: from mails.dpdk.org (localhost [127.0.0.1]) by mails.dpdk.org (Postfix) with ESMTP id 5BB2A40261; Tue, 3 Dec 2024 19:52:37 +0100 (CET) Received: from mail-il1-f225.google.com (mail-il1-f225.google.com [209.85.166.225]) by mails.dpdk.org (Postfix) with ESMTP id 666CC4025D for ; Tue, 3 Dec 2024 19:52:36 +0100 (CET) Received: by mail-il1-f225.google.com with SMTP id e9e14a558f8ab-3a791bfae0bso20041775ab.0 for ; Tue, 03 Dec 2024 10:52:36 -0800 (PST) DKIM-Signature: v=1; a=rsa-sha256; c=relaxed/relaxed; d=iol.unh.edu; s=unh-iol; t=1733251956; x=1733856756; darn=dpdk.org; h=cc:to:from:subject:message-id:date:from:to:cc:subject:date :message-id:reply-to; bh=gJM1gUpZcK1dMW6YOhX7GRm+gVl6i4K4wntmP8RMjTE=; b=PuMvY0Yt+iKep33iRhhdvoc93uzl1OH653K8JSGerQSuco6FBH9v+KGRkFrHfUNEl0 ile+g14DGodqfW5Vid+O9jvst5mamMSBAwFDUMpxgeMTtuKmKHtZY4vjKtEj410ESFwC +tDq0LROS0SSzH+PJf8h56JKWS4ViS/A3xltU= X-Google-DKIM-Signature: v=1; a=rsa-sha256; c=relaxed/relaxed; d=1e100.net; s=20230601; t=1733251956; x=1733856756; h=cc:to:from:subject:message-id:date:x-gm-message-state:from:to:cc :subject:date:message-id:reply-to; bh=gJM1gUpZcK1dMW6YOhX7GRm+gVl6i4K4wntmP8RMjTE=; b=LpqkHAn96ykwbIAwJfezTGT2THbCJ25bW1S+JvaDy68xsjvSRc3Ij85d3OLNH7tbIT 1kkkDZxRr/jSGyrZChRfhcfEjYbYth5t2FjGb5ojT0X8YbHc6aSs/D984s+t+OcvEBoa aqDKGd4F05Ax18W/JuecUkQ1gUcPBNdkmcNkFyC2I2JuIT7kfmA7ydeS80UjfE5ePz9/ c6JMhQqfcZQJdaou4U8bV9za1IVfbxh1pqRrfujVYsEUxnf5Bs5P6mI/NvK+iWUlg4sr Z0YfO6foH+P1jGgnq6K/CrJaPyqu5gbMrHE6Tp92/tcw6RKxgs6Z7W+F73R0qLGqGIUZ anSQ== X-Gm-Message-State: AOJu0Yx2K9t8U3wAqLuGsfA6H89FS6jXj4kSdqbci5HXoLFatf3LvfP7 fSM98dQy9A5PVKmEoFLeYRUR2RYeS1jgTGfm55WvO9YVJpc7rYaHbIgYD2NMkHqvnbRLZHo+hSt GVKEVleUoafWJJH899WB9KCr1viK+O55gT9O62jzRyAr3T83VtTodww+7 X-Gm-Gg: ASbGncvRFHyvw9RRNaWL0HD5Wz28ozsL4ZJD8msf4ggtT+4dJMG5lH6t5AlssZawnEV 8tVX+8F3dAXKRMN/DoQdy431VwtnAw/uFzD4h0kGiTCf//utISwPrExzMrLs1Yhjcn8agsMU35x J2Wg5Hr5SPtIYnBnWuqBD6kouzoH6Bofe1p5x1PI7vpFX/9PmPYBa74xdP5f1ptBAKqy2Z7iwXz w1sBgxLPMNSrr2M/YO9/Vk1R1ySlfVeJTiz4H6Z7MYeOGodbnblkBEBRtVd6hlhpuUo9lcqexM= X-Google-Smtp-Source: AGHT+IEYRdrb/cCC7tHilFD6Nysfg9tj6/A+xcCHNaj44ZPhSpPnymhfYpXdx1daCIY4ojhveozviDwcv8MS X-Received: by 2002:a05:6e02:1a85:b0:3a7:a738:d9c8 with SMTP id e9e14a558f8ab-3a7f9a295cemr51946775ab.2.1733251955712; Tue, 03 Dec 2024 10:52:35 -0800 (PST) Received: from postal.iol.unh.edu (postal.iol.unh.edu. [2606:4100:3880:1234::84]) by smtp-relay.gmail.com with ESMTPS id e9e14a558f8ab-3a7ccc63140sm6374685ab.54.2024.12.03.10.52.35 (version=TLS1_2 cipher=ECDHE-ECDSA-AES128-GCM-SHA256 bits=128/128); Tue, 03 Dec 2024 10:52:35 -0800 (PST) X-Relaying-Domain: iol.unh.edu Date: Tue, 03 Dec 2024 10:52:35 -0800 (PST) Message-ID: <674f5373.920a0220.42779.39b1SMTPIN_ADDED_MISSING@mx.google.com> Received: from [172.21.0.8] (unknown [172.18.0.240]) by postal.iol.unh.edu (Postfix) with ESMTP id 34EE26052471; Tue, 3 Dec 2024 13:52:35 -0500 (EST) Subject: |SUCCESS| [GIT MASTER] 4843aacb0d1201fef37e8a579fcd8baec4acdf98 From: dpdklab@iol.unh.edu To: Test Report Cc: dpdk-test-reports@iol.unh.edu, Akhil Goyal Content-Type: text/plain X-BeenThere: test-report@dpdk.org X-Mailman-Version: 2.1.29 Precedence: list List-Id: automatic DPDK test reports List-Unsubscribe: , List-Archive: List-Post: List-Help: List-Subscribe: , Errors-To: test-report-bounces@dpdk.org _Testing PASS_ Branch: dpdk-next-crypto 4843aacb0d1201fef37e8a579fcd8baec4acdf98 --> testing pass Upstream job id: Generic-Unit-Test-DPDK#297078 Test environment and result as below: +-------------------+----------------+ | Environment | dpdk_unit_test | +===================+================+ | Fedora 40 | PASS | +-------------------+----------------+ | Fedora 39 (Clang) | PASS | +-------------------+----------------+ | Fedora 39 | PASS | +-------------------+----------------+ | CentOS Stream 9 | PASS | +-------------------+----------------+ | Debian 12 | PASS | +-------------------+----------------+ | RHEL8 | PASS | +-------------------+----------------+ | Fedora 40 (Clang) | PASS | +-------------------+----------------+ | Ubuntu 20.04 | PASS | +-------------------+----------------+ | Ubuntu 24.04 | PASS | +-------------------+----------------+ | RHEL9 | PASS | +-------------------+----------------+ | Ubuntu 22.04 | PASS | +-------------------+----------------+ Fedora 40 Kernel: Depends on container host Compiler: gcc 14.2.1 20240801 (Red Hat 14.2.1-1) Fedora 39 (Clang) Kernel: Depends on container host Compiler: clang 17.0.6 (Fedora 17.0.6-2.fc39) Fedora 39 Kernel: Depends on container host Compiler: gcc 13.3.1 20240522 (Red Hat 13.3.1-1) CentOS Stream 9 Kernel: Depends on container host Compiler: gcc 11.4.1 20231218 (Red Hat 11.4.1-3) Debian 12 Kernel: Depends on container host Compiler: gcc (Debian 12.2.0-14) 12.2.0 RHEL8 Kernel: Depends on container host Compiler: gcc 8.5.0 20210514 (Red Hat 8.5.0-22) Fedora 40 (Clang) Kernel: Depends on container host Compiler: clang 18.1.6 (Fedora 18.1.6-3.fc40) Ubuntu 20.04 Kernel: Depends on container host Compiler: gcc (Ubuntu 9.4.0-1ubuntu1~20.04.2) 9.4.0 Ubuntu 24.04 Kernel: Depends on container host Compiler: gcc (Ubuntu 13.2.0-23ubuntu4) 13.2.0 RHEL9 Kernel: Depends on container host Compiler: gcc 11.4.1 20231218 (Red Hat 11.4.1-3) Ubuntu 22.04 Kernel: Depends on container host Compiler: gcc (Ubuntu 11.4.0-1ubuntu1~22.04) 11.4.0 To view detailed results, visit: https://lab.dpdk.org/results/dashboard/tarballs/31818/ UNH-IOL DPDK Community Lab To manage your email subscriptions, visit: https://lab.dpdk.org/results/dashboard/preferences/subscriptions/