From mboxrd@z Thu Jan 1 00:00:00 1970 Return-Path: Received: from mails.dpdk.org (mails.dpdk.org [217.70.189.124]) by inbox.dpdk.org (Postfix) with ESMTP id 0376045E20 for ; Tue, 3 Dec 2024 20:27:35 +0100 (CET) Received: from mails.dpdk.org (localhost [127.0.0.1]) by mails.dpdk.org (Postfix) with ESMTP id D8EB540261; Tue, 3 Dec 2024 20:27:35 +0100 (CET) Received: from mail-il1-f226.google.com (mail-il1-f226.google.com [209.85.166.226]) by mails.dpdk.org (Postfix) with ESMTP id 02F654025D for ; Tue, 3 Dec 2024 20:27:33 +0100 (CET) Received: by mail-il1-f226.google.com with SMTP id e9e14a558f8ab-3a77562332aso21244885ab.3 for ; Tue, 03 Dec 2024 11:27:33 -0800 (PST) DKIM-Signature: v=1; a=rsa-sha256; c=relaxed/relaxed; d=iol.unh.edu; s=unh-iol; t=1733254053; x=1733858853; darn=dpdk.org; h=cc:to:from:subject:message-id:date:from:to:cc:subject:date :message-id:reply-to; bh=RHonmrpXKEaO+kIIEpAD+wM2MzzUgihYbEH9wZZK2Sc=; b=fTmDf6Mb5EKw/VA6+vO0VU89g540kDKl0xFVyzmKHDjqeI5RVQgjkeAGaRrIGKpSWi kC/355ZKOBBKX2596U7kN4z8WTjx5wVeDeLtND0S3TmPl0G8mFat7+sXdmNocdEC0hAc ga2uVzL4Z2FggWrPcTbnuv+5+PH71h/teQAHA= X-Google-DKIM-Signature: v=1; a=rsa-sha256; c=relaxed/relaxed; d=1e100.net; s=20230601; t=1733254053; x=1733858853; h=cc:to:from:subject:message-id:date:x-gm-message-state:from:to:cc :subject:date:message-id:reply-to; bh=RHonmrpXKEaO+kIIEpAD+wM2MzzUgihYbEH9wZZK2Sc=; b=JjI+9CAzMIyArgnVQ0kOZI+55Ww90B+GmJPs3XqPt2maaj+4kVfLoSyJUwVuFLIBSl 0JZsVLptPRCe1tNEKM0uTesxEfdINjRbg7zvHe/FdJasnXRLxm9mT8Rfzug24WZyH9Xs aCUAXGGfnP0Nyu+TPZ5vjrV7GYbr4Mz965AGSJiy+KvXAUa74SvxqKW5SWONMYfi7Hkm TyyJsdCx/orqOxlwalxwuTrlg2s0OnaIV7joHmZia0MgaoujxUxUUr1invbuHq6Hug/E U4ko96ksePy3f3u6nv3N8QJ/bz+mMWBHh0mS+jw7R1W85lKBKlzgSYRSaxEywK7rZc64 FLdQ== X-Gm-Message-State: AOJu0Yz+mXEXhTY1o9lz056fagaBrqI1N1avykc/s2U/Ki+TEg0BD2N6 Vsl8E/oPfIQohJcIhWvMrA2z0jA58DpzUx4EN31CBnlszfn4qIy96NREvsdk3nMGwSlFs19MP2i Dgnb8ssWDioqS8xaqhpER9BgEYuGGns6L6jP5kV4hL3VBf/Laphk5MKS6 X-Gm-Gg: ASbGncustkzLbUH8Cl3+S2AjpA90fBQ/+HCQyWzpggSXQ3GRnQ0G93RDuLAziLLedq7 X+yU2+9R9n/YGiFJRoW7Am01q9L97Ax0vsbuj0zQ8z56cAP+yyMcAfZfLZTxWfz7pGbo5jT8YR4 4UASsyATHKwYvh9d4sH38H6qXZnNApU94E9uI66JI2SpVpOXFnWRBEI5tA6OPdd+0HnRuDD7RGV X6AdRbON0QnvOyuOEZGIg0N6T8G1QO0LkDC6ftngWj0roHc6rN8ikXGyQrbHHH8Umufzk5JTEM= X-Google-Smtp-Source: AGHT+IE/91XssGXpDnlyo7rYkoF3pGtSzzsU6ujgLDvnr5J/au3blxH35We31mYfxXiSc8YVTBIYkz1aR/9y X-Received: by 2002:a05:6e02:1448:b0:3a7:8720:9e9e with SMTP id e9e14a558f8ab-3a7f9a2fb33mr52892795ab.2.1733254053332; Tue, 03 Dec 2024 11:27:33 -0800 (PST) Received: from postal.iol.unh.edu (postal.iol.unh.edu. [2606:4100:3880:1234::84]) by smtp-relay.gmail.com with ESMTPS id e9e14a558f8ab-3a7ccc63443sm6229755ab.58.2024.12.03.11.27.33 (version=TLS1_2 cipher=ECDHE-ECDSA-AES128-GCM-SHA256 bits=128/128); Tue, 03 Dec 2024 11:27:33 -0800 (PST) X-Relaying-Domain: iol.unh.edu Date: Tue, 03 Dec 2024 11:27:33 -0800 (PST) Message-ID: <674f5ba5.050a0220.b7551.3a96SMTPIN_ADDED_MISSING@mx.google.com> Received: from [172.21.0.5] (unknown [172.18.0.240]) by postal.iol.unh.edu (Postfix) with ESMTP id C04876052471; Tue, 3 Dec 2024 14:27:32 -0500 (EST) Subject: |SUCCESS| [GIT MASTER] 4843aacb0d1201fef37e8a579fcd8baec4acdf98 From: dpdklab@iol.unh.edu To: Test Report Cc: dpdk-test-reports@iol.unh.edu, Akhil Goyal Content-Type: text/plain X-BeenThere: test-report@dpdk.org X-Mailman-Version: 2.1.29 Precedence: list List-Id: automatic DPDK test reports List-Unsubscribe: , List-Archive: List-Post: List-Help: List-Subscribe: , Errors-To: test-report-bounces@dpdk.org _Testing PASS_ Branch: dpdk-next-crypto 4843aacb0d1201fef37e8a579fcd8baec4acdf98 --> testing pass Upstream job id: Generic-Unit-Test-DPDK#297079 Test environment and result as below: +-----------------------+----------------+---------------------------+--------------+------------------------------+ | Environment | dpdk_unit_test | cryptodev_sw_zuc_autotest | lpm_autotest | cryptodev_sw_snow3g_autotest | +=======================+================+===========================+==============+==============================+ | Fedora 39 (ARM) | PASS | SKIPPED | SKIPPED | SKIPPED | +-----------------------+----------------+---------------------------+--------------+------------------------------+ | Debian 12 (arm) | PASS | PASS | SKIPPED | PASS | +-----------------------+----------------+---------------------------+--------------+------------------------------+ | Fedora 39 (ARM Clang) | PASS | SKIPPED | SKIPPED | SKIPPED | +-----------------------+----------------+---------------------------+--------------+------------------------------+ | CentOS Stream 9 (ARM) | PASS | SKIPPED | SKIPPED | SKIPPED | +-----------------------+----------------+---------------------------+--------------+------------------------------+ | Fedora 40 (ARM) | PASS | SKIPPED | SKIPPED | SKIPPED | +-----------------------+----------------+---------------------------+--------------+------------------------------+ | Fedora 40 (ARM Clang) | PASS | SKIPPED | SKIPPED | SKIPPED | +-----------------------+----------------+---------------------------+--------------+------------------------------+ | Ubuntu 20.04 (ARM) | PASS | SKIPPED | SKIPPED | SKIPPED | +-----------------------+----------------+---------------------------+--------------+------------------------------+ | RHEL9 (ARM) | PASS | SKIPPED | SKIPPED | SKIPPED | +-----------------------+----------------+---------------------------+--------------+------------------------------+ | Ubuntu 22.04 (ARM) | PASS | SKIPPED | SKIPPED | SKIPPED | +-----------------------+----------------+---------------------------+--------------+------------------------------+ | Ubuntu 24.04 (ARM) | PASS | SKIPPED | SKIPPED | SKIPPED | +-----------------------+----------------+---------------------------+--------------+------------------------------+ | Ubuntu 20.04 ARM SVE | SKIPPED | SKIPPED | PASS | SKIPPED | +-----------------------+----------------+---------------------------+--------------+------------------------------+ Fedora 39 (ARM) Kernel: Depends on container host Compiler: gcc 13.3.1 20240522 (Red Hat 13.3.1-1) Debian 12 (arm) Kernel: Depends on container host Compiler: gcc (Debian 12.2.0-14) 12.2.0 Fedora 39 (ARM Clang) Kernel: Depends on container host Compiler: clang 17.0.6 (Fedora 17.0.6-2.fc39) CentOS Stream 9 (ARM) Kernel: Depends on container host Compiler: gcc 11.4.1 20231218 (Red Hat 11.4.1-3) Fedora 40 (ARM) Kernel: Depends on container host Compiler: gcc 14.2.1 20240801 (Red Hat 14.2.1-1) Fedora 40 (ARM Clang) Kernel: Depends on container host Compiler: clang 18.1.6 (Fedora 18.1.6-3.fc40) Ubuntu 20.04 (ARM) Kernel: Depends on container host Compiler: gcc (Ubuntu 9.4.0-1ubuntu1~20.04.2) 9.4.0 RHEL9 (ARM) Kernel: Depends on container host Compiler: gcc 11.4.1 20231218 (Red Hat 11.4.1-3) Ubuntu 22.04 (ARM) Kernel: Depends on container host Compiler: gcc (Ubuntu 11.4.0-1ubuntu1~22.04) 11.4.0 Ubuntu 24.04 (ARM) Kernel: Depends on container host Compiler: gcc (Ubuntu 13.2.0-23ubuntu4) 13.2.0 Ubuntu 20.04 ARM SVE Kernel: Depends on container host Compiler: gcc (Ubuntu 10.5.0-1ubuntu1~20.04) 10.5.0 To view detailed results, visit: https://lab.dpdk.org/results/dashboard/tarballs/31818/ UNH-IOL DPDK Community Lab To manage your email subscriptions, visit: https://lab.dpdk.org/results/dashboard/preferences/subscriptions/