From mboxrd@z Thu Jan 1 00:00:00 1970 Return-Path: Received: from mails.dpdk.org (mails.dpdk.org [217.70.189.124]) by inbox.dpdk.org (Postfix) with ESMTP id 6E2DA45E20 for ; Tue, 3 Dec 2024 21:03:49 +0100 (CET) Received: from mails.dpdk.org (localhost [127.0.0.1]) by mails.dpdk.org (Postfix) with ESMTP id 6942840261; Tue, 3 Dec 2024 21:03:49 +0100 (CET) Received: from mail-pf1-f227.google.com (mail-pf1-f227.google.com [209.85.210.227]) by mails.dpdk.org (Postfix) with ESMTP id 381274025D for ; Tue, 3 Dec 2024 21:03:48 +0100 (CET) Received: by mail-pf1-f227.google.com with SMTP id d2e1a72fcca58-7252f48acf2so4326452b3a.2 for ; Tue, 03 Dec 2024 12:03:48 -0800 (PST) DKIM-Signature: v=1; a=rsa-sha256; c=relaxed/relaxed; d=iol.unh.edu; s=unh-iol; t=1733256227; x=1733861027; darn=dpdk.org; h=cc:to:from:subject:message-id:date:from:to:cc:subject:date :message-id:reply-to; bh=VyyzgsCWFXwBtrcREMUwp/SAknxkOkykgeYJDqUi1K8=; b=G+DRjo6hwdRZgI3U5UkY4tjXDSoRYwxOGLSxJcAPirRtDY3XtJrqOq5FI4VBaZl5gk Cw2TgS6hT9QH/25h6sq/3Vi/vhzsrZ7sU/lFxXMXLwd1OWfWY8JHNrQWjGsy0iygRhpL vqQwFSUr9MwY+Ijs0Md1x4SyB3oBFuEBJF2Pg= X-Google-DKIM-Signature: v=1; a=rsa-sha256; c=relaxed/relaxed; d=1e100.net; s=20230601; t=1733256227; x=1733861027; h=cc:to:from:subject:message-id:date:x-gm-message-state:from:to:cc :subject:date:message-id:reply-to; bh=VyyzgsCWFXwBtrcREMUwp/SAknxkOkykgeYJDqUi1K8=; b=M53Nn0s+v0bkocpQ6GrtX6OifNUcTurT/TzkS/B2Y6g256cc7OZfls5EgHtfAf/P/a yHR+fVCldLMYFOxslEZbXGNrOmciGpL/NGu1+dgts5SqgV5bE2GRKutxHHx6lsSwhwYg aFicQCDiE/+soPVFd4ArV7/34fD6e5gfBUs8jP7nsJNZrMxPLWvLHECdTwXFSkEe7O5u yyPhBWgVgEcicipX4MUIKtDTQ1iJl1CDNbgFsaLt4/JgSqSjDTAL6lEGLb/hSbTvnpIO rImk2VmBmerfda1CkH4lSLaceWSjyZG/t0/7Q+6dMirYpxw+bFOFeAVWHVq+ELxCqCIO qJuw== X-Gm-Message-State: AOJu0YzF2gmijxILc9PBVfVUtaLksQtkYRDpHUHqTTNfKQj6BfMGH5Ru iDIh2VrnC61KBBwRpn+jhdrhtXoxyJrVYIU4o6XBnfchdcuUyC22R1YNwAmHpw3AzAWjwyFHoB/ 1vVfeq1NJ4CZAA28ozngndQbrS4d36DAyOFCj5NIEWwquO5JSDeKtujVz X-Gm-Gg: ASbGncsm3QH8fKBlZUPn8c7yw6JtGvHPMn5Dt0TPyFXyzXfz07OhUYZSQEQ9iv5wtdO Y8zsN6VT3B1DUcHbmYY2tqLrWELEyL58ac+p7njnAmNBDqhBI1pOCjfk3THU76uR7Dv6BgqKl4A YDjM2ghCrrrBznj0+/sORrsH8gnQ4uIrAf5lkiyyyJLHS2QQucUSfPMMZi0SVYZ5j3dpbUToYzN wwAleEAWUyTucmTzOB+7CskHSBBM/yw4ew7L6ONi1hiGho/Ae//baR9QMs1Kz+8rsvLljes89A= X-Google-Smtp-Source: AGHT+IHY2MDYwoYgkfIFx87r16nOyhnZKdxZhi/bhw1zAOY5KG3T0a34BT1/uR7CzLb1GCvqNkTMIJX0y1wn X-Received: by 2002:a17:90b:2ec3:b0:2ee:b66d:6576 with SMTP id 98e67ed59e1d1-2ef1cf04842mr2052122a91.30.1733256227404; Tue, 03 Dec 2024 12:03:47 -0800 (PST) Received: from postal.iol.unh.edu (postal.iol.unh.edu. [2606:4100:3880:1234::84]) by smtp-relay.gmail.com with ESMTPS id 98e67ed59e1d1-2eeed07d8f6sm175287a91.16.2024.12.03.12.03.47 (version=TLS1_2 cipher=ECDHE-ECDSA-AES128-GCM-SHA256 bits=128/128); Tue, 03 Dec 2024 12:03:47 -0800 (PST) X-Relaying-Domain: iol.unh.edu Date: Tue, 03 Dec 2024 12:03:47 -0800 (PST) Message-ID: <674f6423.170a0220.7aae9.a25cSMTPIN_ADDED_MISSING@mx.google.com> Received: from [172.17.0.5] (unknown [172.18.0.217]) by postal.iol.unh.edu (Postfix) with ESMTP id 96EB66052471; Tue, 3 Dec 2024 15:03:46 -0500 (EST) Subject: |SUCCESS| [GIT MASTER] 4843aacb0d1201fef37e8a579fcd8baec4acdf98 From: dpdklab@iol.unh.edu To: Test Report Cc: dpdk-test-reports@iol.unh.edu, Akhil Goyal Content-Type: text/plain X-BeenThere: test-report@dpdk.org X-Mailman-Version: 2.1.29 Precedence: list List-Id: automatic DPDK test reports List-Unsubscribe: , List-Archive: List-Post: List-Help: List-Subscribe: , Errors-To: test-report-bounces@dpdk.org _Testing PASS_ Branch: dpdk-next-crypto 4843aacb0d1201fef37e8a579fcd8baec4acdf98 --> testing pass Upstream job id: Aarch32-Unit-Test#4544 Test environment and result as below: +-----------------------------+----------------+---------------------------+--------------+------------------------------+ | Environment | dpdk_unit_test | cryptodev_sw_zuc_autotest | lpm_autotest | cryptodev_sw_snow3g_autotest | +=============================+================+===========================+==============+==============================+ | Fedora 39 (ARM) | PASS | SKIPPED | SKIPPED | SKIPPED | +-----------------------------+----------------+---------------------------+--------------+------------------------------+ | Debian 12 (arm) | PASS | PASS | SKIPPED | PASS | +-----------------------------+----------------+---------------------------+--------------+------------------------------+ | Fedora 39 (ARM Clang) | PASS | SKIPPED | SKIPPED | SKIPPED | +-----------------------------+----------------+---------------------------+--------------+------------------------------+ | CentOS Stream 9 (ARM) | PASS | SKIPPED | SKIPPED | SKIPPED | +-----------------------------+----------------+---------------------------+--------------+------------------------------+ | Fedora 40 (ARM) | PASS | SKIPPED | SKIPPED | SKIPPED | +-----------------------------+----------------+---------------------------+--------------+------------------------------+ | Fedora 40 (ARM Clang) | PASS | SKIPPED | SKIPPED | SKIPPED | +-----------------------------+----------------+---------------------------+--------------+------------------------------+ | Ubuntu 20.04 (ARM) | PASS | SKIPPED | SKIPPED | SKIPPED | +-----------------------------+----------------+---------------------------+--------------+------------------------------+ | RHEL9 (ARM) | PASS | SKIPPED | SKIPPED | SKIPPED | +-----------------------------+----------------+---------------------------+--------------+------------------------------+ | Ubuntu 22.04 (ARM) | PASS | SKIPPED | SKIPPED | SKIPPED | +-----------------------------+----------------+---------------------------+--------------+------------------------------+ | Ubuntu 24.04 (ARM) | PASS | SKIPPED | SKIPPED | SKIPPED | +-----------------------------+----------------+---------------------------+--------------+------------------------------+ | 32-bit Ubuntu 22.04.4 (ARM) | PASS | SKIPPED | SKIPPED | SKIPPED | +-----------------------------+----------------+---------------------------+--------------+------------------------------+ | Ubuntu 20.04 ARM SVE | SKIPPED | SKIPPED | PASS | SKIPPED | +-----------------------------+----------------+---------------------------+--------------+------------------------------+ Fedora 39 (ARM) Kernel: Depends on container host Compiler: gcc 13.3.1 20240522 (Red Hat 13.3.1-1) Debian 12 (arm) Kernel: Depends on container host Compiler: gcc (Debian 12.2.0-14) 12.2.0 Fedora 39 (ARM Clang) Kernel: Depends on container host Compiler: clang 17.0.6 (Fedora 17.0.6-2.fc39) CentOS Stream 9 (ARM) Kernel: Depends on container host Compiler: gcc 11.4.1 20231218 (Red Hat 11.4.1-3) Fedora 40 (ARM) Kernel: Depends on container host Compiler: gcc 14.2.1 20240801 (Red Hat 14.2.1-1) Fedora 40 (ARM Clang) Kernel: Depends on container host Compiler: clang 18.1.6 (Fedora 18.1.6-3.fc40) Ubuntu 20.04 (ARM) Kernel: Depends on container host Compiler: gcc (Ubuntu 9.4.0-1ubuntu1~20.04.2) 9.4.0 RHEL9 (ARM) Kernel: Depends on container host Compiler: gcc 11.4.1 20231218 (Red Hat 11.4.1-3) Ubuntu 22.04 (ARM) Kernel: Depends on container host Compiler: gcc (Ubuntu 11.4.0-1ubuntu1~22.04) 11.4.0 Ubuntu 24.04 (ARM) Kernel: Depends on container host Compiler: gcc (Ubuntu 13.2.0-23ubuntu4) 13.2.0 32-bit Ubuntu 22.04.4 (ARM) Kernel: 5.15.83+ aarch64 Compiler: gcc (Ubuntu 11.4.0-1ubuntu1~22.04) 11.4.0 Ubuntu 20.04 ARM SVE Kernel: Depends on container host Compiler: gcc (Ubuntu 10.5.0-1ubuntu1~20.04) 10.5.0 To view detailed results, visit: https://lab.dpdk.org/results/dashboard/tarballs/31818/ UNH-IOL DPDK Community Lab To manage your email subscriptions, visit: https://lab.dpdk.org/results/dashboard/preferences/subscriptions/