From mboxrd@z Thu Jan 1 00:00:00 1970 Return-Path: Received: from mails.dpdk.org (mails.dpdk.org [217.70.189.124]) by inbox.dpdk.org (Postfix) with ESMTP id 7A18F45E21 for ; Tue, 3 Dec 2024 22:06:40 +0100 (CET) Received: from mails.dpdk.org (localhost [127.0.0.1]) by mails.dpdk.org (Postfix) with ESMTP id 5BC9640261; Tue, 3 Dec 2024 22:06:40 +0100 (CET) Received: from mail-oo1-f100.google.com (mail-oo1-f100.google.com [209.85.161.100]) by mails.dpdk.org (Postfix) with ESMTP id 3F4BC4025D for ; Tue, 3 Dec 2024 22:06:38 +0100 (CET) Received: by mail-oo1-f100.google.com with SMTP id 006d021491bc7-5f22ea6d874so2238925eaf.1 for ; Tue, 03 Dec 2024 13:06:38 -0800 (PST) DKIM-Signature: v=1; a=rsa-sha256; c=relaxed/relaxed; d=iol.unh.edu; s=unh-iol; t=1733259997; x=1733864797; darn=dpdk.org; h=cc:to:from:subject:message-id:date:from:to:cc:subject:date :message-id:reply-to; bh=RCtY3OP4fNhiV5J4i7ZUs2PXFjR8ytnA5oujfP++h6s=; b=RxLrmsGyf70n7JHUBkMQT8jhn37LKVIVSfRbffRNK6EmtNc7ziPlIne+35OQ+eMIjV jV7ArM0qHaJ3UEXxk7FHMVaOA13vicTeoRft0TzisH4G3b/LVxG8jBzbH6gJEFRE0XA3 dkeJjqiBWVnIM2/wMZ02+5t7soX4hLRHQEG2c= X-Google-DKIM-Signature: v=1; a=rsa-sha256; c=relaxed/relaxed; d=1e100.net; s=20230601; t=1733259997; x=1733864797; h=cc:to:from:subject:message-id:date:x-gm-message-state:from:to:cc :subject:date:message-id:reply-to; bh=RCtY3OP4fNhiV5J4i7ZUs2PXFjR8ytnA5oujfP++h6s=; b=RndRMg2XJn8LGWOk7Gf/Z6x1U1s0L9FrXWcuOQT0PfGiCFkSVZXIpdO3JmRc82R5Ei G34FjXwHMyV07qekASXrY+8/8z7UzWubWSr0XNpkiyaP1ahuE4yvjKVi/VPuYyjKHDRr 7MWa0SFCAackdbWN+tf/T8/TOzpEnner+8I9i1TeImzRUInmi9wGOx+iM89/oJWALxpV 5nqDl6CP1PYIKgQPYshADPonQ0WY3jQCBKwQCkxjJCuGWHDw6iGEN7ghjBet8lZ//Y7G gXnZcmFxV8fG27X/gaRUGlSYEb8K9kE3wpP6YtRrh+7kn6piWVUfa7Gg+3l33CTmJpFu CKOQ== X-Gm-Message-State: AOJu0YwVmhFEeJvfoUsllxRA0KGtKeemPftM/N7i0giGBd8BaeTcMs/6 BtTKHaWEczAPl4Ujp5t4HkLTblj4ze6l3g4ME2aMtZtMgIamTOgQQt4cKXaL0AvOFzHBECzoFxR CGStxHMKleN+QSNwo6Xa0vuJmUPrGlmyjU3a0lVMrNj7B9X3dJWDm7D6X X-Gm-Gg: ASbGnct2Jx2H5UJ/hnisn8dqQC9Hmb4K/VmuiC213zzFOECQndUwUZ55aRmj0eIGTkV v/Qx3/wdYWvELuMfYrKyl4vVvObpfwIRchVh/Cc4JICPl8PooAUfUU6eHqcmIMyKCYKQRkSZtXS iKT9cz6KyrzvdrAvim4bR1gjNpoaUGSOpzLnEXWdr2J3E6NUzGswGKKlkrBEk/FulKAduPKMSke L/X0JhLjEE8pqhtf/qxZVX0sQ3Y9bw8BWUe65F9N9r1mq9FAkKevFyhnVJz3xmr26BSchzsc6k= X-Google-Smtp-Source: AGHT+IE5A7xR5MmcDFaPZfV1m6qgG94ImQcH5sLQgNlRBQqFllCu90f+d3IBniOf0QGRR9umFebc4K5p5nr7 X-Received: by 2002:a4a:e918:0:b0:5f1:e905:bc93 with SMTP id 006d021491bc7-5f25ae0e5c4mr3450951eaf.5.1733259997415; Tue, 03 Dec 2024 13:06:37 -0800 (PST) Received: from postal.iol.unh.edu (postal.iol.unh.edu. [2606:4100:3880:1234::84]) by smtp-relay.gmail.com with ESMTPS id 006d021491bc7-5f21a33a515sm530606eaf.1.2024.12.03.13.06.37 (version=TLS1_2 cipher=ECDHE-ECDSA-AES128-GCM-SHA256 bits=128/128); Tue, 03 Dec 2024 13:06:37 -0800 (PST) X-Relaying-Domain: iol.unh.edu Date: Tue, 03 Dec 2024 13:06:37 -0800 (PST) Message-ID: <674f72dd.050a0220.11fdac.e0e3SMTPIN_ADDED_MISSING@mx.google.com> Received: from [172.17.0.5] (unknown [172.18.0.217]) by postal.iol.unh.edu (Postfix) with ESMTP id 0B5406052471; Tue, 3 Dec 2024 16:06:37 -0500 (EST) Subject: |SUCCESS| [GIT MASTER] 1b3bf1128d9bda5595861814792f74b8f57160c8 From: dpdklab@iol.unh.edu To: Test Report Cc: dpdk-test-reports@iol.unh.edu, Jerin Jacob Content-Type: text/plain X-BeenThere: test-report@dpdk.org X-Mailman-Version: 2.1.29 Precedence: list List-Id: automatic DPDK test reports List-Unsubscribe: , List-Archive: List-Post: List-Help: List-Subscribe: , Errors-To: test-report-bounces@dpdk.org _Testing PASS_ Branch: dpdk-next-eventdev 1b3bf1128d9bda5595861814792f74b8f57160c8 --> testing pass Upstream job id: Generic-Unit-Test-DPDK#297158 Test environment and result as below: +-----------------------+------------------------------+--------------+---------------------------+----------------+ | Environment | cryptodev_sw_snow3g_autotest | lpm_autotest | cryptodev_sw_zuc_autotest | dpdk_unit_test | +=======================+==============================+==============+===========================+================+ | Debian 12 (arm) | PASS | SKIPPED | PASS | PASS | +-----------------------+------------------------------+--------------+---------------------------+----------------+ | Ubuntu 20.04 ARM SVE | SKIPPED | PASS | SKIPPED | SKIPPED | +-----------------------+------------------------------+--------------+---------------------------+----------------+ | CentOS Stream 9 (ARM) | SKIPPED | SKIPPED | SKIPPED | PASS | +-----------------------+------------------------------+--------------+---------------------------+----------------+ | Fedora 39 (ARM) | SKIPPED | SKIPPED | SKIPPED | PASS | +-----------------------+------------------------------+--------------+---------------------------+----------------+ | Fedora 40 (ARM Clang) | SKIPPED | SKIPPED | SKIPPED | PASS | +-----------------------+------------------------------+--------------+---------------------------+----------------+ | Fedora 40 (ARM) | SKIPPED | SKIPPED | SKIPPED | PASS | +-----------------------+------------------------------+--------------+---------------------------+----------------+ | Fedora 39 (ARM Clang) | SKIPPED | SKIPPED | SKIPPED | PASS | +-----------------------+------------------------------+--------------+---------------------------+----------------+ | RHEL9 (ARM) | SKIPPED | SKIPPED | SKIPPED | PASS | +-----------------------+------------------------------+--------------+---------------------------+----------------+ | Ubuntu 20.04 (ARM) | SKIPPED | SKIPPED | SKIPPED | PASS | +-----------------------+------------------------------+--------------+---------------------------+----------------+ | Ubuntu 24.04 (ARM) | SKIPPED | SKIPPED | SKIPPED | PASS | +-----------------------+------------------------------+--------------+---------------------------+----------------+ | Ubuntu 22.04 (ARM) | SKIPPED | SKIPPED | SKIPPED | PASS | +-----------------------+------------------------------+--------------+---------------------------+----------------+ Debian 12 (arm) Kernel: Depends on container host Compiler: gcc (Debian 12.2.0-14) 12.2.0 Ubuntu 20.04 ARM SVE Kernel: Depends on container host Compiler: gcc (Ubuntu 10.5.0-1ubuntu1~20.04) 10.5.0 CentOS Stream 9 (ARM) Kernel: Depends on container host Compiler: gcc 11.4.1 20231218 (Red Hat 11.4.1-3) Fedora 39 (ARM) Kernel: Depends on container host Compiler: gcc 13.3.1 20240522 (Red Hat 13.3.1-1) Fedora 40 (ARM Clang) Kernel: Depends on container host Compiler: clang 18.1.6 (Fedora 18.1.6-3.fc40) Fedora 40 (ARM) Kernel: Depends on container host Compiler: gcc 14.2.1 20240801 (Red Hat 14.2.1-1) Fedora 39 (ARM Clang) Kernel: Depends on container host Compiler: clang 17.0.6 (Fedora 17.0.6-2.fc39) RHEL9 (ARM) Kernel: Depends on container host Compiler: gcc 11.4.1 20231218 (Red Hat 11.4.1-3) Ubuntu 20.04 (ARM) Kernel: Depends on container host Compiler: gcc (Ubuntu 9.4.0-1ubuntu1~20.04.2) 9.4.0 Ubuntu 24.04 (ARM) Kernel: Depends on container host Compiler: gcc (Ubuntu 13.2.0-23ubuntu4) 13.2.0 Ubuntu 22.04 (ARM) Kernel: Depends on container host Compiler: gcc (Ubuntu 11.4.0-1ubuntu1~22.04) 11.4.0 To view detailed results, visit: https://lab.dpdk.org/results/dashboard/tarballs/31822/ UNH-IOL DPDK Community Lab To manage your email subscriptions, visit: https://lab.dpdk.org/results/dashboard/preferences/subscriptions/