From mboxrd@z Thu Jan 1 00:00:00 1970 Return-Path: Received: from mails.dpdk.org (mails.dpdk.org [217.70.189.124]) by inbox.dpdk.org (Postfix) with ESMTP id A46A445E21 for ; Tue, 3 Dec 2024 22:07:34 +0100 (CET) Received: from mails.dpdk.org (localhost [127.0.0.1]) by mails.dpdk.org (Postfix) with ESMTP id A081F40261; Tue, 3 Dec 2024 22:07:34 +0100 (CET) Received: from mail-pl1-f225.google.com (mail-pl1-f225.google.com [209.85.214.225]) by mails.dpdk.org (Postfix) with ESMTP id E32754025D for ; Tue, 3 Dec 2024 22:07:33 +0100 (CET) Received: by mail-pl1-f225.google.com with SMTP id d9443c01a7336-215ac560292so21366405ad.2 for ; Tue, 03 Dec 2024 13:07:33 -0800 (PST) DKIM-Signature: v=1; a=rsa-sha256; c=relaxed/relaxed; d=iol.unh.edu; s=unh-iol; t=1733260053; x=1733864853; darn=dpdk.org; h=cc:to:from:subject:message-id:date:from:to:cc:subject:date :message-id:reply-to; bh=ymU/gqzYzyhFhYjrKmBRDzeARfRMU+CgDsPsi2kXTz8=; b=VHHsHBvbiUe9HU636BipuEYFltP5RQtgTDt1qRqACI7yWFpZu0eiK+Q+scU23a0h7k KTb2zaD5yAFRqmmquwzuTnnaFZEo8OJzGkWNh2nMx+69RVQ61aiYCaC15TJ9pSPng+MR zSctSdUBZGMZIy6SbsavHZyGez18CDBKhwOIc= X-Google-DKIM-Signature: v=1; a=rsa-sha256; c=relaxed/relaxed; d=1e100.net; s=20230601; t=1733260053; x=1733864853; h=cc:to:from:subject:message-id:date:x-gm-message-state:from:to:cc :subject:date:message-id:reply-to; bh=ymU/gqzYzyhFhYjrKmBRDzeARfRMU+CgDsPsi2kXTz8=; b=rRfe21x5ooISmIiGV6WfWB9tT6O8EPO5jiZZcm5rJLdDIuJ2gahYMZgYJD2VQ5tqb0 26an06pbEcPkmpXZJwSXjP4bCafmGjCFmQkkmWQ7piBVYEHUe8bc6etYQbpjxbSIfUVu 6Y1FKurXIGyNXVaWB374tqndGYq6obC022ZnhCtsjMbYMIkOOn7M+MhIog/mVcrBJBe9 EVqqFdQFNP0+AurmuT/ICxDKjS6zE8u7IwZVJ6I+f82yBktdwY1u7PAYzW/64jnXoKeD vnXRtfci8ANhS/CL5aehWEZBXTPPC3A3p4jVdyq08hZ904LcNpi7JVWsy8f9UKHSTrQh UNTA== X-Gm-Message-State: AOJu0YwS/GZvh9/b/ZktrKwK45vA2kex3lQnpVLYouBELj/kvNJ02AJF 5ZnwuIqiqkJUHEo62DBqjFLfWagkHOcqalnu++L8Z8e8OrkV1NfoLq7dykJ/VFxPy6bwN4cmASA PJIzjhhQ51NKFEV2tG6Y7Gxoiyf3u3GRA9jPLHg80wyimVDUmC9ppREQW X-Gm-Gg: ASbGncsa7Bj3JBmmKjqGmCJSbJC2sGYqjktS+pC07Cnok7hdJ2WJxztntQRuJSf6R5y RGvDSrmFT3bZ5MmQyMM4mxGp11IV5i2auYEJejdRuoJ1WjWorypB3NPL+La3LWwcppxAT3CG9/y vcUNOuKn9l5zjhNwjnBWVKw1ti3nsthATd+U9t3ZPWVJudJlGp8rKuc8PGtIyJamnYud2FEA+ws KTRyJ6LJKjHEX7uBe/1JWCVonp7jIac6etgC+uzzGtwkjYwxLhU015+5RQm40vBPWy32ms0MiU= X-Google-Smtp-Source: AGHT+IE+8VzzpQmbNb3YrHtXFU0tJG0ApWQds0j04on/SS2d9DpoJIagMpSONT7ih212y5Wqew1Kb4p4dj0R X-Received: by 2002:a17:903:2447:b0:215:431e:e0f with SMTP id d9443c01a7336-215bd0cea0amr50846945ad.28.1733260053200; Tue, 03 Dec 2024 13:07:33 -0800 (PST) Received: from postal.iol.unh.edu (postal.iol.unh.edu. [2606:4100:3880:1234::84]) by smtp-relay.gmail.com with ESMTPS id d9443c01a7336-215d8396e0bsm86735ad.116.2024.12.03.13.07.33 (version=TLS1_2 cipher=ECDHE-ECDSA-AES128-GCM-SHA256 bits=128/128); Tue, 03 Dec 2024 13:07:33 -0800 (PST) X-Relaying-Domain: iol.unh.edu Date: Tue, 03 Dec 2024 13:07:33 -0800 (PST) Message-ID: <674f7315.170a0220.252e30.0792SMTPIN_ADDED_MISSING@mx.google.com> Received: from [172.17.0.5] (unknown [172.18.0.217]) by postal.iol.unh.edu (Postfix) with ESMTP id 9413C6052471; Tue, 3 Dec 2024 16:07:32 -0500 (EST) Subject: |SUCCESS| [GIT MASTER] 4843aacb0d1201fef37e8a579fcd8baec4acdf98 From: dpdklab@iol.unh.edu To: Test Report Cc: dpdk-test-reports@iol.unh.edu, Akhil Goyal Content-Type: text/plain X-BeenThere: test-report@dpdk.org X-Mailman-Version: 2.1.29 Precedence: list List-Id: automatic DPDK test reports List-Unsubscribe: , List-Archive: List-Post: List-Help: List-Subscribe: , Errors-To: test-report-bounces@dpdk.org _Testing PASS_ Branch: dpdk-next-crypto 4843aacb0d1201fef37e8a579fcd8baec4acdf98 --> testing pass Upstream job id: Generic-VM-Unit-Test-DPDK#26493 Test environment and result as below: +---------------------+----------------+ | Environment | dpdk_unit_test | +=====================+================+ | Fedora 40 | PASS | +---------------------+----------------+ | Fedora 39 (Clang) | PASS | +---------------------+----------------+ | Fedora 39 | PASS | +---------------------+----------------+ | CentOS Stream 9 | PASS | +---------------------+----------------+ | Debian 12 | PASS | +---------------------+----------------+ | RHEL8 | PASS | +---------------------+----------------+ | Fedora 40 (Clang) | PASS | +---------------------+----------------+ | Ubuntu 20.04 | PASS | +---------------------+----------------+ | Ubuntu 24.04 | PASS | +---------------------+----------------+ | RHEL9 | PASS | +---------------------+----------------+ | Ubuntu 22.04 | PASS | +---------------------+----------------+ | Windows Server 2022 | PASS | +---------------------+----------------+ Fedora 40 Kernel: Depends on container host Compiler: gcc 14.2.1 20240801 (Red Hat 14.2.1-1) Fedora 39 (Clang) Kernel: Depends on container host Compiler: clang 17.0.6 (Fedora 17.0.6-2.fc39) Fedora 39 Kernel: Depends on container host Compiler: gcc 13.3.1 20240522 (Red Hat 13.3.1-1) CentOS Stream 9 Kernel: Depends on container host Compiler: gcc 11.4.1 20231218 (Red Hat 11.4.1-3) Debian 12 Kernel: Depends on container host Compiler: gcc (Debian 12.2.0-14) 12.2.0 RHEL8 Kernel: Depends on container host Compiler: gcc 8.5.0 20210514 (Red Hat 8.5.0-22) Fedora 40 (Clang) Kernel: Depends on container host Compiler: clang 18.1.6 (Fedora 18.1.6-3.fc40) Ubuntu 20.04 Kernel: Depends on container host Compiler: gcc (Ubuntu 9.4.0-1ubuntu1~20.04.2) 9.4.0 Ubuntu 24.04 Kernel: Depends on container host Compiler: gcc (Ubuntu 13.2.0-23ubuntu4) 13.2.0 RHEL9 Kernel: Depends on container host Compiler: gcc 11.4.1 20231218 (Red Hat 11.4.1-3) Ubuntu 22.04 Kernel: Depends on container host Compiler: gcc (Ubuntu 11.4.0-1ubuntu1~22.04) 11.4.0 Windows Server 2022 Kernel: 10.0.20348.2031 Compiler: clang 15.0.7, gcc 14.1.0 (MinGW), and MSVC VS 19.39.33521 To view detailed results, visit: https://lab.dpdk.org/results/dashboard/tarballs/31818/ UNH-IOL DPDK Community Lab To manage your email subscriptions, visit: https://lab.dpdk.org/results/dashboard/preferences/subscriptions/