From mboxrd@z Thu Jan 1 00:00:00 1970 Return-Path: Received: from mails.dpdk.org (mails.dpdk.org [217.70.189.124]) by inbox.dpdk.org (Postfix) with ESMTP id EFA2D45E21 for ; Tue, 3 Dec 2024 22:08:52 +0100 (CET) Received: from mails.dpdk.org (localhost [127.0.0.1]) by mails.dpdk.org (Postfix) with ESMTP id EC31040261; Tue, 3 Dec 2024 22:08:52 +0100 (CET) Received: from mail-qt1-f227.google.com (mail-qt1-f227.google.com [209.85.160.227]) by mails.dpdk.org (Postfix) with ESMTP id 309DA4025D for ; Tue, 3 Dec 2024 22:08:52 +0100 (CET) Received: by mail-qt1-f227.google.com with SMTP id d75a77b69052e-4669eecd88dso47739701cf.0 for ; Tue, 03 Dec 2024 13:08:52 -0800 (PST) DKIM-Signature: v=1; a=rsa-sha256; c=relaxed/relaxed; d=iol.unh.edu; s=unh-iol; t=1733260131; x=1733864931; darn=dpdk.org; h=cc:to:from:subject:message-id:date:from:to:cc:subject:date :message-id:reply-to; bh=FLjvquQzEfd4UxqZP5wAYwODWJNRSCQtZN7g82Pydv0=; b=ah6M2bX787EU+Z/ruB4s+HUtfTMXdp4atvQMuzFLzNjPZHybxdwwTJFUrWO24IRWL5 4jfAClkyeNsaOgE31CVbFBJDLeXiAs1ru3aIHueTXphNHf3+pHhp1p/RwcoiqklMZSLc /Bh2oVt/4OVigND8eijranl6xK3nDs8CCxJt0= X-Google-DKIM-Signature: v=1; a=rsa-sha256; c=relaxed/relaxed; d=1e100.net; s=20230601; t=1733260131; x=1733864931; h=cc:to:from:subject:message-id:date:x-gm-message-state:from:to:cc :subject:date:message-id:reply-to; bh=FLjvquQzEfd4UxqZP5wAYwODWJNRSCQtZN7g82Pydv0=; b=nTMZRKrjsElUPa0dDHat0alRDD5shKt1PnDAbuN7AGGTG6G302BJbA/ECnowikRMv/ XlLNpdB71ZGFolzUj8zJGwBLeBZ4euc7u78m7B+/ItENZEIveAcvIPn2SkDMffL05AcF LFkHTzLgnT0V3r9ZA0YJTAuE38nYBgTbdhVZF8wyjonYFFU9G+fy4m8xliMU7qiOotIo AdDCxZBfmQ7AmRRUkJKwJzgemYqMO1+TQ4emu0/8gPSVIQ6RJMLMJVd3QxAT0ZjUxZvf 4vWltChZHXVx+UbqFHrbCvvnz2Ptgk4js5llbhTBdtKns3w7fgtSJRRNWRI3hiR1sp8W laqQ== X-Gm-Message-State: AOJu0YzR40H982fYlQzK9s16ZkNgpRNwJnhB+dS2MN3BkU5AwzyS8U1b 0+WJNN0E2qohTJ2tPogpOVS75rlpGZ80XpkEr/xFwDj6PnnhY2kizZ6iyyfAhiPM6FnBiLTdExA xGu491gtLCXdaZ04knrQWtBRZFlkzVY+xPXi6KoZn1JEm97qMxD2hxSw2 X-Gm-Gg: ASbGncudOZiwF9dkTwq02EJTLdHk92vZvMIkYNYGgO4uBtJpBJ973lnthLSl9SHLgTx c11ogQF5AXd9kkQ1EbIuq5j88j/Q6jT0Q8/T3tQNq2MYdT9QBped4tFn/gITgA1JOH5O4sI71Xy nHNyxeROincFphjeddghj6d0v2LdhabIYg4+uCXVMEwlUV9pq9+S7vPQBHUrTmP3PEZN6RtfJ+x +BZGAiygTYcT7sGbIZ3BmjYq8ghTXhA4QA6IIGFYw7Gsv0rmMWg9/WHUwE4cbmrgeI4gKArnjo= X-Google-Smtp-Source: AGHT+IGuDnZeFhbDoiwdT7wPdR8UNJH6FqC8L9JJIZnzdQXO1r+YDoZ1YaosBjOK36Tk9OfFPLV8MXOEuqgg X-Received: by 2002:ac8:580c:0:b0:466:84a8:6883 with SMTP id d75a77b69052e-4670c080244mr51736561cf.12.1733260131577; Tue, 03 Dec 2024 13:08:51 -0800 (PST) Received: from postal.iol.unh.edu (postal.iol.unh.edu. [2606:4100:3880:1234::84]) by smtp-relay.gmail.com with ESMTPS id d75a77b69052e-466c421eb32sm4746521cf.18.2024.12.03.13.08.51 (version=TLS1_2 cipher=ECDHE-ECDSA-AES128-GCM-SHA256 bits=128/128); Tue, 03 Dec 2024 13:08:51 -0800 (PST) X-Relaying-Domain: iol.unh.edu Date: Tue, 03 Dec 2024 13:08:51 -0800 (PST) Message-ID: <674f7363.c80a0220.2f42dc.b139SMTPIN_ADDED_MISSING@mx.google.com> Received: from [172.21.0.5] (unknown [172.18.0.240]) by postal.iol.unh.edu (Postfix) with ESMTP id 439AC6052471; Tue, 3 Dec 2024 16:08:51 -0500 (EST) Subject: |SUCCESS| [GIT MASTER] 1b3bf1128d9bda5595861814792f74b8f57160c8 From: dpdklab@iol.unh.edu To: Test Report Cc: dpdk-test-reports@iol.unh.edu, Jerin Jacob Content-Type: text/plain X-BeenThere: test-report@dpdk.org X-Mailman-Version: 2.1.29 Precedence: list List-Id: automatic DPDK test reports List-Unsubscribe: , List-Archive: List-Post: List-Help: List-Subscribe: , Errors-To: test-report-bounces@dpdk.org _Testing PASS_ Branch: dpdk-next-eventdev 1b3bf1128d9bda5595861814792f74b8f57160c8 --> testing pass Upstream job id: Generic-Unit-Test-DPDK#297157 Test environment and result as below: +-------------------+----------------+ | Environment | dpdk_unit_test | +===================+================+ | CentOS Stream 9 | PASS | +-------------------+----------------+ | Fedora 39 | PASS | +-------------------+----------------+ | Debian 12 | PASS | +-------------------+----------------+ | Fedora 40 | PASS | +-------------------+----------------+ | Fedora 39 (Clang) | PASS | +-------------------+----------------+ | Fedora 40 (Clang) | PASS | +-------------------+----------------+ | RHEL8 | PASS | +-------------------+----------------+ | RHEL9 | PASS | +-------------------+----------------+ | Ubuntu 20.04 | PASS | +-------------------+----------------+ | Ubuntu 24.04 | PASS | +-------------------+----------------+ | Ubuntu 22.04 | PASS | +-------------------+----------------+ CentOS Stream 9 Kernel: Depends on container host Compiler: gcc 11.4.1 20231218 (Red Hat 11.4.1-3) Fedora 39 Kernel: Depends on container host Compiler: gcc 13.3.1 20240522 (Red Hat 13.3.1-1) Debian 12 Kernel: Depends on container host Compiler: gcc (Debian 12.2.0-14) 12.2.0 Fedora 40 Kernel: Depends on container host Compiler: gcc 14.2.1 20240801 (Red Hat 14.2.1-1) Fedora 39 (Clang) Kernel: Depends on container host Compiler: clang 17.0.6 (Fedora 17.0.6-2.fc39) Fedora 40 (Clang) Kernel: Depends on container host Compiler: clang 18.1.6 (Fedora 18.1.6-3.fc40) RHEL8 Kernel: Depends on container host Compiler: gcc 8.5.0 20210514 (Red Hat 8.5.0-22) RHEL9 Kernel: Depends on container host Compiler: gcc 11.4.1 20231218 (Red Hat 11.4.1-3) Ubuntu 20.04 Kernel: Depends on container host Compiler: gcc (Ubuntu 9.4.0-1ubuntu1~20.04.2) 9.4.0 Ubuntu 24.04 Kernel: Depends on container host Compiler: gcc (Ubuntu 13.2.0-23ubuntu4) 13.2.0 Ubuntu 22.04 Kernel: Depends on container host Compiler: gcc (Ubuntu 11.4.0-1ubuntu1~22.04) 11.4.0 To view detailed results, visit: https://lab.dpdk.org/results/dashboard/tarballs/31822/ UNH-IOL DPDK Community Lab To manage your email subscriptions, visit: https://lab.dpdk.org/results/dashboard/preferences/subscriptions/