From mboxrd@z Thu Jan 1 00:00:00 1970 Return-Path: Received: from mails.dpdk.org (mails.dpdk.org [217.70.189.124]) by inbox.dpdk.org (Postfix) with ESMTP id 0ED6A45E21 for ; Tue, 3 Dec 2024 22:32:26 +0100 (CET) Received: from mails.dpdk.org (localhost [127.0.0.1]) by mails.dpdk.org (Postfix) with ESMTP id 06AB440261; Tue, 3 Dec 2024 22:32:26 +0100 (CET) Received: from mail-oa1-f97.google.com (mail-oa1-f97.google.com [209.85.160.97]) by mails.dpdk.org (Postfix) with ESMTP id C24A14025D for ; Tue, 3 Dec 2024 22:32:23 +0100 (CET) Received: by mail-oa1-f97.google.com with SMTP id 586e51a60fabf-2967fb53621so117338fac.0 for ; Tue, 03 Dec 2024 13:32:23 -0800 (PST) DKIM-Signature: v=1; a=rsa-sha256; c=relaxed/relaxed; d=iol.unh.edu; s=unh-iol; t=1733261543; x=1733866343; darn=dpdk.org; h=cc:to:from:subject:message-id:date:from:to:cc:subject:date :message-id:reply-to; bh=j7JoeE6RHZnNRMjEdmTnZPrYNRPKJUqjZDB/ELGtPHo=; b=hYPTPy2ghcAdj2YI018CRX5npCvE4eBQXXqCteOnXJzYxjhkMxfszwsNBI0VfLC6dc FjCcDIwDvd2JR7Sk41/F/rHD6NZ0dFCKzqm6iY4RyzGAIGvXwOoCYzEebGo3mYz/SOfO RAULs4sXWi9akYxOG76xZcSFLjPeLIdvJDjCw= X-Google-DKIM-Signature: v=1; a=rsa-sha256; c=relaxed/relaxed; d=1e100.net; s=20230601; t=1733261543; x=1733866343; h=cc:to:from:subject:message-id:date:x-gm-message-state:from:to:cc :subject:date:message-id:reply-to; bh=j7JoeE6RHZnNRMjEdmTnZPrYNRPKJUqjZDB/ELGtPHo=; b=ZL57EesP65EDpmxcKsGx0LbGx/IW6GtuJ+ygyl5nrGql/+FkCqnazkpQYuf/KEGC7F LBTCrUbp4WsUmBrcZ2ZrQbefJeqKaBnNRXWHPagaf2LfNUayKgyWdt2alk2vXjC2RU3P VRLSFlCOM/qwyyBUkOpadAAFRL1Eyr+OdKbVCv+Uy+i7pRTGUi5lPS6C9GnWDbubEj1+ FV5IhFV2mlsmKBjS4MxT0pw56X+fYYtPhhVONOT8XM81mMTztFwnmYoQx1sIsyg8JJE3 r9uF43fPa1GGRkHEL5ffwe+wF6AF9JKMFwbAfE6Qv908QomIq+sCrcVR7ixurBoo9Del p+Mg== X-Gm-Message-State: AOJu0Yx9XWspDwrnFXn4jlC6DXQEpmZoUEFlkmLPMMW/99JuTaRYUMC1 /IY1rFhzf+Pnje1CN4wzxoU4qqvnrOlUoqCiV1tNQh9EPIHNpap0xN/cKZSfmFb1l3Ow6PlTxsP 9gB62WeK5wW437TOaVhQuZFtc9S3XAqB1Z9OrlnAg X-Gm-Gg: ASbGncsPwWLeATi9iT/SYgQ0PfNVHOz/Ns5jg7sAI8M84O7Xoj4kZ5ACxDkunHbyke/ hSSMxC6v7fSZ98XvQOoE9Qx7XKDgDSIxdmPzDbcPvlgXaIRItuOWQA13VVoWTdrekyjfSZ+sJsG KkkDyPJWH+tBfbQ4rgJyQB/PBes+KaZAdWvizj1UGmhwycnv2c06cyOanHLuOGj/wWKJm4lDvB0 9QeRuv9FM4Ewv9cz2wtBxbKiioRSESW/4U6ZfNkneUopPtlPJPBykYXfxruM89sHbIuaRM= X-Google-Smtp-Source: AGHT+IEc2Pldm1zfDbuhmD1MBf6IRFvOnnlV553tO9ZBFtqChc1No8ZS+nfvVMCws1wtHHnBCiSzA0YrydKc X-Received: by 2002:a05:6871:724d:b0:29e:a26c:3877 with SMTP id 586e51a60fabf-29ea26c405emr271700fac.4.1733261543078; Tue, 03 Dec 2024 13:32:23 -0800 (PST) Received: from postal.iol.unh.edu (postal.iol.unh.edu. [132.177.123.84]) by smtp-relay.gmail.com with ESMTPS id 586e51a60fabf-29e625909fdsm254663fac.0.2024.12.03.13.32.22 (version=TLS1_2 cipher=ECDHE-ECDSA-AES128-GCM-SHA256 bits=128/128); Tue, 03 Dec 2024 13:32:23 -0800 (PST) X-Relaying-Domain: iol.unh.edu Date: Tue, 03 Dec 2024 13:32:23 -0800 (PST) Message-ID: <674f78e7.050a0220.167083.dcfeSMTPIN_ADDED_MISSING@mx.google.com> Received: from [172.21.0.5] (unknown [172.18.0.240]) by postal.iol.unh.edu (Postfix) with ESMTP id 86F9D6052471; Tue, 3 Dec 2024 16:32:22 -0500 (EST) Subject: |SUCCESS| [GIT MASTER] 4843aacb0d1201fef37e8a579fcd8baec4acdf98 From: dpdklab@iol.unh.edu To: Test Report Cc: dpdk-test-reports@iol.unh.edu, Akhil Goyal Content-Type: text/plain X-BeenThere: test-report@dpdk.org X-Mailman-Version: 2.1.29 Precedence: list List-Id: automatic DPDK test reports List-Unsubscribe: , List-Archive: List-Post: List-Help: List-Subscribe: , Errors-To: test-report-bounces@dpdk.org _Testing PASS_ Branch: dpdk-next-crypto 4843aacb0d1201fef37e8a579fcd8baec4acdf98 --> testing pass Upstream job id: Generic-Unit-Test-DPDK#297172 Test environment and result as below: +-----------------------+----------------+--------------+---------------------------+------------------------------+ | Environment | dpdk_unit_test | lpm_autotest | cryptodev_sw_zuc_autotest | cryptodev_sw_snow3g_autotest | +=======================+================+==============+===========================+==============================+ | CentOS Stream 9 (ARM) | PASS | SKIPPED | SKIPPED | SKIPPED | +-----------------------+----------------+--------------+---------------------------+------------------------------+ | Fedora 39 (ARM Clang) | PASS | SKIPPED | SKIPPED | SKIPPED | +-----------------------+----------------+--------------+---------------------------+------------------------------+ | Debian 12 (arm) | PASS | SKIPPED | PASS | PASS | +-----------------------+----------------+--------------+---------------------------+------------------------------+ | RHEL9 (ARM) | PASS | SKIPPED | SKIPPED | SKIPPED | +-----------------------+----------------+--------------+---------------------------+------------------------------+ | Fedora 40 (ARM) | PASS | SKIPPED | SKIPPED | SKIPPED | +-----------------------+----------------+--------------+---------------------------+------------------------------+ | Fedora 39 (ARM) | PASS | SKIPPED | SKIPPED | SKIPPED | +-----------------------+----------------+--------------+---------------------------+------------------------------+ | Fedora 40 (ARM Clang) | PASS | SKIPPED | SKIPPED | SKIPPED | +-----------------------+----------------+--------------+---------------------------+------------------------------+ | Ubuntu 22.04 (ARM) | PASS | SKIPPED | SKIPPED | SKIPPED | +-----------------------+----------------+--------------+---------------------------+------------------------------+ | Ubuntu 20.04 (ARM) | PASS | SKIPPED | SKIPPED | SKIPPED | +-----------------------+----------------+--------------+---------------------------+------------------------------+ | Ubuntu 24.04 (ARM) | PASS | SKIPPED | SKIPPED | SKIPPED | +-----------------------+----------------+--------------+---------------------------+------------------------------+ | Ubuntu 20.04 ARM SVE | SKIPPED | PASS | SKIPPED | SKIPPED | +-----------------------+----------------+--------------+---------------------------+------------------------------+ CentOS Stream 9 (ARM) Kernel: Depends on container host Compiler: gcc 11.4.1 20231218 (Red Hat 11.4.1-3) Fedora 39 (ARM Clang) Kernel: Depends on container host Compiler: clang 17.0.6 (Fedora 17.0.6-2.fc39) Debian 12 (arm) Kernel: Depends on container host Compiler: gcc (Debian 12.2.0-14) 12.2.0 RHEL9 (ARM) Kernel: Depends on container host Compiler: gcc 11.4.1 20231218 (Red Hat 11.4.1-3) Fedora 40 (ARM) Kernel: Depends on container host Compiler: gcc 14.2.1 20240801 (Red Hat 14.2.1-1) Fedora 39 (ARM) Kernel: Depends on container host Compiler: gcc 13.3.1 20240522 (Red Hat 13.3.1-1) Fedora 40 (ARM Clang) Kernel: Depends on container host Compiler: clang 18.1.6 (Fedora 18.1.6-3.fc40) Ubuntu 22.04 (ARM) Kernel: Depends on container host Compiler: gcc (Ubuntu 11.4.0-1ubuntu1~22.04) 11.4.0 Ubuntu 20.04 (ARM) Kernel: Depends on container host Compiler: gcc (Ubuntu 9.4.0-1ubuntu1~20.04.2) 9.4.0 Ubuntu 24.04 (ARM) Kernel: Depends on container host Compiler: gcc (Ubuntu 13.2.0-23ubuntu4) 13.2.0 Ubuntu 20.04 ARM SVE Kernel: Depends on container host Compiler: gcc (Ubuntu 10.5.0-1ubuntu1~20.04) 10.5.0 To view detailed results, visit: https://lab.dpdk.org/results/dashboard/tarballs/31819/ UNH-IOL DPDK Community Lab To manage your email subscriptions, visit: https://lab.dpdk.org/results/dashboard/preferences/subscriptions/