From mboxrd@z Thu Jan 1 00:00:00 1970 Return-Path: Received: from mails.dpdk.org (mails.dpdk.org [217.70.189.124]) by inbox.dpdk.org (Postfix) with ESMTP id C47C045E21 for ; Tue, 3 Dec 2024 22:54:43 +0100 (CET) Received: from mails.dpdk.org (localhost [127.0.0.1]) by mails.dpdk.org (Postfix) with ESMTP id BF37040261; Tue, 3 Dec 2024 22:54:43 +0100 (CET) Received: from mail-oi1-f226.google.com (mail-oi1-f226.google.com [209.85.167.226]) by mails.dpdk.org (Postfix) with ESMTP id 64C934025D for ; Tue, 3 Dec 2024 22:54:42 +0100 (CET) Received: by mail-oi1-f226.google.com with SMTP id 5614622812f47-3ea43811488so2830072b6e.0 for ; Tue, 03 Dec 2024 13:54:42 -0800 (PST) DKIM-Signature: v=1; a=rsa-sha256; c=relaxed/relaxed; d=iol.unh.edu; s=unh-iol; t=1733262881; x=1733867681; darn=dpdk.org; h=cc:to:from:subject:message-id:date:from:to:cc:subject:date :message-id:reply-to; bh=5Fwr7oqLepbYxBE4GGka9xXERPp6VKbAPjpRiYcgSX8=; b=fl1od4++cK2zZx4UDJCy3sFC6xJVbzf9tc4RLDwgVGC6lxkzYd7vPMwBmuT3EltoYw Jw2iaBBbpOHbMppl28VId4RSB3i7aqaPT2XKj90OAFXANHvLeOIlibAm5/QtnXDC0gAs bl4ZL3ccQ5l6HxapFZ5lQkBNlPvIB/GdbBR18= X-Google-DKIM-Signature: v=1; a=rsa-sha256; c=relaxed/relaxed; d=1e100.net; s=20230601; t=1733262881; x=1733867681; h=cc:to:from:subject:message-id:date:x-gm-message-state:from:to:cc :subject:date:message-id:reply-to; bh=5Fwr7oqLepbYxBE4GGka9xXERPp6VKbAPjpRiYcgSX8=; b=AJqUFr7PU6ltEf8Xo9bi5CEscKyJj92oVMUWjGJurwLUk9RQn+ADx/dDY42dMJENub cpub0BO+3rkvbrr93dI/vYiWIxl+TAVSC/TaMIRlyNMmY+4ENGe2C4b8Z7Wu/1OrzAdb ethZyMwvMbfBxL1tHTslVew/XVH98UxmXdPpU3axmzLZhe2lLN9yxBFFvHccs9PW/p/z 2eEulOI2UteNogIgNZKdFF4/PF07YQ5Phd3Hsff+/LWUAL8LYrT3JYI2Hu0r9FCnQ+wM UmHm3hwLjmmBPQRK1kPzo0Fgr96hNCjU5WCYnopZo03sW0YlmRrkoXKhVz4QGsYa16Ka QZ5g== X-Gm-Message-State: AOJu0YxjXTul+7q/5NAIk0etm1H1XQlhsHlOiZxpGy8qxhFGRVlzpUzK 2RVB8rG9xjMTfuggypIiRGVVGxeXaknGBy76uXsXxFxP5hCqQJ16uoOCINU/hcq3/A4E4pupkWI PQM2GHFYTU2QoVKtPnFhJWANkIHlp86N4pP2l6ttF X-Gm-Gg: ASbGncvFIf52EELR2/Z/Tppmp2vb592gtqz2KbchMwQ8MyYeebmBJGXDd8gR/P5I3wF uea8scyiHv01NK48PVPHf+cYZOZ8jP7ip9VDQRi7LsZiersgzzMZJ1bxaAZvidN93QbqWkstSKW ptX0rd9mNFiXzD1JmE781s36ZDvnGrsvQV012bcisT72WCJZQrUyZhgd16YlBwn1gMcwFDnjWDK zURg+ZxvYvn/iEHKv7F3RX7VQUOB1HI5UGHqkW8v/FjmEmBrbXTAeoj7TlSc8u3HUGhTTA= X-Google-Smtp-Source: AGHT+IENgZwdyOMRhuR5o/GQ/2ohB8PsVbJctZHh0GtCi/7e8s4xpylVY6S32w2ho+LLgHQdywi1zHFpE/f2 X-Received: by 2002:a05:6808:343:b0:3ea:4aad:a889 with SMTP id 5614622812f47-3eae509fd1cmr4120422b6e.26.1733262881551; Tue, 03 Dec 2024 13:54:41 -0800 (PST) Received: from postal.iol.unh.edu (postal.iol.unh.edu. [132.177.123.84]) by smtp-relay.gmail.com with ESMTPS id 6a1803df08f44-6d8751941d0sm6330216d6.19.2024.12.03.13.54.41 (version=TLS1_2 cipher=ECDHE-ECDSA-AES128-GCM-SHA256 bits=128/128); Tue, 03 Dec 2024 13:54:41 -0800 (PST) X-Relaying-Domain: iol.unh.edu Date: Tue, 03 Dec 2024 13:54:41 -0800 (PST) Message-ID: <674f7e21.050a0220.1ddeac.49dcSMTPIN_ADDED_MISSING@mx.google.com> Received: from [172.17.0.2] (unknown [172.18.0.217]) by postal.iol.unh.edu (Postfix) with ESMTP id 40F206052471; Tue, 3 Dec 2024 16:54:41 -0500 (EST) Subject: |SUCCESS| [GIT MASTER] 1b3bf1128d9bda5595861814792f74b8f57160c8 From: dpdklab@iol.unh.edu To: Test Report Cc: dpdk-test-reports@iol.unh.edu, Jerin Jacob Content-Type: text/plain X-BeenThere: test-report@dpdk.org X-Mailman-Version: 2.1.29 Precedence: list List-Id: automatic DPDK test reports List-Unsubscribe: , List-Archive: List-Post: List-Help: List-Subscribe: , Errors-To: test-report-bounces@dpdk.org _Testing PASS_ Branch: dpdk-next-eventdev 1b3bf1128d9bda5595861814792f74b8f57160c8 --> testing pass Upstream job id: Aarch32-Unit-Test#4546 Test environment and result as below: +-----------------------------+------------------------------+--------------+---------------------------+----------------+ | Environment | cryptodev_sw_snow3g_autotest | lpm_autotest | cryptodev_sw_zuc_autotest | dpdk_unit_test | +=============================+==============================+==============+===========================+================+ | Debian 12 (arm) | PASS | SKIPPED | PASS | PASS | +-----------------------------+------------------------------+--------------+---------------------------+----------------+ | Ubuntu 20.04 ARM SVE | SKIPPED | PASS | SKIPPED | SKIPPED | +-----------------------------+------------------------------+--------------+---------------------------+----------------+ | CentOS Stream 9 (ARM) | SKIPPED | SKIPPED | SKIPPED | PASS | +-----------------------------+------------------------------+--------------+---------------------------+----------------+ | Fedora 39 (ARM) | SKIPPED | SKIPPED | SKIPPED | PASS | +-----------------------------+------------------------------+--------------+---------------------------+----------------+ | Fedora 40 (ARM Clang) | SKIPPED | SKIPPED | SKIPPED | PASS | +-----------------------------+------------------------------+--------------+---------------------------+----------------+ | Fedora 40 (ARM) | SKIPPED | SKIPPED | SKIPPED | PASS | +-----------------------------+------------------------------+--------------+---------------------------+----------------+ | Fedora 39 (ARM Clang) | SKIPPED | SKIPPED | SKIPPED | PASS | +-----------------------------+------------------------------+--------------+---------------------------+----------------+ | RHEL9 (ARM) | SKIPPED | SKIPPED | SKIPPED | PASS | +-----------------------------+------------------------------+--------------+---------------------------+----------------+ | Ubuntu 20.04 (ARM) | SKIPPED | SKIPPED | SKIPPED | PASS | +-----------------------------+------------------------------+--------------+---------------------------+----------------+ | Ubuntu 24.04 (ARM) | SKIPPED | SKIPPED | SKIPPED | PASS | +-----------------------------+------------------------------+--------------+---------------------------+----------------+ | Ubuntu 22.04 (ARM) | SKIPPED | SKIPPED | SKIPPED | PASS | +-----------------------------+------------------------------+--------------+---------------------------+----------------+ | 32-bit Ubuntu 22.04.4 (ARM) | SKIPPED | SKIPPED | SKIPPED | PASS | +-----------------------------+------------------------------+--------------+---------------------------+----------------+ Debian 12 (arm) Kernel: Depends on container host Compiler: gcc (Debian 12.2.0-14) 12.2.0 Ubuntu 20.04 ARM SVE Kernel: Depends on container host Compiler: gcc (Ubuntu 10.5.0-1ubuntu1~20.04) 10.5.0 CentOS Stream 9 (ARM) Kernel: Depends on container host Compiler: gcc 11.4.1 20231218 (Red Hat 11.4.1-3) Fedora 39 (ARM) Kernel: Depends on container host Compiler: gcc 13.3.1 20240522 (Red Hat 13.3.1-1) Fedora 40 (ARM Clang) Kernel: Depends on container host Compiler: clang 18.1.6 (Fedora 18.1.6-3.fc40) Fedora 40 (ARM) Kernel: Depends on container host Compiler: gcc 14.2.1 20240801 (Red Hat 14.2.1-1) Fedora 39 (ARM Clang) Kernel: Depends on container host Compiler: clang 17.0.6 (Fedora 17.0.6-2.fc39) RHEL9 (ARM) Kernel: Depends on container host Compiler: gcc 11.4.1 20231218 (Red Hat 11.4.1-3) Ubuntu 20.04 (ARM) Kernel: Depends on container host Compiler: gcc (Ubuntu 9.4.0-1ubuntu1~20.04.2) 9.4.0 Ubuntu 24.04 (ARM) Kernel: Depends on container host Compiler: gcc (Ubuntu 13.2.0-23ubuntu4) 13.2.0 Ubuntu 22.04 (ARM) Kernel: Depends on container host Compiler: gcc (Ubuntu 11.4.0-1ubuntu1~22.04) 11.4.0 32-bit Ubuntu 22.04.4 (ARM) Kernel: 5.15.83+ aarch64 Compiler: gcc (Ubuntu 11.4.0-1ubuntu1~22.04) 11.4.0 To view detailed results, visit: https://lab.dpdk.org/results/dashboard/tarballs/31822/ UNH-IOL DPDK Community Lab To manage your email subscriptions, visit: https://lab.dpdk.org/results/dashboard/preferences/subscriptions/