From mboxrd@z Thu Jan 1 00:00:00 1970 Return-Path: Received: from mails.dpdk.org (mails.dpdk.org [217.70.189.124]) by inbox.dpdk.org (Postfix) with ESMTP id 6FA6645E21 for ; Tue, 3 Dec 2024 23:29:14 +0100 (CET) Received: from mails.dpdk.org (localhost [127.0.0.1]) by mails.dpdk.org (Postfix) with ESMTP id 64D9840261; Tue, 3 Dec 2024 23:29:14 +0100 (CET) Received: from mail-pf1-f226.google.com (mail-pf1-f226.google.com [209.85.210.226]) by mails.dpdk.org (Postfix) with ESMTP id DD4604025D for ; Tue, 3 Dec 2024 23:29:12 +0100 (CET) Received: by mail-pf1-f226.google.com with SMTP id d2e1a72fcca58-723f37dd76cso5496117b3a.0 for ; Tue, 03 Dec 2024 14:29:12 -0800 (PST) DKIM-Signature: v=1; a=rsa-sha256; c=relaxed/relaxed; d=iol.unh.edu; s=unh-iol; t=1733264952; x=1733869752; darn=dpdk.org; h=cc:to:from:subject:message-id:date:from:to:cc:subject:date :message-id:reply-to; bh=omDbQZn9yB7C6SIu+C7eJCYResTYHoEgBKcMQMbABAo=; b=KLmLUEr3Mv5QKLJBCgZDo1SGJXDZC3h1JgHFrIuKlnInfz0n/17JBGgmPnsox0zMcj c58igq6RvRqdS6uPxuJwaqHTiSjA2oC45F2zmqw/7cMwKRrz00yOkdfZijAwWcQqJHqI pCa6XEBEMJWsdlRSxR+Xsn0+rU/LfRC1nLejk= X-Google-DKIM-Signature: v=1; a=rsa-sha256; c=relaxed/relaxed; d=1e100.net; s=20230601; t=1733264952; x=1733869752; h=cc:to:from:subject:message-id:date:x-gm-message-state:from:to:cc :subject:date:message-id:reply-to; bh=omDbQZn9yB7C6SIu+C7eJCYResTYHoEgBKcMQMbABAo=; b=qD3y8u2C7kTBwfPkN9g3UIO3+OIqfkrvu8bOij3fcPK1ri+ZaVaxQeN0uaz7ipUAkw Uj8XGPYkEH1IQnVnaPWqBsogHU/+Ma2O/OdZ2G6lkNrPIADMaDxYWK3T8gzkS1VU6wGZ y1Tdlatafn35lGevMwYnrjwXTkagR2vfobnLUXbzJ49Q7Ok1qmOzShH14TUrgOCSbp0S aPnnc26Do3fbmE7uu/TG/WpTDucJolpr+prN8qyZc2bINVj30FS85CVvWpQzOphbQIZ+ 1oNQcx0F/v1m6mpnXxAk9jVTcUHUmPdGsI53pHXj7lWnbOs4t4FMozGl83IBOPkQJcVF M/8w== X-Gm-Message-State: AOJu0YzG9md+uaR2hRnwhEYJXQ80wN+reA2M5WpdozKQ8N6Qi3iui7qq V0E55vJUNZLwbVRgUPK9TCxHG9+ZKMyr7QtUVm/feXWf+9loC1IId1EeX1DXgBAsaVw+Qiphfi8 vY5U+b1JLOwDh19/W4Ql8/ZRK8q3aB9tbiZ1085Ft X-Gm-Gg: ASbGncvfAyOgkQnkULMkxnxLed0wOZ6z0U4tcIeeJQWaBHknT1+c2LYsp0LP3ExYeZm 26d6wCKPTeFJfwz9xGLB7MRFcst07tM99STdVMs6J9o/Rnx+ZiNhW+B4IuQqutBjuSdfq4vobB6 zhbFo2tMT4S0eOxKJKz45qMyHyjyZGi0WfOB632LFXWfiu8bYrjHoel5wYeMCfA1jwllX/hEiXH hSDxx54JHh127HpXr/LMgTgcj3sQlySMLuHUskOZopRa0LE8GGCZ5yEH40/y6cu2L0vp7s= X-Google-Smtp-Source: AGHT+IGcPDdRoKtddgzY7LNX9s6TvxrtEJbDeWTMS5ZbNLTHdwUvpOcL7TrnpxAvUSZGx3xpLXIrYDNhTPwO X-Received: by 2002:a17:902:e742:b0:215:a039:738 with SMTP id d9443c01a7336-215bcea13a8mr53246205ad.5.1733264951980; Tue, 03 Dec 2024 14:29:11 -0800 (PST) Received: from postal.iol.unh.edu (postal.iol.unh.edu. [132.177.123.84]) by smtp-relay.gmail.com with ESMTPS id d9443c01a7336-2157b7b5df2sm3056585ad.56.2024.12.03.14.29.11 (version=TLS1_2 cipher=ECDHE-ECDSA-AES128-GCM-SHA256 bits=128/128); Tue, 03 Dec 2024 14:29:11 -0800 (PST) X-Relaying-Domain: iol.unh.edu Date: Tue, 03 Dec 2024 14:29:11 -0800 (PST) Message-ID: <674f8637.170a0220.37d65.13f4SMTPIN_ADDED_MISSING@mx.google.com> Received: from [172.17.0.5] (unknown [172.18.0.217]) by postal.iol.unh.edu (Postfix) with ESMTP id 219486052471; Tue, 3 Dec 2024 17:29:11 -0500 (EST) Subject: |SUCCESS| [GIT MASTER] 4843aacb0d1201fef37e8a579fcd8baec4acdf98 From: dpdklab@iol.unh.edu To: Test Report Cc: dpdk-test-reports@iol.unh.edu, Akhil Goyal Content-Type: text/plain X-BeenThere: test-report@dpdk.org X-Mailman-Version: 2.1.29 Precedence: list List-Id: automatic DPDK test reports List-Unsubscribe: , List-Archive: List-Post: List-Help: List-Subscribe: , Errors-To: test-report-bounces@dpdk.org _Testing PASS_ Branch: dpdk-next-crypto 4843aacb0d1201fef37e8a579fcd8baec4acdf98 --> testing pass Upstream job id: ACVP-FIPS-testing#8197 Test environment and result as below: +--------------------+----------------------+----------------------+ | Environment | compressdev_zlib_pmd | dpdk_fips_validation | +====================+======================+======================+ | Ubuntu 22.04 (ARM) | PASS | SKIPPED | +--------------------+----------------------+----------------------+ | Ubuntu 22.04 | PASS | SKIPPED | +--------------------+----------------------+----------------------+ | Ubuntu 20.04 | SKIPPED | PASS | +--------------------+----------------------+----------------------+ Ubuntu 22.04 (ARM) Kernel: 5.15.0-97-generic Compiler: gcc gcc (Ubuntu 11.4.0-1ubuntu1~22.04) 11.4.0 Ubuntu 22.04 Kernel: 5.15.0-100-generic Compiler: gcc gcc (Ubuntu 11.4.0-1ubuntu1~22.04) 11.4.0 Ubuntu 20.04 Kernel: Depends on container host Compiler: gcc (Ubuntu 9.4.0-1ubuntu1~20.04.2) 9.4.0 To view detailed results, visit: https://lab.dpdk.org/results/dashboard/tarballs/31818/ UNH-IOL DPDK Community Lab To manage your email subscriptions, visit: https://lab.dpdk.org/results/dashboard/preferences/subscriptions/