From mboxrd@z Thu Jan 1 00:00:00 1970 Return-Path: Received: from mails.dpdk.org (mails.dpdk.org [217.70.189.124]) by inbox.dpdk.org (Postfix) with ESMTP id 2CC1745E21 for ; Wed, 4 Dec 2024 00:22:12 +0100 (CET) Received: from mails.dpdk.org (localhost [127.0.0.1]) by mails.dpdk.org (Postfix) with ESMTP id 25AC940261; Wed, 4 Dec 2024 00:22:12 +0100 (CET) Received: from mail-pf1-f226.google.com (mail-pf1-f226.google.com [209.85.210.226]) by mails.dpdk.org (Postfix) with ESMTP id F2B824025D for ; Wed, 4 Dec 2024 00:22:10 +0100 (CET) Received: by mail-pf1-f226.google.com with SMTP id d2e1a72fcca58-7256dc42176so3053970b3a.3 for ; Tue, 03 Dec 2024 15:22:10 -0800 (PST) DKIM-Signature: v=1; a=rsa-sha256; c=relaxed/relaxed; d=iol.unh.edu; s=unh-iol; t=1733268130; x=1733872930; darn=dpdk.org; h=cc:to:from:subject:message-id:date:from:to:cc:subject:date :message-id:reply-to; bh=FTlOu4hyOU9CW6+QtGR1ewL0N6XV5Z98gMu8A70hj50=; b=iDH6r+zPRr4isKDKOKi7hzHQ83HR4VwYOzL4Oyqjx43XPrsmKkSRwdZ2nuVzeUl4nL lNM7IBEY1adeeRmBd6Yt3wWPFxia/2nUHJ/Rk/FPVZ6Q2oDAIPErNA3NnnUS25OPEPOZ r62cvGNk79FhJTDaS8J9YtW6IBSgeLddQIDWQ= X-Google-DKIM-Signature: v=1; a=rsa-sha256; c=relaxed/relaxed; d=1e100.net; s=20230601; t=1733268130; x=1733872930; h=cc:to:from:subject:message-id:date:x-gm-message-state:from:to:cc :subject:date:message-id:reply-to; bh=FTlOu4hyOU9CW6+QtGR1ewL0N6XV5Z98gMu8A70hj50=; b=jF+si9W0rsDH2Mg+AH/I1nQL5sdUbD65t08EhRepKBODPhjmT2addpC3rOsnJVkh0h qTJTys9dJbzU/dToVA52R9XxW2tAlIkNxDDQHvwmIctQvY8scEw6lZI+rhRkw+PytdAF BAaUHp41z1mwGCtfH3dWvcKUDZJKlqtD6xtwFYhqymK7ulrpwRlwOf9LbF8+7Sg/+ljj MUbkYj0JB9MModfQYe2k9maTxc1s8Lt8AevyDY3kgPanOvJkk90Hzfxi2VgFLiNTE7ea EdhRgkSmf9rYy2wNqt8Y9TPI7b9frH4LoC8IuFa2p6+BMrX20p6zeTqFZnk7j/VR66ya lbmw== X-Gm-Message-State: AOJu0YwKfRZUio6quwBbuzvE68hABxZN9ioJMCx8D1eQQNP6D5iU2dxw NxxUGN+jgJcZksCSwy9aoP0j7kGVZ4Xnf5dTNLMcNUxMAIDzCwKPFfhI7v1g6RrFCQLw3sM47NH O1rOohVA60F9CP7W66M+++GCaG24hNtdSUo5zEqpwxqUYh9MHvVVLTpWI X-Gm-Gg: ASbGncuJXKeVJiRmcA3QmNQqmfZhYyHmB2Fzo5W8eKy+czX8ORbiG9CYOFk5UMsQX5W 2aX6p0LT0F4f5aaZjVQGKIEkK+6uPxWAHKY2TrpXVg/7RfNpPu8vrPYWrkV1jXfBplDclTVYRXu tJkax4Af27gxXCeXsReac89vLQ5ArKTcjmFoIM/rcSDU5wBcWSYfEkS5UZ2uIIoIQUZbqGvljsE 1RDzNTR+SB8/m77taTuigwaDI1xgVumhXCfRaYdAliViwKXWXRawE1mSi4OKT13GZFt8LVV8AE= X-Google-Smtp-Source: AGHT+IEyjObCCoLl6ayoKKNRcDP0FMpKwqOA1t43BUGCJwaJCWj71OfnGD9UOiSAZJsLSzuowhyTFvMi3ONj X-Received: by 2002:a17:90b:3847:b0:2ee:a4f2:b307 with SMTP id 98e67ed59e1d1-2ef011daaf6mr5563673a91.4.1733268130118; Tue, 03 Dec 2024 15:22:10 -0800 (PST) Received: from postal.iol.unh.edu (postal.iol.unh.edu. [2606:4100:3880:1234::84]) by smtp-relay.gmail.com with ESMTPS id 98e67ed59e1d1-2ef2707c71bsm8265a91.14.2024.12.03.15.22.09 (version=TLS1_2 cipher=ECDHE-ECDSA-AES128-GCM-SHA256 bits=128/128); Tue, 03 Dec 2024 15:22:10 -0800 (PST) X-Relaying-Domain: iol.unh.edu Date: Tue, 03 Dec 2024 15:22:10 -0800 (PST) Message-ID: <674f92a2.170a0220.1dd431.092dSMTPIN_ADDED_MISSING@mx.google.com> Received: from [172.21.0.5] (unknown [172.18.0.240]) by postal.iol.unh.edu (Postfix) with ESMTP id 8D5E26052471; Tue, 3 Dec 2024 18:22:09 -0500 (EST) Subject: |SUCCESS| [GIT MASTER] 4843aacb0d1201fef37e8a579fcd8baec4acdf98 From: dpdklab@iol.unh.edu To: Test Report Cc: dpdk-test-reports@iol.unh.edu, Akhil Goyal Content-Type: text/plain X-BeenThere: test-report@dpdk.org X-Mailman-Version: 2.1.29 Precedence: list List-Id: automatic DPDK test reports List-Unsubscribe: , List-Archive: List-Post: List-Help: List-Subscribe: , Errors-To: test-report-bounces@dpdk.org _Testing PASS_ Branch: dpdk-next-crypto 4843aacb0d1201fef37e8a579fcd8baec4acdf98 --> testing pass Upstream job id: Generic-Unit-Test-DPDK#297186 Test environment and result as below: +-----------------------+--------------+----------------+------------------------------+---------------------------+ | Environment | lpm_autotest | dpdk_unit_test | cryptodev_sw_snow3g_autotest | cryptodev_sw_zuc_autotest | +=======================+==============+================+==============================+===========================+ | Ubuntu 20.04 ARM SVE | PASS | SKIPPED | SKIPPED | SKIPPED | +-----------------------+--------------+----------------+------------------------------+---------------------------+ | Fedora 39 (ARM Clang) | SKIPPED | PASS | SKIPPED | SKIPPED | +-----------------------+--------------+----------------+------------------------------+---------------------------+ | Fedora 39 (ARM) | SKIPPED | PASS | SKIPPED | SKIPPED | +-----------------------+--------------+----------------+------------------------------+---------------------------+ | CentOS Stream 9 (ARM) | SKIPPED | PASS | SKIPPED | SKIPPED | +-----------------------+--------------+----------------+------------------------------+---------------------------+ | Fedora 40 (ARM) | SKIPPED | PASS | SKIPPED | SKIPPED | +-----------------------+--------------+----------------+------------------------------+---------------------------+ | Debian 12 (arm) | SKIPPED | PASS | PASS | PASS | +-----------------------+--------------+----------------+------------------------------+---------------------------+ | Fedora 40 (ARM Clang) | SKIPPED | PASS | SKIPPED | SKIPPED | +-----------------------+--------------+----------------+------------------------------+---------------------------+ | RHEL9 (ARM) | SKIPPED | PASS | SKIPPED | SKIPPED | +-----------------------+--------------+----------------+------------------------------+---------------------------+ | Ubuntu 20.04 (ARM) | SKIPPED | PASS | SKIPPED | SKIPPED | +-----------------------+--------------+----------------+------------------------------+---------------------------+ | Ubuntu 24.04 (ARM) | SKIPPED | PASS | SKIPPED | SKIPPED | +-----------------------+--------------+----------------+------------------------------+---------------------------+ | Ubuntu 22.04 (ARM) | SKIPPED | PASS | SKIPPED | SKIPPED | +-----------------------+--------------+----------------+------------------------------+---------------------------+ Ubuntu 20.04 ARM SVE Kernel: Depends on container host Compiler: gcc (Ubuntu 10.5.0-1ubuntu1~20.04) 10.5.0 Fedora 39 (ARM Clang) Kernel: Depends on container host Compiler: clang 17.0.6 (Fedora 17.0.6-2.fc39) Fedora 39 (ARM) Kernel: Depends on container host Compiler: gcc 13.3.1 20240522 (Red Hat 13.3.1-1) CentOS Stream 9 (ARM) Kernel: Depends on container host Compiler: gcc 11.4.1 20231218 (Red Hat 11.4.1-3) Fedora 40 (ARM) Kernel: Depends on container host Compiler: gcc 14.2.1 20240801 (Red Hat 14.2.1-1) Debian 12 (arm) Kernel: Depends on container host Compiler: gcc (Debian 12.2.0-14) 12.2.0 Fedora 40 (ARM Clang) Kernel: Depends on container host Compiler: clang 18.1.6 (Fedora 18.1.6-3.fc40) RHEL9 (ARM) Kernel: Depends on container host Compiler: gcc 11.4.1 20231218 (Red Hat 11.4.1-3) Ubuntu 20.04 (ARM) Kernel: Depends on container host Compiler: gcc (Ubuntu 9.4.0-1ubuntu1~20.04.2) 9.4.0 Ubuntu 24.04 (ARM) Kernel: Depends on container host Compiler: gcc (Ubuntu 13.2.0-23ubuntu4) 13.2.0 Ubuntu 22.04 (ARM) Kernel: Depends on container host Compiler: gcc (Ubuntu 11.4.0-1ubuntu1~22.04) 11.4.0 To view detailed results, visit: https://lab.dpdk.org/results/dashboard/tarballs/31823/ UNH-IOL DPDK Community Lab To manage your email subscriptions, visit: https://lab.dpdk.org/results/dashboard/preferences/subscriptions/