From mboxrd@z Thu Jan 1 00:00:00 1970 Return-Path: Received: from mails.dpdk.org (mails.dpdk.org [217.70.189.124]) by inbox.dpdk.org (Postfix) with ESMTP id EE8FF45E24 for ; Wed, 4 Dec 2024 00:31:22 +0100 (CET) Received: from mails.dpdk.org (localhost [127.0.0.1]) by mails.dpdk.org (Postfix) with ESMTP id DF75D40261; Wed, 4 Dec 2024 00:31:22 +0100 (CET) Received: from mail-yw1-f228.google.com (mail-yw1-f228.google.com [209.85.128.228]) by mails.dpdk.org (Postfix) with ESMTP id 9650D4025D for ; Wed, 4 Dec 2024 00:31:21 +0100 (CET) Received: by mail-yw1-f228.google.com with SMTP id 00721157ae682-6ef402e4589so59694687b3.0 for ; Tue, 03 Dec 2024 15:31:21 -0800 (PST) DKIM-Signature: v=1; a=rsa-sha256; c=relaxed/relaxed; d=iol.unh.edu; s=unh-iol; t=1733268681; x=1733873481; darn=dpdk.org; h=cc:to:from:subject:message-id:date:from:to:cc:subject:date :message-id:reply-to; bh=roaUSktPnq9bW+bi1XOYCUM0r2dNH6e/fGZ0QDqCqng=; b=V0pP1SLwvlfUvrcYjvbFDA/Uj03uahBBuglA0sHGjZZXbSaUKvr1kMX9PxMJqq4sXS zWd4XnzcUS6bnxhtIolhPaxUXDy3/EWSf+ZdPrlu6OIu0cbjUvVS/p2hKW4NWeALt0tZ zDtkTiWmJzGL0RFQqVXEIvwBgj9y0M033RdRA= X-Google-DKIM-Signature: v=1; a=rsa-sha256; c=relaxed/relaxed; d=1e100.net; s=20230601; t=1733268681; x=1733873481; h=cc:to:from:subject:message-id:date:x-gm-message-state:from:to:cc :subject:date:message-id:reply-to; bh=roaUSktPnq9bW+bi1XOYCUM0r2dNH6e/fGZ0QDqCqng=; b=IciGR3ETcrYUIveHc836msxsv2+3D2lgLI/l6vc9+k/gGjaBb7XQjLOueuMFgobcFY E57cV5HkHGYX5S/JVRQ1G7MLk4l+N3BTabREQpQ/ojTR3MtKVowS4dIZYV5GChsNYrKG 4uA7PeGRCvTfQ8wOv3n3Q/2utWCx+qYBAbj1PDnTDqjue4QlWiZZgpMGoUBQfkq5dlOC lsUTFqfNY7j8zMj7d9NqZ0JqZ4QZ3zwkt/E2vkUaKQCe2JIdgQXMuBWgSOPWHgcU2vWe vnOeAntNxCnRHHXHgZOP+dZmM0wM56rZrzpb5yNW9LMISsInXFau+BYaVyH+ODTMp8Dn jc+Q== X-Gm-Message-State: AOJu0YyHJvpWVTV5TlmZzh2b+yokoQwmzquAVlmUDo0vwJC2D5IiEXpv 3EVwLnjzx/x0icyNNkQttvNtJG4xjKOwV7UkMKKnCcULD29vzNxa83yL5ow/O5ueeD1NQMk9MXX Yl8WkLFN7z+61XMgiY65FsOn+TTNEECUhBywnCZSY6UyBDiomh52yZ2+2 X-Gm-Gg: ASbGncvL+ewTGyyFdQrsxynMYgogMyt19+rdUz8ufhLS7/HfJ1jlszougDtCmb9NmuB H4ueq5yfAsVk23Mvqln8BhUfyJN5ze0XUhj++9vbv0inFcc9lNxLLiu3TjU42c9qrZZi8sglkYx x8JsczgGYL9gSPOO+S0EyzZ5CeYUxR/nbEOwPfY8fQet0ZKU8nQ9ixEE3+T726glK6lU3DiuBc2 z7rc9osabLdnzSwHnZtNx1hdDjQ1gGRF72onJa3MSVUqoZU5WTxLLqt2HthlJ22sPLY1vKH7Cw= X-Google-Smtp-Source: AGHT+IHb3SUkX06i5wca2plQCu99FC7Fez9rum/SUld6Bt3xpL8krSt4vpddHa9E96GMKlIOGDIf0G3yTum7 X-Received: by 2002:a05:690c:498c:b0:6ef:6d37:1844 with SMTP id 00721157ae682-6eface0165amr60122187b3.7.1733268680857; Tue, 03 Dec 2024 15:31:20 -0800 (PST) Received: from postal.iol.unh.edu (postal.iol.unh.edu. [2606:4100:3880:1234::84]) by smtp-relay.gmail.com with ESMTPS id 00721157ae682-6ef4db574a5sm4206307b3.23.2024.12.03.15.31.20 (version=TLS1_2 cipher=ECDHE-ECDSA-AES128-GCM-SHA256 bits=128/128); Tue, 03 Dec 2024 15:31:20 -0800 (PST) X-Relaying-Domain: iol.unh.edu Date: Tue, 03 Dec 2024 15:31:20 -0800 (PST) Message-ID: <674f94c8.810a0220.16ca43.8346SMTPIN_ADDED_MISSING@mx.google.com> Received: from [172.21.0.5] (unknown [172.18.0.240]) by postal.iol.unh.edu (Postfix) with ESMTP id 8BB8F6052472; Tue, 3 Dec 2024 18:31:20 -0500 (EST) Subject: |SUCCESS| [GIT MASTER] 1b3bf1128d9bda5595861814792f74b8f57160c8 From: dpdklab@iol.unh.edu To: Test Report Cc: dpdk-test-reports@iol.unh.edu Content-Type: text/plain X-BeenThere: test-report@dpdk.org X-Mailman-Version: 2.1.29 Precedence: list List-Id: automatic DPDK test reports List-Unsubscribe: , List-Archive: List-Post: List-Help: List-Subscribe: , Errors-To: test-report-bounces@dpdk.org _Testing PASS_ Branch: dpdk 1b3bf1128d9bda5595861814792f74b8f57160c8 --> testing pass Upstream job id: Generic-Unit-Test-DPDK#297232 Test environment and result as below: +-----------------------+----------------+ | Environment | dpdk_unit_test | +=======================+================+ | CentOS Stream 9 (ARM) | PASS | +-----------------------+----------------+ | Fedora 40 (ARM) | PASS | +-----------------------+----------------+ | Fedora 40 (ARM Clang) | PASS | +-----------------------+----------------+ | Fedora 39 (ARM Clang) | PASS | +-----------------------+----------------+ | Debian 12 (arm) | PASS | +-----------------------+----------------+ | Fedora 39 (ARM) | PASS | +-----------------------+----------------+ | RHEL9 (ARM) | PASS | +-----------------------+----------------+ | Ubuntu 20.04 (ARM) | PASS | +-----------------------+----------------+ | Ubuntu 24.04 (ARM) | PASS | +-----------------------+----------------+ | Ubuntu 22.04 (ARM) | PASS | +-----------------------+----------------+ CentOS Stream 9 (ARM) Kernel: Depends on container host Compiler: gcc 11.4.1 20231218 (Red Hat 11.4.1-3) Fedora 40 (ARM) Kernel: Depends on container host Compiler: gcc 14.2.1 20240801 (Red Hat 14.2.1-1) Fedora 40 (ARM Clang) Kernel: Depends on container host Compiler: clang 18.1.6 (Fedora 18.1.6-3.fc40) Fedora 39 (ARM Clang) Kernel: Depends on container host Compiler: clang 17.0.6 (Fedora 17.0.6-2.fc39) Debian 12 (arm) Kernel: Depends on container host Compiler: gcc (Debian 12.2.0-14) 12.2.0 Fedora 39 (ARM) Kernel: Depends on container host Compiler: gcc 13.3.1 20240522 (Red Hat 13.3.1-1) RHEL9 (ARM) Kernel: Depends on container host Compiler: gcc 11.4.1 20231218 (Red Hat 11.4.1-3) Ubuntu 20.04 (ARM) Kernel: Depends on container host Compiler: gcc (Ubuntu 9.4.0-1ubuntu1~20.04.2) 9.4.0 Ubuntu 24.04 (ARM) Kernel: Depends on container host Compiler: gcc (Ubuntu 13.2.0-23ubuntu4) 13.2.0 Ubuntu 22.04 (ARM) Kernel: Depends on container host Compiler: gcc (Ubuntu 11.4.0-1ubuntu1~22.04) 11.4.0 To view detailed results, visit: https://lab.dpdk.org/results/dashboard/tarballs/31826/ UNH-IOL DPDK Community Lab To manage your email subscriptions, visit: https://lab.dpdk.org/results/dashboard/preferences/subscriptions/