From mboxrd@z Thu Jan 1 00:00:00 1970 Return-Path: Received: from mails.dpdk.org (mails.dpdk.org [217.70.189.124]) by inbox.dpdk.org (Postfix) with ESMTP id D198345E21 for ; Wed, 4 Dec 2024 00:46:40 +0100 (CET) Received: from mails.dpdk.org (localhost [127.0.0.1]) by mails.dpdk.org (Postfix) with ESMTP id B634040261; Wed, 4 Dec 2024 00:46:40 +0100 (CET) Received: from mail-pl1-f227.google.com (mail-pl1-f227.google.com [209.85.214.227]) by mails.dpdk.org (Postfix) with ESMTP id 8C9274025D for ; Wed, 4 Dec 2024 00:46:39 +0100 (CET) Received: by mail-pl1-f227.google.com with SMTP id d9443c01a7336-2153e642114so46423525ad.0 for ; Tue, 03 Dec 2024 15:46:39 -0800 (PST) DKIM-Signature: v=1; a=rsa-sha256; c=relaxed/relaxed; d=iol.unh.edu; s=unh-iol; t=1733269598; x=1733874398; darn=dpdk.org; h=cc:to:from:subject:message-id:date:from:to:cc:subject:date :message-id:reply-to; bh=UYHHEr/DCIVDyj0TQgYDTWHhrjsmNXIzw/NM+UQG2N8=; b=USS0R8n0muf8dksy53RsFkraywqxOUcsq7raLwdyw7vSYMm+VftVeAPEoZzEqMzJrV V3zjShH4rF5mXjWG9QyWH5AZe5ml0i0Jo8ZTtsAz6v5chVo9Rt5qJcp0vH9mhO7AIsmb B0k0YdTKYA9eZKidI/te+pqKvCHFNlB16sbks= X-Google-DKIM-Signature: v=1; a=rsa-sha256; c=relaxed/relaxed; d=1e100.net; s=20230601; t=1733269598; x=1733874398; h=cc:to:from:subject:message-id:date:x-gm-message-state:from:to:cc :subject:date:message-id:reply-to; bh=UYHHEr/DCIVDyj0TQgYDTWHhrjsmNXIzw/NM+UQG2N8=; b=xAoByYmyw85IFpgW7701cYTALmK3DhusDHmDvy4c4uxUAIy2ahbBHdYP6o+QYBKZHu MUCtEU7jt8ZH9sXrtWQ8FWFjbRnhN9hyiJrO/XjbOnle86tjlX3flE9feMN1Q8zV6c+N xdeN0VIaSDW0RLwAI7qfnLedI7IlAj24Vwl8m+Md2C40ew5B0YrQqQWUMM11aCHrYeku Mf7Dt+svFFfAuQh/GnvXycsKcdcl+SQ4y72bGt4ov+s8/4ToxBgRr7x0MzdbNsJqqQQt H2b3tcUenG3WJL3tilsTwsC3tbWTUkB5tPnwivFrm2dreVWfF/EyJmklbsVrvVxR1oIK alsg== X-Gm-Message-State: AOJu0YwdJB7GJyHKeRIFLuQtFPcam5cxgKrYu6hpGerndZX0JDwME9iv NAKAXgVEfYnlkEzH+eE2GIvLIT9U1lQkya5zGC3f3sb6mzBFIyTQQNUZJFguSE0ZGQhqTFMr/am SHsWUlq0spMIZR0bMidASyg233GcOKBZTdEwr4OiU X-Gm-Gg: ASbGncu5TbCwIWLQXcIHw0PIbp3lHz/ikvT8WHPUotNEEOq5hRKAVN/2QnJPTV6/A1J ZgGHDkHuTT9vgX2hEFmqwvTHmcBfSxSafUeRXE94uDxMIhRLvNd18cw87AEaZ+lfiVocekLlbps 8mbCJHlZpjtjw+lI+bfXHbxxNtqqU+eNwmsNUf7NqFXNmlaITQwXXBRXCg0Niw7ZYAMUfjAXqGy VFTko26XVmDGcAwkDZAHpUEUGLrnqTJ8tCpuuW9sXp07bo0fLHU/zxzHXnyFU75X4GcCBU= X-Google-Smtp-Source: AGHT+IHU+1qzDcNx6uZFnl0YlAdCeZo20aq5jTenFZoUDjMlyavEFoZqx3UMIl5jHzKOXsIV2Uo62bC0PYI8 X-Received: by 2002:a17:903:2343:b0:215:5a53:eded with SMTP id d9443c01a7336-215bd241404mr69462755ad.39.1733269598530; Tue, 03 Dec 2024 15:46:38 -0800 (PST) Received: from postal.iol.unh.edu (postal.iol.unh.edu. [132.177.123.84]) by smtp-relay.gmail.com with ESMTPS id d9443c01a7336-2159388a32asm2495915ad.48.2024.12.03.15.46.38 (version=TLS1_2 cipher=ECDHE-ECDSA-AES128-GCM-SHA256 bits=128/128); Tue, 03 Dec 2024 15:46:38 -0800 (PST) X-Relaying-Domain: iol.unh.edu Date: Tue, 03 Dec 2024 15:46:38 -0800 (PST) Message-ID: <674f985e.170a0220.1fb215.e6a8SMTPIN_ADDED_MISSING@mx.google.com> Received: from [172.17.0.2] (unknown [172.18.0.217]) by postal.iol.unh.edu (Postfix) with ESMTP id AE9366052471; Tue, 3 Dec 2024 18:46:37 -0500 (EST) Subject: |SUCCESS| [GIT MASTER] 1b3bf1128d9bda5595861814792f74b8f57160c8 From: dpdklab@iol.unh.edu To: Test Report Cc: dpdk-test-reports@iol.unh.edu, Jerin Jacob Content-Type: text/plain X-BeenThere: test-report@dpdk.org X-Mailman-Version: 2.1.29 Precedence: list List-Id: automatic DPDK test reports List-Unsubscribe: , List-Archive: List-Post: List-Help: List-Subscribe: , Errors-To: test-report-bounces@dpdk.org _Testing PASS_ Branch: dpdk-next-eventdev 1b3bf1128d9bda5595861814792f74b8f57160c8 --> testing pass Upstream job id: Generic-DPDK-Compile-Meson#340659 Test environment and result as below: +----------------------------------------+--------------------+ | Environment | dpdk_meson_compile | +========================================+====================+ | RHEL9 (ARM) | PASS | +----------------------------------------+--------------------+ | Ubuntu 20.04 ARM GCC Cross Compile | PASS | +----------------------------------------+--------------------+ | Ubuntu 20.04 ARM SVE | PASS | +----------------------------------------+--------------------+ | Fedora 39 (ARM) | PASS | +----------------------------------------+--------------------+ | Debian 12 with MUSDK | PASS | +----------------------------------------+--------------------+ | Fedora 39 (ARM Clang) | PASS | +----------------------------------------+--------------------+ | Fedora 40 (ARM) | PASS | +----------------------------------------+--------------------+ | Fedora 40 (ARM Clang) | PASS | +----------------------------------------+--------------------+ | Ubuntu 20.04 (ARM) | PASS | +----------------------------------------+--------------------+ | Ubuntu 22.04 (ARM) | PASS | +----------------------------------------+--------------------+ | Ubuntu 24.04 (ARM) | PASS | +----------------------------------------+--------------------+ | CentOS Stream 9 (ARM) | PASS | +----------------------------------------+--------------------+ | Debian 12 (arm) | PASS | +----------------------------------------+--------------------+ | Ubuntu 20.04 ARM Clang Cross Compile | PASS | +----------------------------------------+--------------------+ | Ubuntu 20.04 aarch32 GCC Cross Compile | PASS | +----------------------------------------+--------------------+ RHEL9 (ARM) Kernel: Depends on container host Compiler: gcc 11.4.1 20231218 (Red Hat 11.4.1-3) Ubuntu 20.04 ARM GCC Cross Compile Kernel: Depends on container host Compiler: aarch64-linux-gnu-gcc (Ubuntu 9.4.0-1ubuntu1~20.04.2) 9.4.0 Ubuntu 20.04 ARM SVE Kernel: Depends on container host Compiler: gcc (Ubuntu 10.5.0-1ubuntu1~20.04) 10.5.0 Fedora 39 (ARM) Kernel: Depends on container host Compiler: gcc 13.3.1 20240522 (Red Hat 13.3.1-1) Debian 12 with MUSDK Kernel: Depends on container host Compiler: gcc (Debian 12.2.0-14) 12.2.0 Fedora 39 (ARM Clang) Kernel: Depends on container host Compiler: clang 17.0.6 (Fedora 17.0.6-2.fc39) Fedora 40 (ARM) Kernel: Depends on container host Compiler: gcc 14.2.1 20240801 (Red Hat 14.2.1-1) Fedora 40 (ARM Clang) Kernel: Depends on container host Compiler: clang 18.1.6 (Fedora 18.1.6-3.fc40) Ubuntu 20.04 (ARM) Kernel: Depends on container host Compiler: gcc (Ubuntu 9.4.0-1ubuntu1~20.04.2) 9.4.0 Ubuntu 22.04 (ARM) Kernel: Depends on container host Compiler: gcc (Ubuntu 11.4.0-1ubuntu1~22.04) 11.4.0 Ubuntu 24.04 (ARM) Kernel: Depends on container host Compiler: gcc (Ubuntu 13.2.0-23ubuntu4) 13.2.0 CentOS Stream 9 (ARM) Kernel: Depends on container host Compiler: gcc 11.4.1 20231218 (Red Hat 11.4.1-3) Debian 12 (arm) Kernel: Depends on container host Compiler: gcc (Debian 12.2.0-14) 12.2.0 Ubuntu 20.04 ARM Clang Cross Compile Kernel: Depends on container host Compiler: clang 10.0.0-4ubuntu1 Ubuntu 20.04 aarch32 GCC Cross Compile Kernel: Depends on container host Compiler: gcc 9.4.0 To view detailed results, visit: https://lab.dpdk.org/results/dashboard/tarballs/31822/ UNH-IOL DPDK Community Lab To manage your email subscriptions, visit: https://lab.dpdk.org/results/dashboard/preferences/subscriptions/