From mboxrd@z Thu Jan 1 00:00:00 1970 Return-Path: Received: from mails.dpdk.org (mails.dpdk.org [217.70.189.124]) by inbox.dpdk.org (Postfix) with ESMTP id 4205A45E24 for ; Wed, 4 Dec 2024 01:14:52 +0100 (CET) Received: from mails.dpdk.org (localhost [127.0.0.1]) by mails.dpdk.org (Postfix) with ESMTP id 3941140261; Wed, 4 Dec 2024 01:14:52 +0100 (CET) Received: from mail-pl1-f225.google.com (mail-pl1-f225.google.com [209.85.214.225]) by mails.dpdk.org (Postfix) with ESMTP id B9BF84025D for ; Wed, 4 Dec 2024 01:14:50 +0100 (CET) Received: by mail-pl1-f225.google.com with SMTP id d9443c01a7336-215909152c5so28614195ad.3 for ; Tue, 03 Dec 2024 16:14:50 -0800 (PST) DKIM-Signature: v=1; a=rsa-sha256; c=relaxed/relaxed; d=iol.unh.edu; s=unh-iol; t=1733271290; x=1733876090; darn=dpdk.org; h=cc:to:from:subject:message-id:date:from:to:cc:subject:date :message-id:reply-to; bh=0Y5sMTjKqlCdBUykn6XbsKYmTKuS5r+0p1ynVktEJi8=; b=g8IZRJD7IOxYcncpQjPQcahcz9uJOvqnm8bpah3Ab0inDM+Td3dwNGUEhEuyaUy55f x1umjToF0knDmZglL1XmbdsUap0dK21wFQXA42hIBrwikoNfzoadOsk1pMgmMkkCfWlv ptScxInlxNmm+Y8nYGrdBlhXD8bZkIV6amCDg= X-Google-DKIM-Signature: v=1; a=rsa-sha256; c=relaxed/relaxed; d=1e100.net; s=20230601; t=1733271290; x=1733876090; h=cc:to:from:subject:message-id:date:x-gm-message-state:from:to:cc :subject:date:message-id:reply-to; bh=0Y5sMTjKqlCdBUykn6XbsKYmTKuS5r+0p1ynVktEJi8=; b=UWs8bD9oNb23OluA28dpmUBag9sxlcmMne2ZAKq5FDcAea6Yl5NM4oAPRPGb/3sFGe G5Hu7FEoFU4Q6f/+jOa4J+POBwNZ3ROKS4CpVeOQWCcb6EvFnb5aS/ChbZyCjzbnig06 hzGpE/oPS7DbsHSKUBjenuxL7CWqxKY7fhjqOhfmtRiqUtNCr9GpevJWJoKgdEiTj0Fb iJ4Q2s6cuyjsSEOfztQYmYzQVfewz3XaikRW+pTFpAQN0tk00k7+ws6nz+D3f6uyuEY6 XzROAQm+61I3xTFmPj1LjcMR7T6pHx1yNwcKYyAT9mlCAroMOdmlcsHbRQlrAe4hHMFO AoVQ== X-Gm-Message-State: AOJu0YwTV/lnOuuHGtO8ETeOC+0PBe459tzGqyiwjvaxwuJmAv2KSwsm U+02CFcblfzq0pOknXOYhLiLLEIUv/WJMfE6nfMVM3qu2yBR7QYUssTiOrIANdN2HS9t07yLzJ6 ldIzsXW8S1eNeHMRSZADhjWPRddmsHjS7gthJO6G3PwKcLfveuOr4MAhW X-Gm-Gg: ASbGncuWYf3HXn0gRKtfI3uPavm7kGPNZ6YtB7Rd5blHdnrcfTDq09E2sZwOVrvpBbQ tGiN9sHXfkowgK64/FEdL8J1diKY9Cop6+T5gzueQJMhUKjLtMdllmW6/z3poCYQWP0UpSlhRtW O1goRBR20pYKoik6KU94CJcsepgVxCN7BfvS/gRHotlbjJ8aIpsmarcg8BNqbvu/syvcFFc5AZ6 qk6weUP98XhjVhHk3Yiap6JqqCZH47t5IvFKJKi8tEWlI6Y2LgApWzkildaQrlP2fB/m968IF8= X-Google-Smtp-Source: AGHT+IFDJIm4U+amAWBbApveIma2lLM/FlvMb4k7tRZJ64kfQ5FhjnIg7uq6lcu+u8KaUA8yTM9YZwOWLRqW X-Received: by 2002:a17:902:f543:b0:20c:a44b:3221 with SMTP id d9443c01a7336-215bd1cb76emr56064535ad.15.1733271289909; Tue, 03 Dec 2024 16:14:49 -0800 (PST) Received: from postal.iol.unh.edu (postal.iol.unh.edu. [2606:4100:3880:1234::84]) by smtp-relay.gmail.com with ESMTPS id d9443c01a7336-2155c34fffasm3886735ad.83.2024.12.03.16.14.49 (version=TLS1_2 cipher=ECDHE-ECDSA-AES128-GCM-SHA256 bits=128/128); Tue, 03 Dec 2024 16:14:49 -0800 (PST) X-Relaying-Domain: iol.unh.edu Date: Tue, 03 Dec 2024 16:14:49 -0800 (PST) Message-ID: <674f9ef9.170a0220.194bee.5492SMTPIN_ADDED_MISSING@mx.google.com> Received: from [172.21.0.6] (unknown [172.18.0.240]) by postal.iol.unh.edu (Postfix) with ESMTP id 53EEC6052471; Tue, 3 Dec 2024 19:14:49 -0500 (EST) Subject: |SUCCESS| [GIT MASTER] 1b3bf1128d9bda5595861814792f74b8f57160c8 From: dpdklab@iol.unh.edu To: Test Report Cc: dpdk-test-reports@iol.unh.edu Content-Type: text/plain X-BeenThere: test-report@dpdk.org X-Mailman-Version: 2.1.29 Precedence: list List-Id: automatic DPDK test reports List-Unsubscribe: , List-Archive: List-Post: List-Help: List-Subscribe: , Errors-To: test-report-bounces@dpdk.org _Testing PASS_ Branch: dpdk 1b3bf1128d9bda5595861814792f74b8f57160c8 --> testing pass Upstream job id: Generic-Unit-Test-DPDK#297244 Test environment and result as below: +-------------------+----------------+ | Environment | dpdk_unit_test | +===================+================+ | Debian 12 | PASS | +-------------------+----------------+ | Arch Linux | PASS | +-------------------+----------------+ | CentOS Stream 9 | PASS | +-------------------+----------------+ | Fedora 39 (Clang) | PASS | +-------------------+----------------+ | Fedora 39 | PASS | +-------------------+----------------+ | Fedora 40 | PASS | +-------------------+----------------+ | Ubuntu 20.04 | PASS | +-------------------+----------------+ | Fedora 40 (Clang) | PASS | +-------------------+----------------+ | RHEL9 | PASS | +-------------------+----------------+ | Ubuntu 22.04 | PASS | +-------------------+----------------+ | RHEL8 | PASS | +-------------------+----------------+ | Ubuntu 24.04 | PASS | +-------------------+----------------+ Debian 12 Kernel: Depends on container host Compiler: gcc (Debian 12.2.0-14) 12.2.0 Arch Linux Kernel: Depends on container host Compiler: gcc 14.2.1 20240805 CentOS Stream 9 Kernel: Depends on container host Compiler: gcc 11.4.1 20231218 (Red Hat 11.4.1-3) Fedora 39 (Clang) Kernel: Depends on container host Compiler: clang 17.0.6 (Fedora 17.0.6-2.fc39) Fedora 39 Kernel: Depends on container host Compiler: gcc 13.3.1 20240522 (Red Hat 13.3.1-1) Fedora 40 Kernel: Depends on container host Compiler: gcc 14.2.1 20240801 (Red Hat 14.2.1-1) Ubuntu 20.04 Kernel: Depends on container host Compiler: gcc (Ubuntu 9.4.0-1ubuntu1~20.04.2) 9.4.0 Fedora 40 (Clang) Kernel: Depends on container host Compiler: clang 18.1.6 (Fedora 18.1.6-3.fc40) RHEL9 Kernel: Depends on container host Compiler: gcc 11.4.1 20231218 (Red Hat 11.4.1-3) Ubuntu 22.04 Kernel: Depends on container host Compiler: gcc (Ubuntu 11.4.0-1ubuntu1~22.04) 11.4.0 RHEL8 Kernel: Depends on container host Compiler: gcc 8.5.0 20210514 (Red Hat 8.5.0-22) Ubuntu 24.04 Kernel: Depends on container host Compiler: gcc (Ubuntu 13.2.0-23ubuntu4) 13.2.0 To view detailed results, visit: https://lab.dpdk.org/results/dashboard/tarballs/31826/ UNH-IOL DPDK Community Lab To manage your email subscriptions, visit: https://lab.dpdk.org/results/dashboard/preferences/subscriptions/