From mboxrd@z Thu Jan 1 00:00:00 1970 Return-Path: Received: from mails.dpdk.org (mails.dpdk.org [217.70.189.124]) by inbox.dpdk.org (Postfix) with ESMTP id E7BCC45E27 for ; Wed, 4 Dec 2024 02:09:48 +0100 (CET) Received: from mails.dpdk.org (localhost [127.0.0.1]) by mails.dpdk.org (Postfix) with ESMTP id DDD0640261; Wed, 4 Dec 2024 02:09:48 +0100 (CET) Received: from mail-il1-f226.google.com (mail-il1-f226.google.com [209.85.166.226]) by mails.dpdk.org (Postfix) with ESMTP id CB1EB4025D for ; Wed, 4 Dec 2024 02:09:47 +0100 (CET) Received: by mail-il1-f226.google.com with SMTP id e9e14a558f8ab-3a777c67c45so1418205ab.1 for ; Tue, 03 Dec 2024 17:09:47 -0800 (PST) DKIM-Signature: v=1; a=rsa-sha256; c=relaxed/relaxed; d=iol.unh.edu; s=unh-iol; t=1733274587; x=1733879387; darn=dpdk.org; h=cc:to:from:subject:message-id:date:from:to:cc:subject:date :message-id:reply-to; bh=X0YQRphhzQi/I8P7YtwaeLcMimniVZX6QobyYu5u0K0=; b=d7+9uJ8tLkixZtEBkPWQMiZYZ2wsqidGLssUXuhTrHTSZ/FlHONVuhcqgpF2vHhxH9 tjRyY+wfjgZ5/H2igdJrj9838FtGiEY8a+9R8MGqkQR7jjqXk9yey2of4q/Dm0+hTWlu N0Y1lJZKizweYZD27OVXuMbkFgBVBNmiLP9l0= X-Google-DKIM-Signature: v=1; a=rsa-sha256; c=relaxed/relaxed; d=1e100.net; s=20230601; t=1733274587; x=1733879387; h=cc:to:from:subject:message-id:date:x-gm-message-state:from:to:cc :subject:date:message-id:reply-to; bh=X0YQRphhzQi/I8P7YtwaeLcMimniVZX6QobyYu5u0K0=; b=T9GKv9cQVuwVBHOrnW37mmVpvAIjfsvkeTiU/qgBfumTFkbuhKXrWysrNU9kboXOlP WJCpYbOVzGt5PQfQzV0cYxl6Uz8e8F1Jz0mDrwcx+xmA8BbKuK6xwh7s+thEyeEwHEky 1cQHn8tEBmnKosJWW2/AlwP5mYcNpRqP2XqbCM31KkJoXrZ20RGXh16+/PoUDJMTUzpJ aaOJ+vDm1w/zX3va4B84XYHAqz7KBqnwxWLNyIjBMGilWHiCBNVKQ/LeVLgK/8xu7F6H 0AbqmEb063iNTAZTQfGnvsn6M8E/+cjkJwRaapHFE+9cN/S1F4D9FAKzhjWI3ork+D/0 Ic5A== X-Gm-Message-State: AOJu0YwDusM7+XAqTP5JWdZU+GKJ4hl+3V8eyb5xjZnFbMk0yzwPoRoR fgNQdpkD9IczseN1mcGvly2cqxOgT+SAC3OuquDR8PuTzy5vaNT+ed73aJsuF6qtzyo8X0DxPdA FA8kkQlU3E8eHbt9SVZYI8fkR9WipRnxawCIXEcmo88UBRnJR22JUb6Gf X-Gm-Gg: ASbGncu7iS2Sj/IWaNO/kzmz9yQAe7rsSlmo+eTrt75SMjkaFcydj0nJeIfhGpLfi3m WwN8/7n1Jhoc9XKCNzp5vcvK+AfXlhqnxz99OiwQxN9V6foD1m4yUIhJ4cty+1o29gtBPfaJBDb wEdEmKwGGtBmj+qca3YQYgZ1gAF131bTx2wx3fWoY2WEhcJRm1e9rZhujYBQrZ3lb59QO+Tcmki c1uN3zf4eINxZOQ5bHgiGJ2YfUqZ8ByzHrGic6otDbHUQnN6m6uV28LKTZq1vbuooV3rFllgWU= X-Google-Smtp-Source: AGHT+IHe8KmIvFyw2xYHs7ZBn2pG2zVt3BOOP6ioG+bNpGaeMLaTg65x8GDvfYdhXHM2Zf7/H4oAo4MIWJ2j X-Received: by 2002:a05:6e02:1b01:b0:3a7:9b16:7b6c with SMTP id e9e14a558f8ab-3a7cbd45e72mr253565195ab.9.1733274587030; Tue, 03 Dec 2024 17:09:47 -0800 (PST) Received: from postal.iol.unh.edu (postal.iol.unh.edu. [2606:4100:3880:1234::84]) by smtp-relay.gmail.com with ESMTPS id 8926c6da1cb9f-4e230dfefdfsm539657173.40.2024.12.03.17.09.46 (version=TLS1_2 cipher=ECDHE-ECDSA-AES128-GCM-SHA256 bits=128/128); Tue, 03 Dec 2024 17:09:47 -0800 (PST) X-Relaying-Domain: iol.unh.edu Date: Tue, 03 Dec 2024 17:09:47 -0800 (PST) Message-ID: <674fabdb.050a0220.2d53de.0093SMTPIN_ADDED_MISSING@mx.google.com> Received: from [172.21.0.6] (unknown [172.18.0.240]) by postal.iol.unh.edu (Postfix) with ESMTP id 84AFF6052471; Tue, 3 Dec 2024 20:09:46 -0500 (EST) Subject: |SUCCESS| [GIT MASTER] 4843aacb0d1201fef37e8a579fcd8baec4acdf98 From: dpdklab@iol.unh.edu To: Test Report Cc: dpdk-test-reports@iol.unh.edu, Akhil Goyal Content-Type: text/plain X-BeenThere: test-report@dpdk.org X-Mailman-Version: 2.1.29 Precedence: list List-Id: automatic DPDK test reports List-Unsubscribe: , List-Archive: List-Post: List-Help: List-Subscribe: , Errors-To: test-report-bounces@dpdk.org _Testing PASS_ Branch: dpdk-next-crypto 4843aacb0d1201fef37e8a579fcd8baec4acdf98 --> testing pass Upstream job id: ACVP-FIPS-testing#8198 Test environment and result as below: +--------------------+----------------------+----------------------+ | Environment | compressdev_zlib_pmd | dpdk_fips_validation | +====================+======================+======================+ | Ubuntu 22.04 (ARM) | PASS | SKIPPED | +--------------------+----------------------+----------------------+ | Ubuntu 22.04 | PASS | SKIPPED | +--------------------+----------------------+----------------------+ | Ubuntu 20.04 | SKIPPED | PASS | +--------------------+----------------------+----------------------+ Ubuntu 22.04 (ARM) Kernel: 5.15.0-97-generic Compiler: gcc gcc (Ubuntu 11.4.0-1ubuntu1~22.04) 11.4.0 Ubuntu 22.04 Kernel: 5.15.0-100-generic Compiler: gcc gcc (Ubuntu 11.4.0-1ubuntu1~22.04) 11.4.0 Ubuntu 20.04 Kernel: Depends on container host Compiler: gcc (Ubuntu 9.4.0-1ubuntu1~20.04.2) 9.4.0 To view detailed results, visit: https://lab.dpdk.org/results/dashboard/tarballs/31819/ UNH-IOL DPDK Community Lab To manage your email subscriptions, visit: https://lab.dpdk.org/results/dashboard/preferences/subscriptions/