From mboxrd@z Thu Jan 1 00:00:00 1970 Return-Path: Received: from mails.dpdk.org (mails.dpdk.org [217.70.189.124]) by inbox.dpdk.org (Postfix) with ESMTP id 4615445E27 for ; Wed, 4 Dec 2024 02:42:58 +0100 (CET) Received: from mails.dpdk.org (localhost [127.0.0.1]) by mails.dpdk.org (Postfix) with ESMTP id 3BCEF40261; Wed, 4 Dec 2024 02:42:58 +0100 (CET) Received: from mail-qk1-f225.google.com (mail-qk1-f225.google.com [209.85.222.225]) by mails.dpdk.org (Postfix) with ESMTP id 483594025D for ; Wed, 4 Dec 2024 02:42:56 +0100 (CET) Received: by mail-qk1-f225.google.com with SMTP id af79cd13be357-7b66c60584eso411671785a.2 for ; Tue, 03 Dec 2024 17:42:56 -0800 (PST) DKIM-Signature: v=1; a=rsa-sha256; c=relaxed/relaxed; d=iol.unh.edu; s=unh-iol; t=1733276575; x=1733881375; darn=dpdk.org; h=cc:to:from:subject:message-id:date:from:to:cc:subject:date :message-id:reply-to; bh=9hZeIeYcJCWqIHMCiRKfqpHuZdEeaUAW8iI4pt+Hxu8=; b=My91f0eRCO46mKG3i3nAKhj6FAhaqbk50kKN7bR87J/OBx8pd1EWC5Vt2mPCWjmD7Q rX8kVpsxXtczOeU18VaRwTHZXsm/ifI06bX+WSghk/QuS3kHhIoyz2EAOh9uayCX5IaU 7WozF1A4F0pkcTZIBARFPOCaUGHQFKv3iviXU= X-Google-DKIM-Signature: v=1; a=rsa-sha256; c=relaxed/relaxed; d=1e100.net; s=20230601; t=1733276575; x=1733881375; h=cc:to:from:subject:message-id:date:x-gm-message-state:from:to:cc :subject:date:message-id:reply-to; bh=9hZeIeYcJCWqIHMCiRKfqpHuZdEeaUAW8iI4pt+Hxu8=; b=QwNyyv78jwwUirm1+eFsSKztS0Oju8+UgjAF3+sjEUZTeUaRxJhoz57naFjFJZfs1X 27Bn9XfP8s1FP8DjjmQEc7Awm1/NWU0Kf5z5e/3T+PGua6lj6w1Xfg8LojF9DqJGayTK baiu6NnBixikLXAis4JK6+3oW2iDLnu+fLGbH015lNPDf7TIpufXy+VjxY/sGauTAEvg YXTqXzTQAsig74etNuCb7+0IrtdQOzf8IVYFB7QukDCQMDuPAdLD0bwNCWLmDGkvXIvI ngTD4xs8XTeV0+/au8BGEBtlWwRAo/p9ZsXQEEVeBVqX7IPDfMSr8WXshra5xDAbUsGZ +PTQ== X-Gm-Message-State: AOJu0Yz535zBZ9o6dQ8YWtvczwPhQeTDshd6kAFIX9JHzB3lQi5eFFxj /HkXaIIA/Dz6+C9VB4MNoQdprkMDrETzraMyBLYMbcxDjU5fgoyeb1jzoeACY72AMG6PAarNAFI w5CehjWqhVuhbNIJI3UXZ9aIQcm4E5KYi4UEG1d+N X-Gm-Gg: ASbGncuEYE0Ncf9GAeyxC9VdmEc0pdUEpSJWYiBThFhrMemqLGvaxY3rjRnWYmH8BnG DymWofabMrBGRHpDQ3de4F81JPD/7g2XLWHA+yshFEHEUZPSxJWzZxQjSBwCxJaVY0RdhYGTsxP 0utu/kxyYRfdh115iN6TH8jUlO9+d0bVrUEglGIPVEp5/dLq9bX3f248UNULk3wLJ+LTYzeYwMM MRj9jcmQsfz8yl34/mg9F67Fy+QNyrzaNueprB2f1lzB0rGLJzur/1nVyFHI0pwrCdeQXA= X-Google-Smtp-Source: AGHT+IHGYkJbJBaZBWIkSKRjblQDr4BxVhAVObb6oM3gPfBCx7LVMd1do0i0a2Wats6dxz4BvVcZs7D0c0EA X-Received: by 2002:a05:620a:45a9:b0:7b1:41d9:7b30 with SMTP id af79cd13be357-7b6abbc0a20mr399235785a.60.1733276575665; Tue, 03 Dec 2024 17:42:55 -0800 (PST) Received: from postal.iol.unh.edu (postal.iol.unh.edu. [132.177.123.84]) by smtp-relay.gmail.com with ESMTPS id 6a1803df08f44-6d8ad28b737sm2382066d6.0.2024.12.03.17.42.55 (version=TLS1_2 cipher=ECDHE-ECDSA-AES128-GCM-SHA256 bits=128/128); Tue, 03 Dec 2024 17:42:55 -0800 (PST) X-Relaying-Domain: iol.unh.edu Date: Tue, 03 Dec 2024 17:42:55 -0800 (PST) Message-ID: <674fb39f.050a0220.390974.dd28SMTPIN_ADDED_MISSING@mx.google.com> Received: from [172.17.0.2] (unknown [172.18.0.217]) by postal.iol.unh.edu (Postfix) with ESMTP id 3E6786052471; Tue, 3 Dec 2024 20:42:55 -0500 (EST) Subject: |SUCCESS| [GIT MASTER] 4843aacb0d1201fef37e8a579fcd8baec4acdf98 From: dpdklab@iol.unh.edu To: Test Report Cc: dpdk-test-reports@iol.unh.edu, Akhil Goyal Content-Type: text/plain X-BeenThere: test-report@dpdk.org X-Mailman-Version: 2.1.29 Precedence: list List-Id: automatic DPDK test reports List-Unsubscribe: , List-Archive: List-Post: List-Help: List-Subscribe: , Errors-To: test-report-bounces@dpdk.org _Testing PASS_ Branch: dpdk-next-crypto 4843aacb0d1201fef37e8a579fcd8baec4acdf98 --> testing pass Upstream job id: Generic-Unit-Test-DPDK#297292 Test environment and result as below: +-------------------+----------------+ | Environment | dpdk_unit_test | +===================+================+ | CentOS Stream 9 | PASS | +-------------------+----------------+ | Debian 12 | PASS | +-------------------+----------------+ | Fedora 39 | PASS | +-------------------+----------------+ | Fedora 39 (Clang) | PASS | +-------------------+----------------+ | Fedora 40 (Clang) | PASS | +-------------------+----------------+ | Fedora 40 | PASS | +-------------------+----------------+ | RHEL8 | PASS | +-------------------+----------------+ | RHEL9 | PASS | +-------------------+----------------+ | Ubuntu 20.04 | PASS | +-------------------+----------------+ | Ubuntu 22.04 | PASS | +-------------------+----------------+ | Ubuntu 24.04 | PASS | +-------------------+----------------+ CentOS Stream 9 Kernel: Depends on container host Compiler: gcc 11.4.1 20231218 (Red Hat 11.4.1-3) Debian 12 Kernel: Depends on container host Compiler: gcc (Debian 12.2.0-14) 12.2.0 Fedora 39 Kernel: Depends on container host Compiler: gcc 13.3.1 20240522 (Red Hat 13.3.1-1) Fedora 39 (Clang) Kernel: Depends on container host Compiler: clang 17.0.6 (Fedora 17.0.6-2.fc39) Fedora 40 (Clang) Kernel: Depends on container host Compiler: clang 18.1.6 (Fedora 18.1.6-3.fc40) Fedora 40 Kernel: Depends on container host Compiler: gcc 14.2.1 20240801 (Red Hat 14.2.1-1) RHEL8 Kernel: Depends on container host Compiler: gcc 8.5.0 20210514 (Red Hat 8.5.0-22) RHEL9 Kernel: Depends on container host Compiler: gcc 11.4.1 20231218 (Red Hat 11.4.1-3) Ubuntu 20.04 Kernel: Depends on container host Compiler: gcc (Ubuntu 9.4.0-1ubuntu1~20.04.2) 9.4.0 Ubuntu 22.04 Kernel: Depends on container host Compiler: gcc (Ubuntu 11.4.0-1ubuntu1~22.04) 11.4.0 Ubuntu 24.04 Kernel: Depends on container host Compiler: gcc (Ubuntu 13.2.0-23ubuntu4) 13.2.0 To view detailed results, visit: https://lab.dpdk.org/results/dashboard/tarballs/31830/ UNH-IOL DPDK Community Lab To manage your email subscriptions, visit: https://lab.dpdk.org/results/dashboard/preferences/subscriptions/