From mboxrd@z Thu Jan 1 00:00:00 1970 Return-Path: Received: from mails.dpdk.org (mails.dpdk.org [217.70.189.124]) by inbox.dpdk.org (Postfix) with ESMTP id 5CDDF45E27 for ; Wed, 4 Dec 2024 03:03:20 +0100 (CET) Received: from mails.dpdk.org (localhost [127.0.0.1]) by mails.dpdk.org (Postfix) with ESMTP id 559BE40261; Wed, 4 Dec 2024 03:03:20 +0100 (CET) Received: from mail-oa1-f100.google.com (mail-oa1-f100.google.com [209.85.160.100]) by mails.dpdk.org (Postfix) with ESMTP id 393594025D for ; Wed, 4 Dec 2024 03:03:18 +0100 (CET) Received: by mail-oa1-f100.google.com with SMTP id 586e51a60fabf-2967af48248so3447974fac.2 for ; Tue, 03 Dec 2024 18:03:18 -0800 (PST) DKIM-Signature: v=1; a=rsa-sha256; c=relaxed/relaxed; d=iol.unh.edu; s=unh-iol; t=1733277797; x=1733882597; darn=dpdk.org; h=cc:to:from:subject:message-id:date:from:to:cc:subject:date :message-id:reply-to; bh=flnMp1nadtdtxEDYfhl/9+AiEaHhCWF7gR2irBr0noA=; b=d7MhrpVXy9DGBoLM8Da1fpG5/zNb00Ws5GFwaV2WuRls/m1ogy6Xc2ISWT7PbG3zM7 wQJEH/3QzwMK1UB7T3TkgW3HvDOuX5SWk7nQ0+ruhH/Z4z0tjvpW9SYdrkrjA03J3C8r vLnGXYXhqdKyIWSC8izgkaRCuWpO9El2u/2Z8= X-Google-DKIM-Signature: v=1; a=rsa-sha256; c=relaxed/relaxed; d=1e100.net; s=20230601; t=1733277797; x=1733882597; h=cc:to:from:subject:message-id:date:x-gm-message-state:from:to:cc :subject:date:message-id:reply-to; bh=flnMp1nadtdtxEDYfhl/9+AiEaHhCWF7gR2irBr0noA=; b=JdX42MhxoHEv/g09aMUkGN+3IXYSgy/qaHwexsuv9ID1fnyrZ7t0rUg1Ybz/ipiEfQ 9qXon7aQG9lpprOVubqtes5KFSV7EAfsjRGX5aNV9e+5WfjtfHypvK1qh4DMksoIyDkW OjZWz0IH1hdXKmWFY9LMPBtotupFrWCi5zzUg97cu49fjP0THRydESc7Po9j/E5rYVKd p5eUNp4yk/cGlRMuaZcM8Gh0HhJZ/iC0tiW6bRnzFKkaBV0BsLAcUy/t3NEvnLSwaCi7 v2K7ikQR1Vlv7ynLZX2Fr7jk+YpMZPGfWXTP7hcvCS9AW7IYSQuP8Xvq8T3Flae1xS1q hSUw== X-Gm-Message-State: AOJu0YwctpkOzA/jvdBABOcQbvQ3PCff/s8JBa4i490fa4FXyFv6kT+g aNw/YuAyUOey7wIEjuMloi5hIcs7Pvqq4X2f8OWjDWaITi+W4Jz19AqlOWTDO7tIskkt08lMAAV rqGDbAt3YIxjyLseKMc0DqMuWLk2SzJ2ehuMbe6qN X-Gm-Gg: ASbGncvee0MLWGTRDQIXCv50OR9TidglIljTLQHWC97OONLZqBsLAvlBtCmSDNUIae2 aS/HuNSKGPp7ZLRCYhNlU79a8BwrDMM29hoirNvmJGt5VIZjcyROkjzyAcFuhTR4jr8a8y/JBw5 Y7wZm/2NGy/sCnzJB0iPLilrTdeM0mPD3OHhAmj2ggz1ITuDEgwuJYYlDWAhQuC1xyjbGVa7Iq8 +LPLhNmGmqdLeF12A12LZMYL7SDTy2xqqgdjelXPC+4aDV5VgiJqq9IVu+l4/TYGb0SRq4= X-Google-Smtp-Source: AGHT+IFTB1FM4R6opF6eCraGSoCastpfawI+krYalJqco8WUtzVltJ2qXvgZZgqit8cBfStdEX3rHRWs+Ju2 X-Received: by 2002:a05:6871:3a08:b0:29e:76c8:be2e with SMTP id 586e51a60fabf-29e9b34153bmr1534493fac.28.1733277797348; Tue, 03 Dec 2024 18:03:17 -0800 (PST) Received: from postal.iol.unh.edu (postal.iol.unh.edu. [132.177.123.84]) by smtp-relay.gmail.com with ESMTPS id 586e51a60fabf-29e67205b85sm229334fac.20.2024.12.03.18.03.17 (version=TLS1_2 cipher=ECDHE-ECDSA-AES128-GCM-SHA256 bits=128/128); Tue, 03 Dec 2024 18:03:17 -0800 (PST) X-Relaying-Domain: iol.unh.edu Date: Tue, 03 Dec 2024 18:03:17 -0800 (PST) Message-ID: <674fb865.050a0220.20dad4.cb16SMTPIN_ADDED_MISSING@mx.google.com> Received: from [172.21.0.6] (unknown [172.18.0.240]) by postal.iol.unh.edu (Postfix) with ESMTP id C92776052471; Tue, 3 Dec 2024 21:03:16 -0500 (EST) Subject: |SUCCESS| [GIT MASTER] 1b3bf1128d9bda5595861814792f74b8f57160c8 From: dpdklab@iol.unh.edu To: Test Report Cc: dpdk-test-reports@iol.unh.edu, Jerin Jacob Content-Type: text/plain X-BeenThere: test-report@dpdk.org X-Mailman-Version: 2.1.29 Precedence: list List-Id: automatic DPDK test reports List-Unsubscribe: , List-Archive: List-Post: List-Help: List-Subscribe: , Errors-To: test-report-bounces@dpdk.org _Testing PASS_ Branch: dpdk-next-eventdev 1b3bf1128d9bda5595861814792f74b8f57160c8 --> testing pass Upstream job id: Generic-Unit-Test-DPDK#297316 Test environment and result as below: +-------------------+----------------+ | Environment | dpdk_unit_test | +===================+================+ | CentOS Stream 9 | PASS | +-------------------+----------------+ | Debian 12 | PASS | +-------------------+----------------+ | Fedora 39 (Clang) | PASS | +-------------------+----------------+ | Fedora 40 | PASS | +-------------------+----------------+ | Fedora 39 | PASS | +-------------------+----------------+ | Ubuntu 20.04 | PASS | +-------------------+----------------+ | RHEL9 | PASS | +-------------------+----------------+ | RHEL8 | PASS | +-------------------+----------------+ | Fedora 40 (Clang) | PASS | +-------------------+----------------+ | Ubuntu 22.04 | PASS | +-------------------+----------------+ | Ubuntu 24.04 | PASS | +-------------------+----------------+ CentOS Stream 9 Kernel: Depends on container host Compiler: gcc 11.4.1 20231218 (Red Hat 11.4.1-3) Debian 12 Kernel: Depends on container host Compiler: gcc (Debian 12.2.0-14) 12.2.0 Fedora 39 (Clang) Kernel: Depends on container host Compiler: clang 17.0.6 (Fedora 17.0.6-2.fc39) Fedora 40 Kernel: Depends on container host Compiler: gcc 14.2.1 20240801 (Red Hat 14.2.1-1) Fedora 39 Kernel: Depends on container host Compiler: gcc 13.3.1 20240522 (Red Hat 13.3.1-1) Ubuntu 20.04 Kernel: Depends on container host Compiler: gcc (Ubuntu 9.4.0-1ubuntu1~20.04.2) 9.4.0 RHEL9 Kernel: Depends on container host Compiler: gcc 11.4.1 20231218 (Red Hat 11.4.1-3) RHEL8 Kernel: Depends on container host Compiler: gcc 8.5.0 20210514 (Red Hat 8.5.0-22) Fedora 40 (Clang) Kernel: Depends on container host Compiler: clang 18.1.6 (Fedora 18.1.6-3.fc40) Ubuntu 22.04 Kernel: Depends on container host Compiler: gcc (Ubuntu 11.4.0-1ubuntu1~22.04) 11.4.0 Ubuntu 24.04 Kernel: Depends on container host Compiler: gcc (Ubuntu 13.2.0-23ubuntu4) 13.2.0 To view detailed results, visit: https://lab.dpdk.org/results/dashboard/tarballs/31829/ UNH-IOL DPDK Community Lab To manage your email subscriptions, visit: https://lab.dpdk.org/results/dashboard/preferences/subscriptions/