From mboxrd@z Thu Jan 1 00:00:00 1970 Return-Path: Received: from mails.dpdk.org (mails.dpdk.org [217.70.189.124]) by inbox.dpdk.org (Postfix) with ESMTP id 53E4245E27 for ; Wed, 4 Dec 2024 03:03:53 +0100 (CET) Received: from mails.dpdk.org (localhost [127.0.0.1]) by mails.dpdk.org (Postfix) with ESMTP id 7C33340261; Wed, 4 Dec 2024 03:03:52 +0100 (CET) Received: from mail-pg1-f226.google.com (mail-pg1-f226.google.com [209.85.215.226]) by mails.dpdk.org (Postfix) with ESMTP id A16AE4025D for ; Wed, 4 Dec 2024 03:03:50 +0100 (CET) Received: by mail-pg1-f226.google.com with SMTP id 41be03b00d2f7-7f4325168c8so3209649a12.1 for ; Tue, 03 Dec 2024 18:03:50 -0800 (PST) DKIM-Signature: v=1; a=rsa-sha256; c=relaxed/relaxed; d=iol.unh.edu; s=unh-iol; t=1733277830; x=1733882630; darn=dpdk.org; h=cc:to:from:subject:message-id:date:from:to:cc:subject:date :message-id:reply-to; bh=s4iIBDoFkPWR6XscnzTrhSFz/W7BWu3gj872MxXMkuY=; b=TYnD2rhWrC+yZyPSqjc7wcFWkQzc3Vl3lxUVGWfQqbaXm6TH/cUpflpY5JLki6cjmM NGZZ+13WoFWbIurnVW97tVcG1cbnbo2DjtpHayeBYn0Emi2nt4KqfPeOx1Ssb8uWFyc0 vwR4vKdFXVXiyxvZpju2J1VQjUeOltNLA3iKQ= X-Google-DKIM-Signature: v=1; a=rsa-sha256; c=relaxed/relaxed; d=1e100.net; s=20230601; t=1733277830; x=1733882630; h=cc:to:from:subject:message-id:date:x-gm-message-state:from:to:cc :subject:date:message-id:reply-to; bh=s4iIBDoFkPWR6XscnzTrhSFz/W7BWu3gj872MxXMkuY=; b=lf//US2LZ9Ua7wU9a8zUDW502ix5BuHmrFq5WcKToO/dKOslT+fL0SC+1iOM4mSw/d idu68ajOY/BTC7OjaKwAGWUm33lpN82OjrBa3j3OoNoEGMmi9SlqRywxRBPCNcmx5N4P dNdpngsMyB0yLLICCIuBnuBtvmEREs+stXsFsdzNNGZtYL4azd1h67eohNt1yyeiX6Jg ODT/yDSyWZIochh2oAtSYZdiebYFW30n5Lf/4UVBXEAJFT2g2VUax9rv+0LLqnd199as GjotwUfDE+IQtHnaTg8P+SVRyhptvuCn3XLUUjmrLTg4RZZJhEvErMiCAcEi5ovkLl21 wJIQ== X-Gm-Message-State: AOJu0YzmEsdYJzZAcyXbXEGVBWdLaK5OxBFRkcwg7qZ8OFjfxEImu9lQ p5Fq8wpKmdkKeMpBpaCMrKAKKw/kAHRWphJJMbrnNKxvtuiFFYuV7kdjEBPAqUNHE2FJo5ErBiw 1Qk3hu0YYV2HXQ2cjXResJWZ0lL0+DbocMObwtIF9 X-Gm-Gg: ASbGnctBzhflM5FvOyyQ01jsg0ogohxV3KOGJXs53hEFxQYkuTte1Bmw3erjsRID0By 37SbkgLXnZCd0Qul3nzlu23qFA4CxKEuOlmEMx26AABgTprJa//0FR7+rOGc6hGPUx61rEVY1Ow OVkp3cKNgUORHHNzdaJuKT9L2R12cFQNF/0E1Jh4N4/rf6V1iRCjnWYioJa8VSD9DdbJNCxBVDj RuUl1BYR4U2fWm0vhGAhoVqgoljwKNYzljWqYr4DJI0bEBpFDGO34jm31SdMJI9BEtrBcE= X-Google-Smtp-Source: AGHT+IGui18RaH2a33ipS7tZnI8PFwOPqG42pGPgKU/xqBLVOafdt/qYIH7L6F7WSm7Nfs3NrEdQazBEmkEn X-Received: by 2002:a05:6a20:748f:b0:1db:d932:ddcc with SMTP id adf61e73a8af0-1e1653c4a75mr7216380637.19.1733277829747; Tue, 03 Dec 2024 18:03:49 -0800 (PST) Received: from postal.iol.unh.edu (postal.iol.unh.edu. [132.177.123.84]) by smtp-relay.gmail.com with ESMTPS id 41be03b00d2f7-7fc9c244d9dsm239230a12.3.2024.12.03.18.03.49 (version=TLS1_2 cipher=ECDHE-ECDSA-AES128-GCM-SHA256 bits=128/128); Tue, 03 Dec 2024 18:03:49 -0800 (PST) X-Relaying-Domain: iol.unh.edu Date: Tue, 03 Dec 2024 18:03:49 -0800 (PST) Message-ID: <674fb885.050a0220.28b302.c67dSMTPIN_ADDED_MISSING@mx.google.com> Received: from [172.21.0.7] (unknown [172.18.0.240]) by postal.iol.unh.edu (Postfix) with ESMTP id E47DE6052471; Tue, 3 Dec 2024 21:03:48 -0500 (EST) Subject: |SUCCESS| [GIT MASTER] 1b3bf1128d9bda5595861814792f74b8f57160c8 From: dpdklab@iol.unh.edu To: Test Report Cc: dpdk-test-reports@iol.unh.edu, Jerin Jacob Content-Type: text/plain X-BeenThere: test-report@dpdk.org X-Mailman-Version: 2.1.29 Precedence: list List-Id: automatic DPDK test reports List-Unsubscribe: , List-Archive: List-Post: List-Help: List-Subscribe: , Errors-To: test-report-bounces@dpdk.org _Testing PASS_ Branch: dpdk-next-eventdev 1b3bf1128d9bda5595861814792f74b8f57160c8 --> testing pass Upstream job id: Generic-Unit-Test-DPDK#297307 Test environment and result as below: +-------------------+----------------+ | Environment | dpdk_unit_test | +===================+================+ | CentOS Stream 9 | PASS | +-------------------+----------------+ | Debian 12 | PASS | +-------------------+----------------+ | Fedora 39 (Clang) | PASS | +-------------------+----------------+ | Fedora 40 | PASS | +-------------------+----------------+ | Fedora 39 | PASS | +-------------------+----------------+ | Ubuntu 20.04 | PASS | +-------------------+----------------+ | RHEL9 | PASS | +-------------------+----------------+ | RHEL8 | PASS | +-------------------+----------------+ | Fedora 40 (Clang) | PASS | +-------------------+----------------+ | Ubuntu 22.04 | PASS | +-------------------+----------------+ | Ubuntu 24.04 | PASS | +-------------------+----------------+ CentOS Stream 9 Kernel: Depends on container host Compiler: gcc 11.4.1 20231218 (Red Hat 11.4.1-3) Debian 12 Kernel: Depends on container host Compiler: gcc (Debian 12.2.0-14) 12.2.0 Fedora 39 (Clang) Kernel: Depends on container host Compiler: clang 17.0.6 (Fedora 17.0.6-2.fc39) Fedora 40 Kernel: Depends on container host Compiler: gcc 14.2.1 20240801 (Red Hat 14.2.1-1) Fedora 39 Kernel: Depends on container host Compiler: gcc 13.3.1 20240522 (Red Hat 13.3.1-1) Ubuntu 20.04 Kernel: Depends on container host Compiler: gcc (Ubuntu 9.4.0-1ubuntu1~20.04.2) 9.4.0 RHEL9 Kernel: Depends on container host Compiler: gcc 11.4.1 20231218 (Red Hat 11.4.1-3) RHEL8 Kernel: Depends on container host Compiler: gcc 8.5.0 20210514 (Red Hat 8.5.0-22) Fedora 40 (Clang) Kernel: Depends on container host Compiler: clang 18.1.6 (Fedora 18.1.6-3.fc40) Ubuntu 22.04 Kernel: Depends on container host Compiler: gcc (Ubuntu 11.4.0-1ubuntu1~22.04) 11.4.0 Ubuntu 24.04 Kernel: Depends on container host Compiler: gcc (Ubuntu 13.2.0-23ubuntu4) 13.2.0 To view detailed results, visit: https://lab.dpdk.org/results/dashboard/tarballs/31829/ UNH-IOL DPDK Community Lab To manage your email subscriptions, visit: https://lab.dpdk.org/results/dashboard/preferences/subscriptions/