From mboxrd@z Thu Jan 1 00:00:00 1970 Return-Path: Received: from mails.dpdk.org (mails.dpdk.org [217.70.189.124]) by inbox.dpdk.org (Postfix) with ESMTP id 5524145E27 for ; Wed, 4 Dec 2024 03:07:49 +0100 (CET) Received: from mails.dpdk.org (localhost [127.0.0.1]) by mails.dpdk.org (Postfix) with ESMTP id 3295C40261; Wed, 4 Dec 2024 03:07:49 +0100 (CET) Received: from mail-io1-f99.google.com (mail-io1-f99.google.com [209.85.166.99]) by mails.dpdk.org (Postfix) with ESMTP id 63D954025D for ; Wed, 4 Dec 2024 03:07:48 +0100 (CET) Received: by mail-io1-f99.google.com with SMTP id ca18e2360f4ac-841d8dec299so252311139f.3 for ; Tue, 03 Dec 2024 18:07:48 -0800 (PST) DKIM-Signature: v=1; a=rsa-sha256; c=relaxed/relaxed; d=iol.unh.edu; s=unh-iol; t=1733278067; x=1733882867; darn=dpdk.org; h=cc:to:from:subject:message-id:date:from:to:cc:subject:date :message-id:reply-to; bh=iHkNMez5jvICTvg+7Vb2IC/KNDW33a590ZN4YYgoSpU=; b=F36Ew1StxlBQaFKT0a6GxRyf0x2ycAR0i59yiTyeJmD/Ea7bnU8W+wxIVpL5Eeoy4w ptNQaDaajh29Ev53wcW9mLxqiX+pOwo0yOgEczY3ga5wNGh/HzngfJP/qcSACYX620JD tufiAn0OyMYiQI7n1azPA1CwaZ/bdMemD7kPU= X-Google-DKIM-Signature: v=1; a=rsa-sha256; c=relaxed/relaxed; d=1e100.net; s=20230601; t=1733278067; x=1733882867; h=cc:to:from:subject:message-id:date:x-gm-message-state:from:to:cc :subject:date:message-id:reply-to; bh=iHkNMez5jvICTvg+7Vb2IC/KNDW33a590ZN4YYgoSpU=; b=kmwG0Kvs33vjmqTiwL/RqgT+S/hmflpRIZLnTrOxBitsHeSD78CBUX+Frxl8JPJESH pe9MLy6DcrOPA97XFJAbL/ah9eUxD0I/aH4dIYsDWDDCqY3MduVxmWmrA07YyagDMXps Nha1npRDL6FAnQTtLyvLGMkHIGywKOvGMTStGwWQO4MS9zEiO2XzJq8+/OJmVdRh6RST q2jTDLtTIDjxzgWHMbbBohiXupIgW5eHLSJT8WfRaM9Nl+Ngtr4aEv001Bjhhhs24TK5 G197kbMcOKFAeD7f8QyWmq6/KZfWArIRsbdaeq2hG9VSB7HLi0IMrQIsMILyAx7QzuVi MUKQ== X-Gm-Message-State: AOJu0Yxp+RhmMnllY2emkGvVND+V9A5sFze6Wt2J3tcwNClgym0VSLTk eTBrUTAFOdklqNetACfIKWkkWN52DDLMzxR3TvTUHyJpQgCmpYarH4xL8DzZPL9m0fiZ47bV/XK so5pggsommgLx7N4zthmgrugv27QsVO8qblYuJmKfwIBOnqgC5ASP/FIl X-Gm-Gg: ASbGncv1Wpktk1ZXZi8dbcs8aIEfKS5zH/xgGcT/wN1vCQv8A8rQhc0x1VXKOV0Wh9A +sQMkMln+LCogjNSzdXXpguTlFZHYLF9w3Eb5Ca9+bDhXumWQVqJfd8DuAtIEAhO9fbHXUlkiTL buEEZHmPg7oLvXuWoA6kirbsNZ7TUtyptb+h13hpOyy7zkSLL8MXKUPgV3J0YCjDlF0LJamvxa3 9WJ1PpxshjECj26jsyTi/tP4tHiP1HWqREHrXxZzeoXgfTzvJhqMwHl4eil3Ze6YptsG6sP1j8= X-Google-Smtp-Source: AGHT+IHgv6NMmOagE2SHUP2N2sljHr+6Gzk/xu2Aq1FDemtN/8lEfx4voTl4VRGsO18iWx7rneXFXZ4wDyS1 X-Received: by 2002:a05:6602:2cc6:b0:843:ec18:82e2 with SMTP id ca18e2360f4ac-8445b57508amr536309939f.8.1733278067653; Tue, 03 Dec 2024 18:07:47 -0800 (PST) Received: from postal.iol.unh.edu (postal.iol.unh.edu. [2606:4100:3880:1234::84]) by smtp-relay.gmail.com with ESMTPS id ca18e2360f4ac-84405e92bd2sm46177839f.6.2024.12.03.18.07.47 (version=TLS1_2 cipher=ECDHE-ECDSA-AES128-GCM-SHA256 bits=128/128); Tue, 03 Dec 2024 18:07:47 -0800 (PST) X-Relaying-Domain: iol.unh.edu Date: Tue, 03 Dec 2024 18:07:47 -0800 (PST) Message-ID: <674fb973.050a0220.6df59.a7c7SMTPIN_ADDED_MISSING@mx.google.com> Received: from [172.21.0.5] (unknown [172.18.0.240]) by postal.iol.unh.edu (Postfix) with ESMTP id 3F7496052471; Tue, 3 Dec 2024 21:07:47 -0500 (EST) Subject: |SUCCESS| [GIT MASTER] 1b3bf1128d9bda5595861814792f74b8f57160c8 From: dpdklab@iol.unh.edu To: Test Report Cc: dpdk-test-reports@iol.unh.edu, Jerin Jacob Content-Type: text/plain X-BeenThere: test-report@dpdk.org X-Mailman-Version: 2.1.29 Precedence: list List-Id: automatic DPDK test reports List-Unsubscribe: , List-Archive: List-Post: List-Help: List-Subscribe: , Errors-To: test-report-bounces@dpdk.org _Testing PASS_ Branch: dpdk-next-eventdev 1b3bf1128d9bda5595861814792f74b8f57160c8 --> testing pass Upstream job id: Generic-VM-Unit-Test-DPDK#26497 Test environment and result as below: +---------------------+----------------+ | Environment | dpdk_unit_test | +=====================+================+ | CentOS Stream 9 | PASS | +---------------------+----------------+ | Fedora 39 | PASS | +---------------------+----------------+ | Debian 12 | PASS | +---------------------+----------------+ | Fedora 40 | PASS | +---------------------+----------------+ | Fedora 39 (Clang) | PASS | +---------------------+----------------+ | Fedora 40 (Clang) | PASS | +---------------------+----------------+ | RHEL8 | PASS | +---------------------+----------------+ | RHEL9 | PASS | +---------------------+----------------+ | Ubuntu 20.04 | PASS | +---------------------+----------------+ | Ubuntu 24.04 | PASS | +---------------------+----------------+ | Ubuntu 22.04 | PASS | +---------------------+----------------+ | Windows Server 2022 | PASS | +---------------------+----------------+ CentOS Stream 9 Kernel: Depends on container host Compiler: gcc 11.4.1 20231218 (Red Hat 11.4.1-3) Fedora 39 Kernel: Depends on container host Compiler: gcc 13.3.1 20240522 (Red Hat 13.3.1-1) Debian 12 Kernel: Depends on container host Compiler: gcc (Debian 12.2.0-14) 12.2.0 Fedora 40 Kernel: Depends on container host Compiler: gcc 14.2.1 20240801 (Red Hat 14.2.1-1) Fedora 39 (Clang) Kernel: Depends on container host Compiler: clang 17.0.6 (Fedora 17.0.6-2.fc39) Fedora 40 (Clang) Kernel: Depends on container host Compiler: clang 18.1.6 (Fedora 18.1.6-3.fc40) RHEL8 Kernel: Depends on container host Compiler: gcc 8.5.0 20210514 (Red Hat 8.5.0-22) RHEL9 Kernel: Depends on container host Compiler: gcc 11.4.1 20231218 (Red Hat 11.4.1-3) Ubuntu 20.04 Kernel: Depends on container host Compiler: gcc (Ubuntu 9.4.0-1ubuntu1~20.04.2) 9.4.0 Ubuntu 24.04 Kernel: Depends on container host Compiler: gcc (Ubuntu 13.2.0-23ubuntu4) 13.2.0 Ubuntu 22.04 Kernel: Depends on container host Compiler: gcc (Ubuntu 11.4.0-1ubuntu1~22.04) 11.4.0 Windows Server 2022 Kernel: 10.0.20348.2031 Compiler: clang 15.0.7, gcc 14.1.0 (MinGW), and MSVC VS 19.39.33521 To view detailed results, visit: https://lab.dpdk.org/results/dashboard/tarballs/31822/ UNH-IOL DPDK Community Lab To manage your email subscriptions, visit: https://lab.dpdk.org/results/dashboard/preferences/subscriptions/