From mboxrd@z Thu Jan 1 00:00:00 1970 Return-Path: Received: from mails.dpdk.org (mails.dpdk.org [217.70.189.124]) by inbox.dpdk.org (Postfix) with ESMTP id 1720F45E27 for ; Wed, 4 Dec 2024 03:24:19 +0100 (CET) Received: from mails.dpdk.org (localhost [127.0.0.1]) by mails.dpdk.org (Postfix) with ESMTP id DEE3040261; Wed, 4 Dec 2024 03:24:18 +0100 (CET) Received: from mail-io1-f98.google.com (mail-io1-f98.google.com [209.85.166.98]) by mails.dpdk.org (Postfix) with ESMTP id 0D01A4025D for ; Wed, 4 Dec 2024 03:24:17 +0100 (CET) Received: by mail-io1-f98.google.com with SMTP id ca18e2360f4ac-8418ecda199so219944739f.2 for ; Tue, 03 Dec 2024 18:24:16 -0800 (PST) DKIM-Signature: v=1; a=rsa-sha256; c=relaxed/relaxed; d=iol.unh.edu; s=unh-iol; t=1733279056; x=1733883856; darn=dpdk.org; h=cc:to:from:subject:message-id:date:from:to:cc:subject:date :message-id:reply-to; bh=B9umtyxqQLgA5JJuLmd1QFFKyqvgZ1P8wV31hGRNV+o=; b=E4jNrJcnlUc7vg3b/ReQZBF8eG8+w543wE38b3YnIaa8dbZLs2hxdv5u4QDIRYgkOB TnAHkyHgV1hPhFcExzCJ5zpMwXPqsrEd34HeZ+k2QbM3mkqGtcuaWlNAfjKinbrvGYDT fXf7aLHj3+uYpiRgytqghnIF7keoNsfwKIMAY= X-Google-DKIM-Signature: v=1; a=rsa-sha256; c=relaxed/relaxed; d=1e100.net; s=20230601; t=1733279056; x=1733883856; h=cc:to:from:subject:message-id:date:x-gm-message-state:from:to:cc :subject:date:message-id:reply-to; bh=B9umtyxqQLgA5JJuLmd1QFFKyqvgZ1P8wV31hGRNV+o=; b=kd46pxJjg3PEJFf4DclIM5vXUhv5VUqntOH3TXFNAPFZrGrm9Qp3XrfFEyfZ3rbb0n vYwF6MMBF4HGdZOXPxQOklZhetPU1NzuxloY+HncQa+acWUU9G+Ydp64pQeeFwFFxHg9 j+VoLbcRaF9NOm0Y4Up7/r9XcE0dBFEOWnP8qzjarDhqI5qcwBvUwB+NUryCzKhbMSrR vWZ8JNO7bn3JCmaVGwTYIc5ILTudXR2xBIm+c9djo2YRI90bigfy50ALvKoUR7dR6jon c9esO95YNLhz+3+FidQbBXR+GPaO+9l76dubQLfdXOvnflV8QwLJ6nebDEHx3OCYpBFm UEPQ== X-Gm-Message-State: AOJu0YxeuXAFWIFxZcGvUcBfI92vhFzB3MhuW9gF8l+AvVowGuxFpW23 0i3jtMF994EBgKyCUjcrmP8qEzmWz9AhhzJYErH1jYDJsOczjoAXjoCGX3hzbux0to+gXBr6h87 +Syr+SlNpO2tirN34cvA+7xHUkTMZhGbiQ4jFqFGN X-Gm-Gg: ASbGncs5ezkz8Nnq0/PMNzKKG1o8INoBIj1a+v8H+UTlMyZmLTUBHGOgUVVZQyfznDe HtbiKrUUCkJ7fEpQ3Nkl5/GzJ0iDGrprIf1rebQ1TNndh20vRsBdpjKm8JX1y/+UtaM3nHQoKHL p7bM5t0IqBjlx/yyiYZSSIsQSuQGoee57N5o/P9ctLSp2LrHu7lvesDsrs8j7O45Y7JbRqaovsN wxpPWqxAgYFVovtWiufGBWz+5TrMZmE++jbfzrNNal7yW6KJ/qZv6tlEogKKCeMy7PPgF8= X-Google-Smtp-Source: AGHT+IE2ABdAqmAluK/IVA7w+Hxlia8Uwx+66Kv760BejlAtVxoGZkqed99W4V3XQR6I2rxMGNd4AuNmoPUt X-Received: by 2002:a05:6602:6412:b0:835:45f9:c2ee with SMTP id ca18e2360f4ac-8445b5549c0mr679342239f.4.1733279056354; Tue, 03 Dec 2024 18:24:16 -0800 (PST) Received: from postal.iol.unh.edu (postal.iol.unh.edu. [132.177.123.84]) by smtp-relay.gmail.com with ESMTPS id 8926c6da1cb9f-4e230de056dsm541369173.24.2024.12.03.18.24.16 (version=TLS1_2 cipher=ECDHE-ECDSA-AES128-GCM-SHA256 bits=128/128); Tue, 03 Dec 2024 18:24:16 -0800 (PST) X-Relaying-Domain: iol.unh.edu Date: Tue, 03 Dec 2024 18:24:16 -0800 (PST) Message-ID: <674fbd50.050a0220.2e40a7.ef86SMTPIN_ADDED_MISSING@mx.google.com> Received: from [172.17.0.3] (unknown [172.18.0.217]) by postal.iol.unh.edu (Postfix) with ESMTP id DCAC56052471; Tue, 3 Dec 2024 21:24:15 -0500 (EST) Subject: |SUCCESS| [GIT MASTER] 4843aacb0d1201fef37e8a579fcd8baec4acdf98 From: dpdklab@iol.unh.edu To: Test Report Cc: dpdk-test-reports@iol.unh.edu, Akhil Goyal Content-Type: text/plain X-BeenThere: test-report@dpdk.org X-Mailman-Version: 2.1.29 Precedence: list List-Id: automatic DPDK test reports List-Unsubscribe: , List-Archive: List-Post: List-Help: List-Subscribe: , Errors-To: test-report-bounces@dpdk.org _Testing PASS_ Branch: dpdk-next-crypto 4843aacb0d1201fef37e8a579fcd8baec4acdf98 --> testing pass Upstream job id: Aarch32-Unit-Test#4549 Test environment and result as below: +-----------------------------+--------------+----------------+------------------------------+---------------------------+ | Environment | lpm_autotest | dpdk_unit_test | cryptodev_sw_snow3g_autotest | cryptodev_sw_zuc_autotest | +=============================+==============+================+==============================+===========================+ | Ubuntu 20.04 ARM SVE | PASS | SKIPPED | SKIPPED | SKIPPED | +-----------------------------+--------------+----------------+------------------------------+---------------------------+ | Fedora 39 (ARM Clang) | SKIPPED | PASS | SKIPPED | SKIPPED | +-----------------------------+--------------+----------------+------------------------------+---------------------------+ | Fedora 39 (ARM) | SKIPPED | PASS | SKIPPED | SKIPPED | +-----------------------------+--------------+----------------+------------------------------+---------------------------+ | CentOS Stream 9 (ARM) | SKIPPED | PASS | SKIPPED | SKIPPED | +-----------------------------+--------------+----------------+------------------------------+---------------------------+ | Fedora 40 (ARM) | SKIPPED | PASS | SKIPPED | SKIPPED | +-----------------------------+--------------+----------------+------------------------------+---------------------------+ | Debian 12 (arm) | SKIPPED | PASS | PASS | PASS | +-----------------------------+--------------+----------------+------------------------------+---------------------------+ | Fedora 40 (ARM Clang) | SKIPPED | PASS | SKIPPED | SKIPPED | +-----------------------------+--------------+----------------+------------------------------+---------------------------+ | RHEL9 (ARM) | SKIPPED | PASS | SKIPPED | SKIPPED | +-----------------------------+--------------+----------------+------------------------------+---------------------------+ | Ubuntu 20.04 (ARM) | SKIPPED | PASS | SKIPPED | SKIPPED | +-----------------------------+--------------+----------------+------------------------------+---------------------------+ | Ubuntu 24.04 (ARM) | SKIPPED | PASS | SKIPPED | SKIPPED | +-----------------------------+--------------+----------------+------------------------------+---------------------------+ | Ubuntu 22.04 (ARM) | SKIPPED | PASS | SKIPPED | SKIPPED | +-----------------------------+--------------+----------------+------------------------------+---------------------------+ | 32-bit Ubuntu 22.04.4 (ARM) | SKIPPED | PASS | SKIPPED | SKIPPED | +-----------------------------+--------------+----------------+------------------------------+---------------------------+ Ubuntu 20.04 ARM SVE Kernel: Depends on container host Compiler: gcc (Ubuntu 10.5.0-1ubuntu1~20.04) 10.5.0 Fedora 39 (ARM Clang) Kernel: Depends on container host Compiler: clang 17.0.6 (Fedora 17.0.6-2.fc39) Fedora 39 (ARM) Kernel: Depends on container host Compiler: gcc 13.3.1 20240522 (Red Hat 13.3.1-1) CentOS Stream 9 (ARM) Kernel: Depends on container host Compiler: gcc 11.4.1 20231218 (Red Hat 11.4.1-3) Fedora 40 (ARM) Kernel: Depends on container host Compiler: gcc 14.2.1 20240801 (Red Hat 14.2.1-1) Debian 12 (arm) Kernel: Depends on container host Compiler: gcc (Debian 12.2.0-14) 12.2.0 Fedora 40 (ARM Clang) Kernel: Depends on container host Compiler: clang 18.1.6 (Fedora 18.1.6-3.fc40) RHEL9 (ARM) Kernel: Depends on container host Compiler: gcc 11.4.1 20231218 (Red Hat 11.4.1-3) Ubuntu 20.04 (ARM) Kernel: Depends on container host Compiler: gcc (Ubuntu 9.4.0-1ubuntu1~20.04.2) 9.4.0 Ubuntu 24.04 (ARM) Kernel: Depends on container host Compiler: gcc (Ubuntu 13.2.0-23ubuntu4) 13.2.0 Ubuntu 22.04 (ARM) Kernel: Depends on container host Compiler: gcc (Ubuntu 11.4.0-1ubuntu1~22.04) 11.4.0 32-bit Ubuntu 22.04.4 (ARM) Kernel: 5.15.83+ aarch64 Compiler: gcc (Ubuntu 11.4.0-1ubuntu1~22.04) 11.4.0 To view detailed results, visit: https://lab.dpdk.org/results/dashboard/tarballs/31823/ UNH-IOL DPDK Community Lab To manage your email subscriptions, visit: https://lab.dpdk.org/results/dashboard/preferences/subscriptions/