From mboxrd@z Thu Jan 1 00:00:00 1970 Return-Path: Received: from mails.dpdk.org (mails.dpdk.org [217.70.189.124]) by inbox.dpdk.org (Postfix) with ESMTP id 8187F45E27 for ; Wed, 4 Dec 2024 03:47:21 +0100 (CET) Received: from mails.dpdk.org (localhost [127.0.0.1]) by mails.dpdk.org (Postfix) with ESMTP id 7DDC340BA2; Wed, 4 Dec 2024 03:47:21 +0100 (CET) Received: from mail-il1-f227.google.com (mail-il1-f227.google.com [209.85.166.227]) by mails.dpdk.org (Postfix) with ESMTP id EB98A4025D for ; Wed, 4 Dec 2024 03:47:19 +0100 (CET) Received: by mail-il1-f227.google.com with SMTP id e9e14a558f8ab-3a7e108b491so19823665ab.3 for ; Tue, 03 Dec 2024 18:47:19 -0800 (PST) DKIM-Signature: v=1; a=rsa-sha256; c=relaxed/relaxed; d=iol.unh.edu; s=unh-iol; t=1733280439; x=1733885239; darn=dpdk.org; h=cc:to:from:subject:message-id:date:from:to:cc:subject:date :message-id:reply-to; bh=wv46Jk2mWxuInSnoxyK9ao8yr+HhoOG0Ibtc8VpFozA=; b=K2Y4sHeJeCJNsXKi4sZ9cwl0Qi2AEsK1YmWttNT3RYaIFSlUaOT+JYuVlY4A/Eh544 y2nuqiKVfOen0rFSBtrdeqQyOVLGqR9HfH69t3prZZ7BMNsH/rROi23wfckuuZLiO/rx TcjcpFTdLZlyxYmubvYxRwwYE8LTtD73xh4Uk= X-Google-DKIM-Signature: v=1; a=rsa-sha256; c=relaxed/relaxed; d=1e100.net; s=20230601; t=1733280439; x=1733885239; h=cc:to:from:subject:message-id:date:x-gm-message-state:from:to:cc :subject:date:message-id:reply-to; bh=wv46Jk2mWxuInSnoxyK9ao8yr+HhoOG0Ibtc8VpFozA=; b=UD9RYLrelHKEeZxECGW8uJJ1VeYFPnFwK/NgWJYil3W+0I5qJo1+GedA1TQWl7KIpy VumxBAZ4lH+1wcB3gUWPDHadpjG/mK7fzsyRyAcsYvjP67ibPvkVNZwsWdjdedilD2vF gWqUARmHZ8pNynsTgBD5UmY1zZJtVqyUaBuW/VfT9c6k7Pb5UqNXdYHqpVZFn4jtBgnH njKL0NpUfKwhjDw6etCiQNp0hguON/+gQw8Ktg75+XG8PuKkOcJRrTCmfr0G7e7Pdnk0 DgJHRqgK/nmUrosdeJrUeYpVy/1cBXYcpPJz5qc3YuTKZ14ONpbMm/WXsVfIlANzJQyW J3ig== X-Gm-Message-State: AOJu0Yz1/obnoHY72x4sG8PHu0GSq5M9i99ojqSImOx0Gh5ELMs8kJme Sl7VvbTugtzNz+pS6JlYukNpmjspo3hmN0I/cHLtO317ZLbupMvrK/G70W3oALV+wEnVZRFbR4s d2W8dzn8cGT8MbkS4GIjGAr+c2i8p2k81QpbMD9+X/p4A5hhycbZLADu/ X-Gm-Gg: ASbGncudCSyEd3jVa49VJr5QlstPvuwqmTRxE5TMxLon54MCYsmBk2xTF4MtGHNGVSM OmGL4NqO/upoXWu8voFI1aimgSgpAOpW7cRKOMfccDh1O6JJi/4Vq8ACkPH76dulHLDvfjpqR4q 6Z4S4Fla0qvTLnEPPAqh2UwEp+Dsb7IeodTPoMdwe4GDVbzKZxwD+/p1myfYoHRcCwHCbYdZYD3 cwSqPbZfACSgyj3Mo9q8hjZHYzpTlfDwsAU5Sc+X8FseFOjmO+R3Pxm3XN1lPXR36Oz/uu557o= X-Google-Smtp-Source: AGHT+IHbdthntzdl+CrsHUFJqzQBxFAKpYpMxKLVIixJT5ZoJqHZL5k7QgGHI3foGR9QFsilpDlPTymmNHcY X-Received: by 2002:a05:6e02:16c5:b0:3a7:d792:d6e9 with SMTP id e9e14a558f8ab-3a7f9aa3d27mr60075875ab.22.1733280437837; Tue, 03 Dec 2024 18:47:17 -0800 (PST) Received: from postal.iol.unh.edu (postal.iol.unh.edu. [2606:4100:3880:1234::84]) by smtp-relay.gmail.com with ESMTPS id e9e14a558f8ab-3a7ccc74bbesm6819335ab.63.2024.12.03.18.47.17 (version=TLS1_2 cipher=ECDHE-ECDSA-AES128-GCM-SHA256 bits=128/128); Tue, 03 Dec 2024 18:47:17 -0800 (PST) X-Relaying-Domain: iol.unh.edu Date: Tue, 03 Dec 2024 18:47:17 -0800 (PST) Message-ID: <674fc2b5.050a0220.1fe53.807cSMTPIN_ADDED_MISSING@mx.google.com> Received: from [172.17.0.4] (unknown [172.18.0.217]) by postal.iol.unh.edu (Postfix) with ESMTP id 471F56052471; Tue, 3 Dec 2024 21:47:17 -0500 (EST) Subject: |SUCCESS| [GIT MASTER] 4843aacb0d1201fef37e8a579fcd8baec4acdf98 From: dpdklab@iol.unh.edu To: Test Report Cc: dpdk-test-reports@iol.unh.edu, Akhil Goyal Content-Type: text/plain X-BeenThere: test-report@dpdk.org X-Mailman-Version: 2.1.29 Precedence: list List-Id: automatic DPDK test reports List-Unsubscribe: , List-Archive: List-Post: List-Help: List-Subscribe: , Errors-To: test-report-bounces@dpdk.org _Testing PASS_ Branch: dpdk-next-crypto 4843aacb0d1201fef37e8a579fcd8baec4acdf98 --> testing pass Upstream job id: Aarch32-Unit-Test#4554 Test environment and result as below: +-----------------------------+--------------+------------------------------+---------------------------+----------------+ | Environment | lpm_autotest | cryptodev_sw_snow3g_autotest | cryptodev_sw_zuc_autotest | dpdk_unit_test | +=============================+==============+==============================+===========================+================+ | Ubuntu 20.04 ARM SVE | PASS | SKIPPED | SKIPPED | SKIPPED | +-----------------------------+--------------+------------------------------+---------------------------+----------------+ | Debian 12 (arm) | SKIPPED | PASS | PASS | PASS | +-----------------------------+--------------+------------------------------+---------------------------+----------------+ | CentOS Stream 9 (ARM) | SKIPPED | SKIPPED | SKIPPED | PASS | +-----------------------------+--------------+------------------------------+---------------------------+----------------+ | Fedora 39 (ARM) | SKIPPED | SKIPPED | SKIPPED | PASS | +-----------------------------+--------------+------------------------------+---------------------------+----------------+ | Fedora 39 (ARM Clang) | SKIPPED | SKIPPED | SKIPPED | PASS | +-----------------------------+--------------+------------------------------+---------------------------+----------------+ | Fedora 40 (ARM) | SKIPPED | SKIPPED | SKIPPED | PASS | +-----------------------------+--------------+------------------------------+---------------------------+----------------+ | Fedora 40 (ARM Clang) | SKIPPED | SKIPPED | SKIPPED | PASS | +-----------------------------+--------------+------------------------------+---------------------------+----------------+ | RHEL9 (ARM) | SKIPPED | SKIPPED | SKIPPED | PASS | +-----------------------------+--------------+------------------------------+---------------------------+----------------+ | Ubuntu 20.04 (ARM) | SKIPPED | SKIPPED | SKIPPED | PASS | +-----------------------------+--------------+------------------------------+---------------------------+----------------+ | Ubuntu 22.04 (ARM) | SKIPPED | SKIPPED | SKIPPED | PASS | +-----------------------------+--------------+------------------------------+---------------------------+----------------+ | Ubuntu 24.04 (ARM) | SKIPPED | SKIPPED | SKIPPED | PASS | +-----------------------------+--------------+------------------------------+---------------------------+----------------+ | 32-bit Ubuntu 22.04.4 (ARM) | SKIPPED | SKIPPED | SKIPPED | PASS | +-----------------------------+--------------+------------------------------+---------------------------+----------------+ Ubuntu 20.04 ARM SVE Kernel: Depends on container host Compiler: gcc (Ubuntu 10.5.0-1ubuntu1~20.04) 10.5.0 Debian 12 (arm) Kernel: Depends on container host Compiler: gcc (Debian 12.2.0-14) 12.2.0 CentOS Stream 9 (ARM) Kernel: Depends on container host Compiler: gcc 11.4.1 20231218 (Red Hat 11.4.1-3) Fedora 39 (ARM) Kernel: Depends on container host Compiler: gcc 13.3.1 20240522 (Red Hat 13.3.1-1) Fedora 39 (ARM Clang) Kernel: Depends on container host Compiler: clang 17.0.6 (Fedora 17.0.6-2.fc39) Fedora 40 (ARM) Kernel: Depends on container host Compiler: gcc 14.2.1 20240801 (Red Hat 14.2.1-1) Fedora 40 (ARM Clang) Kernel: Depends on container host Compiler: clang 18.1.6 (Fedora 18.1.6-3.fc40) RHEL9 (ARM) Kernel: Depends on container host Compiler: gcc 11.4.1 20231218 (Red Hat 11.4.1-3) Ubuntu 20.04 (ARM) Kernel: Depends on container host Compiler: gcc (Ubuntu 9.4.0-1ubuntu1~20.04.2) 9.4.0 Ubuntu 22.04 (ARM) Kernel: Depends on container host Compiler: gcc (Ubuntu 11.4.0-1ubuntu1~22.04) 11.4.0 Ubuntu 24.04 (ARM) Kernel: Depends on container host Compiler: gcc (Ubuntu 13.2.0-23ubuntu4) 13.2.0 32-bit Ubuntu 22.04.4 (ARM) Kernel: 5.15.83+ aarch64 Compiler: gcc (Ubuntu 11.4.0-1ubuntu1~22.04) 11.4.0 To view detailed results, visit: https://lab.dpdk.org/results/dashboard/tarballs/31830/ UNH-IOL DPDK Community Lab To manage your email subscriptions, visit: https://lab.dpdk.org/results/dashboard/preferences/subscriptions/