From mboxrd@z Thu Jan 1 00:00:00 1970 Return-Path: Received: from mails.dpdk.org (mails.dpdk.org [217.70.189.124]) by inbox.dpdk.org (Postfix) with ESMTP id D05A945E27 for ; Wed, 4 Dec 2024 03:49:09 +0100 (CET) Received: from mails.dpdk.org (localhost [127.0.0.1]) by mails.dpdk.org (Postfix) with ESMTP id C887840261; Wed, 4 Dec 2024 03:49:09 +0100 (CET) Received: from mail-il1-f227.google.com (mail-il1-f227.google.com [209.85.166.227]) by mails.dpdk.org (Postfix) with ESMTP id E1E8D4025D for ; Wed, 4 Dec 2024 03:49:08 +0100 (CET) Received: by mail-il1-f227.google.com with SMTP id e9e14a558f8ab-3a7d7db4d89so22561095ab.1 for ; Tue, 03 Dec 2024 18:49:08 -0800 (PST) DKIM-Signature: v=1; a=rsa-sha256; c=relaxed/relaxed; d=iol.unh.edu; s=unh-iol; t=1733280548; x=1733885348; darn=dpdk.org; h=cc:to:from:subject:message-id:date:from:to:cc:subject:date :message-id:reply-to; bh=T945lRVpfwZGG/DDlxUGMHIzagJAEyvSQUivOE0tDec=; b=Pf5T+w8OYIDi9aE3zOkRjWQ+gie5pR8KaeKgP5ZdUW+El02GWv35zr773o7g7vtiUb ueU6fieHNzGMCFduo609x0K4ImPecbORQd1pDttBzCMU5m60OUak73as4doTmmt1pklD NNVmc6fI6QYjqgbUCidjq1wcqk2ckEPNQmho8= X-Google-DKIM-Signature: v=1; a=rsa-sha256; c=relaxed/relaxed; d=1e100.net; s=20230601; t=1733280548; x=1733885348; h=cc:to:from:subject:message-id:date:x-gm-message-state:from:to:cc :subject:date:message-id:reply-to; bh=T945lRVpfwZGG/DDlxUGMHIzagJAEyvSQUivOE0tDec=; b=HbZPrd10aGHsSrBN4rztLRLUZf3sjC4m++sZumca46OG0AIovBLf8LsoUCE0qD0yWk M5mSRRgovjcPaep8zQMCjTtAFPfgmy/hm5C2zpsNT8Sada6nycx64HX5tlBffnzFawVW 07fjwO6eEo1NjIdBpA3md0xPyzGOJaNDs0dbrRK3iDXTADZZ/LaQTOzfDoT9/xAp8RNQ TZ4qGwmC+wuthCmRBTTNo/KPABp7RZEjZuDwhxZNeuqwRlKv1z1pkk4TarqI28IxTVdp +X7PMQCEirjjg2r8QOGAuRSC8ReOeIyqUaqagoxQ3B9PPK+blo0k3x9TV7KnS9/NJceK EgjA== X-Gm-Message-State: AOJu0YxtZ9gEK+5+raLjuNx8ECMFIrHyY5f5tZDyJN+3zHVc0qPh+Ndg qoi6gv3/5DjHWX0nVDaYe9uBOY7o0+uZ0sDE3xb+aKKAMiHjwMXRX8/FsXXdYTQtWWZntA90r81 hDcTLpTco9krZUivaIpK1mdiNpUndnPte0lhe5q51 X-Gm-Gg: ASbGncvLOlj/MbxhDB6K9dyqMO8tlQpK/alNwtWe8S9DIRM07ZIqY6hmrGL+1Z/Yv2w LPw2XA8z+3kCBCnsSfxGdIahxJ0CsYRpcQvdx9KLLg6PRy3HDQyOOauOi2IbUzQrzRzKIPadysn eXrNxiTcj8IDcUzNJpQJodDKCZOaAfqFJQsqxjXKx/vcVr6R1EBut2U5LbsdoyG11BNoYMR5uYF PJ070ErtI/Z2i6xtsFgO+eSP9ySpw9PNkAqmtNFASC36eU3jsNxLsCs70TCS1bUQCfBIQQ= X-Google-Smtp-Source: AGHT+IFHPYv6lex/gPwCTEo/YcLQWcXClSTeJcOLPjZXGJMNFT3qn0k7HjVo/mg1Vt4uZ0LZVIuV1TOKAySs X-Received: by 2002:a05:6e02:1a02:b0:3a7:c2ea:1095 with SMTP id e9e14a558f8ab-3a7f9a372a3mr65109825ab.1.1733280548203; Tue, 03 Dec 2024 18:49:08 -0800 (PST) Received: from postal.iol.unh.edu (postal.iol.unh.edu. [132.177.123.84]) by smtp-relay.gmail.com with ESMTPS id e9e14a558f8ab-3a7ccbf0385sm6709325ab.21.2024.12.03.18.49.08 (version=TLS1_2 cipher=ECDHE-ECDSA-AES128-GCM-SHA256 bits=128/128); Tue, 03 Dec 2024 18:49:08 -0800 (PST) X-Relaying-Domain: iol.unh.edu Date: Tue, 03 Dec 2024 18:49:08 -0800 (PST) Message-ID: <674fc324.050a0220.2d1be3.5dc9SMTPIN_ADDED_MISSING@mx.google.com> Received: from [172.17.0.3] (unknown [172.18.0.217]) by postal.iol.unh.edu (Postfix) with ESMTP id B05D46052471; Tue, 3 Dec 2024 21:49:07 -0500 (EST) Subject: |SUCCESS| [GIT MASTER] 1b3bf1128d9bda5595861814792f74b8f57160c8 From: dpdklab@iol.unh.edu To: Test Report Cc: dpdk-test-reports@iol.unh.edu Content-Type: text/plain X-BeenThere: test-report@dpdk.org X-Mailman-Version: 2.1.29 Precedence: list List-Id: automatic DPDK test reports List-Unsubscribe: , List-Archive: List-Post: List-Help: List-Subscribe: , Errors-To: test-report-bounces@dpdk.org _Testing PASS_ Branch: dpdk 1b3bf1128d9bda5595861814792f74b8f57160c8 --> testing pass Upstream job id: Generic-VM-Unit-Test-DPDK#26501 Test environment and result as below: +---------------------+----------------+ | Environment | dpdk_unit_test | +=====================+================+ | Debian 12 | PASS | +---------------------+----------------+ | Arch Linux | PASS | +---------------------+----------------+ | CentOS Stream 9 | PASS | +---------------------+----------------+ | Fedora 39 (Clang) | PASS | +---------------------+----------------+ | Fedora 39 | PASS | +---------------------+----------------+ | Fedora 40 | PASS | +---------------------+----------------+ | Ubuntu 20.04 | PASS | +---------------------+----------------+ | Fedora 40 (Clang) | PASS | +---------------------+----------------+ | RHEL9 | PASS | +---------------------+----------------+ | Ubuntu 22.04 | PASS | +---------------------+----------------+ | RHEL8 | PASS | +---------------------+----------------+ | Ubuntu 24.04 | PASS | +---------------------+----------------+ | Windows Server 2022 | PASS | +---------------------+----------------+ Debian 12 Kernel: Depends on container host Compiler: gcc (Debian 12.2.0-14) 12.2.0 Arch Linux Kernel: Depends on container host Compiler: gcc 14.2.1 20240805 CentOS Stream 9 Kernel: Depends on container host Compiler: gcc 11.4.1 20231218 (Red Hat 11.4.1-3) Fedora 39 (Clang) Kernel: Depends on container host Compiler: clang 17.0.6 (Fedora 17.0.6-2.fc39) Fedora 39 Kernel: Depends on container host Compiler: gcc 13.3.1 20240522 (Red Hat 13.3.1-1) Fedora 40 Kernel: Depends on container host Compiler: gcc 14.2.1 20240801 (Red Hat 14.2.1-1) Ubuntu 20.04 Kernel: Depends on container host Compiler: gcc (Ubuntu 9.4.0-1ubuntu1~20.04.2) 9.4.0 Fedora 40 (Clang) Kernel: Depends on container host Compiler: clang 18.1.6 (Fedora 18.1.6-3.fc40) RHEL9 Kernel: Depends on container host Compiler: gcc 11.4.1 20231218 (Red Hat 11.4.1-3) Ubuntu 22.04 Kernel: Depends on container host Compiler: gcc (Ubuntu 11.4.0-1ubuntu1~22.04) 11.4.0 RHEL8 Kernel: Depends on container host Compiler: gcc 8.5.0 20210514 (Red Hat 8.5.0-22) Ubuntu 24.04 Kernel: Depends on container host Compiler: gcc (Ubuntu 13.2.0-23ubuntu4) 13.2.0 Windows Server 2022 Kernel: 10.0.20348.2031 Compiler: clang 15.0.7, gcc 14.1.0 (MinGW), and MSVC VS 19.39.33521 To view detailed results, visit: https://lab.dpdk.org/results/dashboard/tarballs/31826/ UNH-IOL DPDK Community Lab To manage your email subscriptions, visit: https://lab.dpdk.org/results/dashboard/preferences/subscriptions/